BEGIN:VCALENDAR
VERSION:2.0
PRODID:-//Parts&amp;Labor - ECPv6.9.0//NONSGML v1.0//EN
CALSCALE:GREGORIAN
METHOD:PUBLISH
X-WR-CALNAME:Parts&amp;Labor
X-ORIGINAL-URL:https://partsnlabor.com
X-WR-CALDESC:Events for Parts&amp;Labor
REFRESH-INTERVAL;VALUE=DURATION:PT1H
X-Robots-Tag:noindex
X-PUBLISHED-TTL:PT1H
BEGIN:VTIMEZONE
TZID:America/New_York
BEGIN:DAYLIGHT
TZOFFSETFROM:-0500
TZOFFSETTO:-0400
TZNAME:EDT
DTSTART:20260308T070000
END:DAYLIGHT
BEGIN:STANDARD
TZOFFSETFROM:-0400
TZOFFSETTO:-0500
TZNAME:EST
DTSTART:20261101T060000
END:STANDARD
END:VTIMEZONE
BEGIN:VEVENT
DTSTART;TZID=America/New_York:20260416T170000
DTEND;TZID=America/New_York:20260416T203000
DTSTAMP:20260422T043435
CREATED:20240208T045029Z
LAST-MODIFIED:20240303T222804Z
UID:10001131-1776358800-1776371400@partsnlabor.com
SUMMARY:Artstigators
DESCRIPTION:Every 3rd Thursday from 5:30 to 8PM-ish. Come hang with fellow creative folk and share what you’re working on!
URL:https://partsnlabor.com/event/artstigators-2/2026-04-16/
ATTACH;FMTTYPE=image/png:https://partsnlabor.com/wp-content/uploads/2023/12/artstigators-happyhour.png
END:VEVENT
END:VCALENDAR