BEGIN:VCALENDAR
VERSION:2.0
PRODID:-//Parts&amp;Labor - ECPv6.9.0//NONSGML v1.0//EN
CALSCALE:GREGORIAN
METHOD:PUBLISH
X-WR-CALNAME:Parts&amp;Labor
X-ORIGINAL-URL:https://partsnlabor.com
X-WR-CALDESC:Events for Parts&amp;Labor
REFRESH-INTERVAL;VALUE=DURATION:PT1H
X-Robots-Tag:noindex
X-PUBLISHED-TTL:PT1H
BEGIN:VTIMEZONE
TZID:America/New_York
BEGIN:DAYLIGHT
TZOFFSETFROM:-0500
TZOFFSETTO:-0400
TZNAME:EDT
DTSTART:20240310T070000
END:DAYLIGHT
BEGIN:STANDARD
TZOFFSETFROM:-0400
TZOFFSETTO:-0500
TZNAME:EST
DTSTART:20241103T060000
END:STANDARD
END:VTIMEZONE
BEGIN:VEVENT
DTSTART;TZID=America/New_York:20241210T190000
DTEND;TZID=America/New_York:20241210T210000
DTSTAMP:20260424T071403
CREATED:20231230T013450Z
LAST-MODIFIED:20241209T030342Z
UID:10000038-1733857200-1733864400@partsnlabor.com
SUMMARY:Tuesday Night Bike Ride
DESCRIPTION:The Tuesday night bike ride meets at Bullseye Bicycle\, 102 Morris Street Downtown Durham at 7PM\, with a route ride out at 7:30PM\, rain or shine! Ride is usually around 2 hours and meets back at Parts & Labor for festivities. A $25 gift card to Parts & Labor is raffled off every week – Join us!
URL:https://partsnlabor.com/event/tuesday-bike-night-ride/2024-12-10/
LOCATION:Bullseye Bicycle\, 102 Morris Street\, Durham\, NC\, 27701\, United States
ATTACH;FMTTYPE=image/jpeg:https://partsnlabor.com/wp-content/uploads/2023/12/bike-on-the-bull.jpg
END:VEVENT
BEGIN:VEVENT
DTSTART;TZID=America/New_York:20241204T180000
DTEND;TZID=America/New_York:20241204T230000
DTSTAMP:20260424T071403
CREATED:20240208T050809Z
LAST-MODIFIED:20250922T004654Z
UID:10000886-1733335200-1733353200@partsnlabor.com
SUMMARY:Game Night in the Garage!
DESCRIPTION:JOIN US every Wednesday evening for game night in the garage! All are welcome to gather with friends around their favorite board\, card\, or word game. We’ll have a weekly rotation of food & drinks on special\, and a select number of games behind the bar for use. Get out of your living room and into the garage to enjoy a fun-filled evening at Parts&Labor! All ages welcome.
URL:https://partsnlabor.com/event/game-night-in-the-garage-2-2/2024-12-04/
LOCATION:The Patio\, 723 Rigsbee Ave\, Durham\, NC\, 27701\, United States
ATTACH;FMTTYPE=image/png:https://partsnlabor.com/wp-content/uploads/2024/02/game-night-5.5-x-4.25-in.png
END:VEVENT
BEGIN:VEVENT
DTSTART;TZID=America/New_York:20241204T180000
DTEND;TZID=America/New_York:20241204T210000
DTSTAMP:20260424T071403
CREATED:20241128T194759Z
LAST-MODIFIED:20241128T195028Z
UID:10001210-1733335200-1733346000@partsnlabor.com
SUMMARY:Carolina Film Makers Happy Hour
DESCRIPTION:New Carolinas Film Collective
URL:https://partsnlabor.com/event/carolina-film-makers-happy-hour/2024-12-04/
LOCATION:The Patio\, 723 Rigsbee Ave\, Durham\, NC\, 27701\, United States
ATTACH;FMTTYPE=image/jpeg:https://partsnlabor.com/wp-content/uploads/2024/11/ncfc.jpg
END:VEVENT
BEGIN:VEVENT
DTSTART;TZID=America/New_York:20241127T180000
DTEND;TZID=America/New_York:20241127T230000
DTSTAMP:20260424T071403
CREATED:20240208T050809Z
LAST-MODIFIED:20250922T004654Z
UID:10000885-1732730400-1732748400@partsnlabor.com
SUMMARY:Game Night in the Garage!
DESCRIPTION:JOIN US every Wednesday evening for game night in the garage! All are welcome to gather with friends around their favorite board\, card\, or word game. We’ll have a weekly rotation of food & drinks on special\, and a select number of games behind the bar for use. Get out of your living room and into the garage to enjoy a fun-filled evening at Parts&Labor! All ages welcome.
URL:https://partsnlabor.com/event/game-night-in-the-garage-2-2/2024-11-27/
LOCATION:The Patio\, 723 Rigsbee Ave\, Durham\, NC\, 27701\, United States
ATTACH;FMTTYPE=image/png:https://partsnlabor.com/wp-content/uploads/2024/02/game-night-5.5-x-4.25-in.png
END:VEVENT
BEGIN:VEVENT
DTSTART;TZID=America/New_York:20241126T190000
DTEND;TZID=America/New_York:20241126T210000
DTSTAMP:20260424T071403
CREATED:20231230T013450Z
LAST-MODIFIED:20241209T030342Z
UID:10000037-1732647600-1732654800@partsnlabor.com
SUMMARY:Tuesday Night Bike Ride
DESCRIPTION:The Tuesday night bike ride meets at Bullseye Bicycle\, 102 Morris Street Downtown Durham at 7PM\, with a route ride out at 7:30PM\, rain or shine! Ride is usually around 2 hours and meets back at Parts & Labor for festivities. A $25 gift card to Parts & Labor is raffled off every week – Join us!
URL:https://partsnlabor.com/event/tuesday-bike-night-ride/2024-11-26/
LOCATION:Bullseye Bicycle\, 102 Morris Street\, Durham\, NC\, 27701\, United States
ATTACH;FMTTYPE=image/jpeg:https://partsnlabor.com/wp-content/uploads/2023/12/bike-on-the-bull.jpg
END:VEVENT
BEGIN:VEVENT
DTSTART;TZID=America/New_York:20241121T170000
DTEND;TZID=America/New_York:20241121T203000
DTSTAMP:20260424T071403
CREATED:20240208T045029Z
LAST-MODIFIED:20240303T222804Z
UID:10001114-1732208400-1732221000@partsnlabor.com
SUMMARY:Artstigators
DESCRIPTION:Every 3rd Thursday from 5:30 to 8PM-ish. Come hang with fellow creative folk and share what you’re working on!
URL:https://partsnlabor.com/event/artstigators-2/2024-11-21/
LOCATION:NC
ATTACH;FMTTYPE=image/png:https://partsnlabor.com/wp-content/uploads/2023/12/artstigators-happyhour.png
END:VEVENT
BEGIN:VEVENT
DTSTART;TZID=America/New_York:20241120T180000
DTEND;TZID=America/New_York:20241120T230000
DTSTAMP:20260424T071403
CREATED:20240208T050809Z
LAST-MODIFIED:20250922T004654Z
UID:10000884-1732125600-1732143600@partsnlabor.com
SUMMARY:Game Night in the Garage!
DESCRIPTION:JOIN US every Wednesday evening for game night in the garage! All are welcome to gather with friends around their favorite board\, card\, or word game. We’ll have a weekly rotation of food & drinks on special\, and a select number of games behind the bar for use. Get out of your living room and into the garage to enjoy a fun-filled evening at Parts&Labor! All ages welcome.
URL:https://partsnlabor.com/event/game-night-in-the-garage-2-2/2024-11-20/
LOCATION:The Patio\, 723 Rigsbee Ave\, Durham\, NC\, 27701\, United States
ATTACH;FMTTYPE=image/png:https://partsnlabor.com/wp-content/uploads/2024/02/game-night-5.5-x-4.25-in.png
END:VEVENT
BEGIN:VEVENT
DTSTART;TZID=America/New_York:20241119T190000
DTEND;TZID=America/New_York:20241119T210000
DTSTAMP:20260424T071403
CREATED:20231230T013450Z
LAST-MODIFIED:20241209T030342Z
UID:10000036-1732042800-1732050000@partsnlabor.com
SUMMARY:Tuesday Night Bike Ride
DESCRIPTION:The Tuesday night bike ride meets at Bullseye Bicycle\, 102 Morris Street Downtown Durham at 7PM\, with a route ride out at 7:30PM\, rain or shine! Ride is usually around 2 hours and meets back at Parts & Labor for festivities. A $25 gift card to Parts & Labor is raffled off every week – Join us!
URL:https://partsnlabor.com/event/tuesday-bike-night-ride/2024-11-19/
LOCATION:Bullseye Bicycle\, 102 Morris Street\, Durham\, NC\, 27701\, United States
ATTACH;FMTTYPE=image/jpeg:https://partsnlabor.com/wp-content/uploads/2023/12/bike-on-the-bull.jpg
END:VEVENT
BEGIN:VEVENT
DTSTART;TZID=America/New_York:20241113T180000
DTEND;TZID=America/New_York:20241113T230000
DTSTAMP:20260424T071403
CREATED:20240208T050809Z
LAST-MODIFIED:20250922T004654Z
UID:10000883-1731520800-1731538800@partsnlabor.com
SUMMARY:Game Night in the Garage!
DESCRIPTION:JOIN US every Wednesday evening for game night in the garage! All are welcome to gather with friends around their favorite board\, card\, or word game. We’ll have a weekly rotation of food & drinks on special\, and a select number of games behind the bar for use. Get out of your living room and into the garage to enjoy a fun-filled evening at Parts&Labor! All ages welcome.
URL:https://partsnlabor.com/event/game-night-in-the-garage-2-2/2024-11-13/
LOCATION:The Patio\, 723 Rigsbee Ave\, Durham\, NC\, 27701\, United States
ATTACH;FMTTYPE=image/png:https://partsnlabor.com/wp-content/uploads/2024/02/game-night-5.5-x-4.25-in.png
END:VEVENT
BEGIN:VEVENT
DTSTART;TZID=America/New_York:20241112T190000
DTEND;TZID=America/New_York:20241112T210000
DTSTAMP:20260424T071403
CREATED:20231230T013450Z
LAST-MODIFIED:20241209T030342Z
UID:10000035-1731438000-1731445200@partsnlabor.com
SUMMARY:Tuesday Night Bike Ride
DESCRIPTION:The Tuesday night bike ride meets at Bullseye Bicycle\, 102 Morris Street Downtown Durham at 7PM\, with a route ride out at 7:30PM\, rain or shine! Ride is usually around 2 hours and meets back at Parts & Labor for festivities. A $25 gift card to Parts & Labor is raffled off every week – Join us!
URL:https://partsnlabor.com/event/tuesday-bike-night-ride/2024-11-12/
LOCATION:Bullseye Bicycle\, 102 Morris Street\, Durham\, NC\, 27701\, United States
ATTACH;FMTTYPE=image/jpeg:https://partsnlabor.com/wp-content/uploads/2023/12/bike-on-the-bull.jpg
END:VEVENT
BEGIN:VEVENT
DTSTART;TZID=America/New_York:20241106T180000
DTEND;TZID=America/New_York:20241106T230000
DTSTAMP:20260424T071403
CREATED:20240208T050809Z
LAST-MODIFIED:20250922T004654Z
UID:10000882-1730916000-1730934000@partsnlabor.com
SUMMARY:Game Night in the Garage!
DESCRIPTION:JOIN US every Wednesday evening for game night in the garage! All are welcome to gather with friends around their favorite board\, card\, or word game. We’ll have a weekly rotation of food & drinks on special\, and a select number of games behind the bar for use. Get out of your living room and into the garage to enjoy a fun-filled evening at Parts&Labor! All ages welcome.
URL:https://partsnlabor.com/event/game-night-in-the-garage-2-2/2024-11-06/
LOCATION:The Patio\, 723 Rigsbee Ave\, Durham\, NC\, 27701\, United States
ATTACH;FMTTYPE=image/png:https://partsnlabor.com/wp-content/uploads/2024/02/game-night-5.5-x-4.25-in.png
END:VEVENT
BEGIN:VEVENT
DTSTART;TZID=America/New_York:20241030T180000
DTEND;TZID=America/New_York:20241030T230000
DTSTAMP:20260424T071403
CREATED:20240208T050809Z
LAST-MODIFIED:20250922T004654Z
UID:10000881-1730311200-1730329200@partsnlabor.com
SUMMARY:Game Night in the Garage!
DESCRIPTION:JOIN US every Wednesday evening for game night in the garage! All are welcome to gather with friends around their favorite board\, card\, or word game. We’ll have a weekly rotation of food & drinks on special\, and a select number of games behind the bar for use. Get out of your living room and into the garage to enjoy a fun-filled evening at Parts&Labor! All ages welcome.
URL:https://partsnlabor.com/event/game-night-in-the-garage-2-2/2024-10-30/
LOCATION:The Patio\, 723 Rigsbee Ave\, Durham\, NC\, 27701\, United States
ATTACH;FMTTYPE=image/png:https://partsnlabor.com/wp-content/uploads/2024/02/game-night-5.5-x-4.25-in.png
END:VEVENT
BEGIN:VEVENT
DTSTART;TZID=America/New_York:20241029T190000
DTEND;TZID=America/New_York:20241029T210000
DTSTAMP:20260424T071403
CREATED:20231230T013450Z
LAST-MODIFIED:20241209T030342Z
UID:10000034-1730228400-1730235600@partsnlabor.com
SUMMARY:Tuesday Night Bike Ride
DESCRIPTION:The Tuesday night bike ride meets at Bullseye Bicycle\, 102 Morris Street Downtown Durham at 7PM\, with a route ride out at 7:30PM\, rain or shine! Ride is usually around 2 hours and meets back at Parts & Labor for festivities. A $25 gift card to Parts & Labor is raffled off every week – Join us!
URL:https://partsnlabor.com/event/tuesday-bike-night-ride/2024-10-29/
LOCATION:Bullseye Bicycle\, 102 Morris Street\, Durham\, NC\, 27701\, United States
ATTACH;FMTTYPE=image/jpeg:https://partsnlabor.com/wp-content/uploads/2023/12/bike-on-the-bull.jpg
END:VEVENT
BEGIN:VEVENT
DTSTART;TZID=America/New_York:20241023T180000
DTEND;TZID=America/New_York:20241023T230000
DTSTAMP:20260424T071403
CREATED:20240208T050809Z
LAST-MODIFIED:20250922T004654Z
UID:10000880-1729706400-1729724400@partsnlabor.com
SUMMARY:Game Night in the Garage!
DESCRIPTION:JOIN US every Wednesday evening for game night in the garage! All are welcome to gather with friends around their favorite board\, card\, or word game. We’ll have a weekly rotation of food & drinks on special\, and a select number of games behind the bar for use. Get out of your living room and into the garage to enjoy a fun-filled evening at Parts&Labor! All ages welcome.
URL:https://partsnlabor.com/event/game-night-in-the-garage-2-2/2024-10-23/
LOCATION:The Patio\, 723 Rigsbee Ave\, Durham\, NC\, 27701\, United States
ATTACH;FMTTYPE=image/png:https://partsnlabor.com/wp-content/uploads/2024/02/game-night-5.5-x-4.25-in.png
END:VEVENT
BEGIN:VEVENT
DTSTART;TZID=America/New_York:20241022T190000
DTEND;TZID=America/New_York:20241022T210000
DTSTAMP:20260424T071403
CREATED:20231230T013450Z
LAST-MODIFIED:20241209T030342Z
UID:10000033-1729623600-1729630800@partsnlabor.com
SUMMARY:Tuesday Night Bike Ride
DESCRIPTION:The Tuesday night bike ride meets at Bullseye Bicycle\, 102 Morris Street Downtown Durham at 7PM\, with a route ride out at 7:30PM\, rain or shine! Ride is usually around 2 hours and meets back at Parts & Labor for festivities. A $25 gift card to Parts & Labor is raffled off every week – Join us!
URL:https://partsnlabor.com/event/tuesday-bike-night-ride/2024-10-22/
LOCATION:Bullseye Bicycle\, 102 Morris Street\, Durham\, NC\, 27701\, United States
ATTACH;FMTTYPE=image/jpeg:https://partsnlabor.com/wp-content/uploads/2023/12/bike-on-the-bull.jpg
END:VEVENT
BEGIN:VEVENT
DTSTART;TZID=America/New_York:20241017T170000
DTEND;TZID=America/New_York:20241017T203000
DTSTAMP:20260424T071403
CREATED:20240208T045029Z
LAST-MODIFIED:20240303T222804Z
UID:10001113-1729184400-1729197000@partsnlabor.com
SUMMARY:Artstigators
DESCRIPTION:Every 3rd Thursday from 5:30 to 8PM-ish. Come hang with fellow creative folk and share what you’re working on!
URL:https://partsnlabor.com/event/artstigators-2/2024-10-17/
LOCATION:NC
ATTACH;FMTTYPE=image/png:https://partsnlabor.com/wp-content/uploads/2023/12/artstigators-happyhour.png
END:VEVENT
BEGIN:VEVENT
DTSTART;TZID=America/New_York:20241016T180000
DTEND;TZID=America/New_York:20241016T230000
DTSTAMP:20260424T071403
CREATED:20240208T050809Z
LAST-MODIFIED:20250922T004654Z
UID:10000879-1729101600-1729119600@partsnlabor.com
SUMMARY:Game Night in the Garage!
DESCRIPTION:JOIN US every Wednesday evening for game night in the garage! All are welcome to gather with friends around their favorite board\, card\, or word game. We’ll have a weekly rotation of food & drinks on special\, and a select number of games behind the bar for use. Get out of your living room and into the garage to enjoy a fun-filled evening at Parts&Labor! All ages welcome.
URL:https://partsnlabor.com/event/game-night-in-the-garage-2-2/2024-10-16/
LOCATION:The Patio\, 723 Rigsbee Ave\, Durham\, NC\, 27701\, United States
ATTACH;FMTTYPE=image/png:https://partsnlabor.com/wp-content/uploads/2024/02/game-night-5.5-x-4.25-in.png
END:VEVENT
BEGIN:VEVENT
DTSTART;TZID=America/New_York:20241015T190000
DTEND;TZID=America/New_York:20241015T210000
DTSTAMP:20260424T071403
CREATED:20231230T013450Z
LAST-MODIFIED:20241209T030342Z
UID:10000032-1729018800-1729026000@partsnlabor.com
SUMMARY:Tuesday Night Bike Ride
DESCRIPTION:The Tuesday night bike ride meets at Bullseye Bicycle\, 102 Morris Street Downtown Durham at 7PM\, with a route ride out at 7:30PM\, rain or shine! Ride is usually around 2 hours and meets back at Parts & Labor for festivities. A $25 gift card to Parts & Labor is raffled off every week – Join us!
URL:https://partsnlabor.com/event/tuesday-bike-night-ride/2024-10-15/
LOCATION:Bullseye Bicycle\, 102 Morris Street\, Durham\, NC\, 27701\, United States
ATTACH;FMTTYPE=image/jpeg:https://partsnlabor.com/wp-content/uploads/2023/12/bike-on-the-bull.jpg
END:VEVENT
BEGIN:VEVENT
DTSTART;TZID=America/New_York:20241009T180000
DTEND;TZID=America/New_York:20241009T230000
DTSTAMP:20260424T071403
CREATED:20240208T050809Z
LAST-MODIFIED:20250922T004654Z
UID:10000878-1728496800-1728514800@partsnlabor.com
SUMMARY:Game Night in the Garage!
DESCRIPTION:JOIN US every Wednesday evening for game night in the garage! All are welcome to gather with friends around their favorite board\, card\, or word game. We’ll have a weekly rotation of food & drinks on special\, and a select number of games behind the bar for use. Get out of your living room and into the garage to enjoy a fun-filled evening at Parts&Labor! All ages welcome.
URL:https://partsnlabor.com/event/game-night-in-the-garage-2-2/2024-10-09/
LOCATION:The Patio\, 723 Rigsbee Ave\, Durham\, NC\, 27701\, United States
ATTACH;FMTTYPE=image/png:https://partsnlabor.com/wp-content/uploads/2024/02/game-night-5.5-x-4.25-in.png
END:VEVENT
BEGIN:VEVENT
DTSTART;TZID=America/New_York:20241002T180000
DTEND;TZID=America/New_York:20241002T230000
DTSTAMP:20260424T071403
CREATED:20240208T050809Z
LAST-MODIFIED:20250922T004654Z
UID:10000877-1727892000-1727910000@partsnlabor.com
SUMMARY:Game Night in the Garage!
DESCRIPTION:JOIN US every Wednesday evening for game night in the garage! All are welcome to gather with friends around their favorite board\, card\, or word game. We’ll have a weekly rotation of food & drinks on special\, and a select number of games behind the bar for use. Get out of your living room and into the garage to enjoy a fun-filled evening at Parts&Labor! All ages welcome.
URL:https://partsnlabor.com/event/game-night-in-the-garage-2-2/2024-10-02/
LOCATION:The Patio\, 723 Rigsbee Ave\, Durham\, NC\, 27701\, United States
ATTACH;FMTTYPE=image/png:https://partsnlabor.com/wp-content/uploads/2024/02/game-night-5.5-x-4.25-in.png
END:VEVENT
BEGIN:VEVENT
DTSTART;TZID=America/New_York:20241001T190000
DTEND;TZID=America/New_York:20241001T210000
DTSTAMP:20260424T071403
CREATED:20231230T013450Z
LAST-MODIFIED:20241209T030342Z
UID:10000031-1727809200-1727816400@partsnlabor.com
SUMMARY:Tuesday Night Bike Ride
DESCRIPTION:The Tuesday night bike ride meets at Bullseye Bicycle\, 102 Morris Street Downtown Durham at 7PM\, with a route ride out at 7:30PM\, rain or shine! Ride is usually around 2 hours and meets back at Parts & Labor for festivities. A $25 gift card to Parts & Labor is raffled off every week – Join us!
URL:https://partsnlabor.com/event/tuesday-bike-night-ride/2024-10-01/
LOCATION:Bullseye Bicycle\, 102 Morris Street\, Durham\, NC\, 27701\, United States
ATTACH;FMTTYPE=image/jpeg:https://partsnlabor.com/wp-content/uploads/2023/12/bike-on-the-bull.jpg
END:VEVENT
BEGIN:VEVENT
DTSTART;TZID=America/New_York:20240925T180000
DTEND;TZID=America/New_York:20240925T230000
DTSTAMP:20260424T071403
CREATED:20240208T050809Z
LAST-MODIFIED:20250922T004654Z
UID:10000876-1727287200-1727305200@partsnlabor.com
SUMMARY:Game Night in the Garage!
DESCRIPTION:JOIN US every Wednesday evening for game night in the garage! All are welcome to gather with friends around their favorite board\, card\, or word game. We’ll have a weekly rotation of food & drinks on special\, and a select number of games behind the bar for use. Get out of your living room and into the garage to enjoy a fun-filled evening at Parts&Labor! All ages welcome.
URL:https://partsnlabor.com/event/game-night-in-the-garage-2-2/2024-09-25/
LOCATION:The Patio\, 723 Rigsbee Ave\, Durham\, NC\, 27701\, United States
ATTACH;FMTTYPE=image/png:https://partsnlabor.com/wp-content/uploads/2024/02/game-night-5.5-x-4.25-in.png
END:VEVENT
BEGIN:VEVENT
DTSTART;TZID=America/New_York:20240924T190000
DTEND;TZID=America/New_York:20240924T210000
DTSTAMP:20260424T071403
CREATED:20231230T013450Z
LAST-MODIFIED:20241209T030342Z
UID:10000030-1727204400-1727211600@partsnlabor.com
SUMMARY:Tuesday Night Bike Ride
DESCRIPTION:The Tuesday night bike ride meets at Bullseye Bicycle\, 102 Morris Street Downtown Durham at 7PM\, with a route ride out at 7:30PM\, rain or shine! Ride is usually around 2 hours and meets back at Parts & Labor for festivities. A $25 gift card to Parts & Labor is raffled off every week – Join us!
URL:https://partsnlabor.com/event/tuesday-bike-night-ride/2024-09-24/
LOCATION:Bullseye Bicycle\, 102 Morris Street\, Durham\, NC\, 27701\, United States
ATTACH;FMTTYPE=image/jpeg:https://partsnlabor.com/wp-content/uploads/2023/12/bike-on-the-bull.jpg
END:VEVENT
BEGIN:VEVENT
DTSTART;TZID=America/New_York:20240919T170000
DTEND;TZID=America/New_York:20240919T203000
DTSTAMP:20260424T071403
CREATED:20240208T045029Z
LAST-MODIFIED:20240303T222804Z
UID:10001112-1726765200-1726777800@partsnlabor.com
SUMMARY:Artstigators
DESCRIPTION:Every 3rd Thursday from 5:30 to 8PM-ish. Come hang with fellow creative folk and share what you’re working on!
URL:https://partsnlabor.com/event/artstigators-2/2024-09-19/
LOCATION:NC
ATTACH;FMTTYPE=image/png:https://partsnlabor.com/wp-content/uploads/2023/12/artstigators-happyhour.png
END:VEVENT
BEGIN:VEVENT
DTSTART;TZID=America/New_York:20240918T180000
DTEND;TZID=America/New_York:20240918T230000
DTSTAMP:20260424T071403
CREATED:20240208T050809Z
LAST-MODIFIED:20250922T004654Z
UID:10000875-1726682400-1726700400@partsnlabor.com
SUMMARY:Game Night in the Garage!
DESCRIPTION:JOIN US every Wednesday evening for game night in the garage! All are welcome to gather with friends around their favorite board\, card\, or word game. We’ll have a weekly rotation of food & drinks on special\, and a select number of games behind the bar for use. Get out of your living room and into the garage to enjoy a fun-filled evening at Parts&Labor! All ages welcome.
URL:https://partsnlabor.com/event/game-night-in-the-garage-2-2/2024-09-18/
LOCATION:The Patio\, 723 Rigsbee Ave\, Durham\, NC\, 27701\, United States
ATTACH;FMTTYPE=image/png:https://partsnlabor.com/wp-content/uploads/2024/02/game-night-5.5-x-4.25-in.png
END:VEVENT
BEGIN:VEVENT
DTSTART;TZID=America/New_York:20240917T190000
DTEND;TZID=America/New_York:20240917T210000
DTSTAMP:20260424T071403
CREATED:20231230T013450Z
LAST-MODIFIED:20241209T030342Z
UID:10000029-1726599600-1726606800@partsnlabor.com
SUMMARY:Tuesday Night Bike Ride
DESCRIPTION:The Tuesday night bike ride meets at Bullseye Bicycle\, 102 Morris Street Downtown Durham at 7PM\, with a route ride out at 7:30PM\, rain or shine! Ride is usually around 2 hours and meets back at Parts & Labor for festivities. A $25 gift card to Parts & Labor is raffled off every week – Join us!
URL:https://partsnlabor.com/event/tuesday-bike-night-ride/2024-09-17/
LOCATION:Bullseye Bicycle\, 102 Morris Street\, Durham\, NC\, 27701\, United States
ATTACH;FMTTYPE=image/jpeg:https://partsnlabor.com/wp-content/uploads/2023/12/bike-on-the-bull.jpg
END:VEVENT
BEGIN:VEVENT
DTSTART;TZID=America/New_York:20240911T180000
DTEND;TZID=America/New_York:20240911T230000
DTSTAMP:20260424T071403
CREATED:20240208T050809Z
LAST-MODIFIED:20250922T004654Z
UID:10000874-1726077600-1726095600@partsnlabor.com
SUMMARY:Game Night in the Garage!
DESCRIPTION:JOIN US every Wednesday evening for game night in the garage! All are welcome to gather with friends around their favorite board\, card\, or word game. We’ll have a weekly rotation of food & drinks on special\, and a select number of games behind the bar for use. Get out of your living room and into the garage to enjoy a fun-filled evening at Parts&Labor! All ages welcome.
URL:https://partsnlabor.com/event/game-night-in-the-garage-2-2/2024-09-11/
LOCATION:The Patio\, 723 Rigsbee Ave\, Durham\, NC\, 27701\, United States
ATTACH;FMTTYPE=image/png:https://partsnlabor.com/wp-content/uploads/2024/02/game-night-5.5-x-4.25-in.png
END:VEVENT
BEGIN:VEVENT
DTSTART;TZID=America/New_York:20240904T180000
DTEND;TZID=America/New_York:20240904T230000
DTSTAMP:20260424T071403
CREATED:20240208T050809Z
LAST-MODIFIED:20250922T004654Z
UID:10000873-1725472800-1725490800@partsnlabor.com
SUMMARY:Game Night in the Garage!
DESCRIPTION:JOIN US every Wednesday evening for game night in the garage! All are welcome to gather with friends around their favorite board\, card\, or word game. We’ll have a weekly rotation of food & drinks on special\, and a select number of games behind the bar for use. Get out of your living room and into the garage to enjoy a fun-filled evening at Parts&Labor! All ages welcome.
URL:https://partsnlabor.com/event/game-night-in-the-garage-2-2/2024-09-04/
LOCATION:The Patio\, 723 Rigsbee Ave\, Durham\, NC\, 27701\, United States
ATTACH;FMTTYPE=image/png:https://partsnlabor.com/wp-content/uploads/2024/02/game-night-5.5-x-4.25-in.png
END:VEVENT
BEGIN:VEVENT
DTSTART;TZID=America/New_York:20240903T190000
DTEND;TZID=America/New_York:20240903T210000
DTSTAMP:20260424T071403
CREATED:20231230T013450Z
LAST-MODIFIED:20241209T030342Z
UID:10000028-1725390000-1725397200@partsnlabor.com
SUMMARY:Tuesday Night Bike Ride
DESCRIPTION:The Tuesday night bike ride meets at Bullseye Bicycle\, 102 Morris Street Downtown Durham at 7PM\, with a route ride out at 7:30PM\, rain or shine! Ride is usually around 2 hours and meets back at Parts & Labor for festivities. A $25 gift card to Parts & Labor is raffled off every week – Join us!
URL:https://partsnlabor.com/event/tuesday-bike-night-ride/2024-09-03/
LOCATION:Bullseye Bicycle\, 102 Morris Street\, Durham\, NC\, 27701\, United States
ATTACH;FMTTYPE=image/jpeg:https://partsnlabor.com/wp-content/uploads/2023/12/bike-on-the-bull.jpg
END:VEVENT
BEGIN:VEVENT
DTSTART;TZID=America/New_York:20240828T180000
DTEND;TZID=America/New_York:20240828T230000
DTSTAMP:20260424T071403
CREATED:20240208T050809Z
LAST-MODIFIED:20250922T004654Z
UID:10000872-1724868000-1724886000@partsnlabor.com
SUMMARY:Game Night in the Garage!
DESCRIPTION:JOIN US every Wednesday evening for game night in the garage! All are welcome to gather with friends around their favorite board\, card\, or word game. We’ll have a weekly rotation of food & drinks on special\, and a select number of games behind the bar for use. Get out of your living room and into the garage to enjoy a fun-filled evening at Parts&Labor! All ages welcome.
URL:https://partsnlabor.com/event/game-night-in-the-garage-2-2/2024-08-28/
LOCATION:The Patio\, 723 Rigsbee Ave\, Durham\, NC\, 27701\, United States
ATTACH;FMTTYPE=image/png:https://partsnlabor.com/wp-content/uploads/2024/02/game-night-5.5-x-4.25-in.png
END:VEVENT
END:VCALENDAR