BEGIN:VCALENDAR
VERSION:2.0
PRODID:-//Parts&amp;Labor - ECPv6.9.0//NONSGML v1.0//EN
CALSCALE:GREGORIAN
METHOD:PUBLISH
X-WR-CALNAME:Parts&amp;Labor
X-ORIGINAL-URL:https://partsnlabor.com
X-WR-CALDESC:Events for Parts&amp;Labor
REFRESH-INTERVAL;VALUE=DURATION:PT1H
X-Robots-Tag:noindex
X-PUBLISHED-TTL:PT1H
BEGIN:VTIMEZONE
TZID:America/New_York
BEGIN:DAYLIGHT
TZOFFSETFROM:-0500
TZOFFSETTO:-0400
TZNAME:EDT
DTSTART:20260308T070000
END:DAYLIGHT
BEGIN:STANDARD
TZOFFSETFROM:-0400
TZOFFSETTO:-0500
TZNAME:EST
DTSTART:20261101T060000
END:STANDARD
END:VTIMEZONE
BEGIN:VEVENT
DTSTART;TZID=America/New_York:20260819T180000
DTEND;TZID=America/New_York:20260819T230000
DTSTAMP:20260423T182903
CREATED:20240208T050809Z
LAST-MODIFIED:20250922T004654Z
UID:10000975-1787162400-1787180400@partsnlabor.com
SUMMARY:Game Night in the Garage!
DESCRIPTION:JOIN US every Wednesday evening for game night in the garage! All are welcome to gather with friends around their favorite board\, card\, or word game. We’ll have a weekly rotation of food & drinks on special\, and a select number of games behind the bar for use. Get out of your living room and into the garage to enjoy a fun-filled evening at Parts&Labor! All ages welcome.
URL:https://partsnlabor.com/event/game-night-in-the-garage-2-2/2026-08-19/
LOCATION:The Patio\, 723 Rigsbee Ave\, Durham\, NC\, 27701\, United States
ATTACH;FMTTYPE=image/png:https://partsnlabor.com/wp-content/uploads/2024/02/game-night-5.5-x-4.25-in.png
END:VEVENT
BEGIN:VEVENT
DTSTART;TZID=America/New_York:20260820T170000
DTEND;TZID=America/New_York:20260820T203000
DTSTAMP:20260423T182903
CREATED:20240208T045029Z
LAST-MODIFIED:20240303T222804Z
UID:10001135-1787245200-1787257800@partsnlabor.com
SUMMARY:Artstigators
DESCRIPTION:Every 3rd Thursday from 5:30 to 8PM-ish. Come hang with fellow creative folk and share what you’re working on!
URL:https://partsnlabor.com/event/artstigators-2/2026-08-20/
LOCATION:NC
ATTACH;FMTTYPE=image/png:https://partsnlabor.com/wp-content/uploads/2023/12/artstigators-happyhour.png
END:VEVENT
BEGIN:VEVENT
DTSTART;TZID=America/New_York:20260825T190000
DTEND;TZID=America/New_York:20260825T210000
DTSTAMP:20260423T182903
CREATED:20231230T013450Z
LAST-MODIFIED:20241209T030342Z
UID:10000105-1787684400-1787691600@partsnlabor.com
SUMMARY:Tuesday Night Bike Ride
DESCRIPTION:The Tuesday night bike ride meets at Bullseye Bicycle\, 102 Morris Street Downtown Durham at 7PM\, with a route ride out at 7:30PM\, rain or shine! Ride is usually around 2 hours and meets back at Parts & Labor for festivities. A $25 gift card to Parts & Labor is raffled off every week – Join us!
URL:https://partsnlabor.com/event/tuesday-bike-night-ride/2026-08-25/
LOCATION:Bullseye Bicycle\, 102 Morris Street\, Durham\, NC\, 27701\, United States
ATTACH;FMTTYPE=image/jpeg:https://partsnlabor.com/wp-content/uploads/2023/12/bike-on-the-bull.jpg
END:VEVENT
BEGIN:VEVENT
DTSTART;TZID=America/New_York:20260826T180000
DTEND;TZID=America/New_York:20260826T230000
DTSTAMP:20260423T182903
CREATED:20240208T050809Z
LAST-MODIFIED:20250922T004654Z
UID:10000976-1787767200-1787785200@partsnlabor.com
SUMMARY:Game Night in the Garage!
DESCRIPTION:JOIN US every Wednesday evening for game night in the garage! All are welcome to gather with friends around their favorite board\, card\, or word game. We’ll have a weekly rotation of food & drinks on special\, and a select number of games behind the bar for use. Get out of your living room and into the garage to enjoy a fun-filled evening at Parts&Labor! All ages welcome.
URL:https://partsnlabor.com/event/game-night-in-the-garage-2-2/2026-08-26/
LOCATION:The Patio\, 723 Rigsbee Ave\, Durham\, NC\, 27701\, United States
ATTACH;FMTTYPE=image/png:https://partsnlabor.com/wp-content/uploads/2024/02/game-night-5.5-x-4.25-in.png
END:VEVENT
BEGIN:VEVENT
DTSTART;TZID=America/New_York:20260901T190000
DTEND;TZID=America/New_York:20260901T210000
DTSTAMP:20260423T182903
CREATED:20231230T013450Z
LAST-MODIFIED:20241209T030342Z
UID:10000106-1788289200-1788296400@partsnlabor.com
SUMMARY:Tuesday Night Bike Ride
DESCRIPTION:The Tuesday night bike ride meets at Bullseye Bicycle\, 102 Morris Street Downtown Durham at 7PM\, with a route ride out at 7:30PM\, rain or shine! Ride is usually around 2 hours and meets back at Parts & Labor for festivities. A $25 gift card to Parts & Labor is raffled off every week – Join us!
URL:https://partsnlabor.com/event/tuesday-bike-night-ride/2026-09-01/
LOCATION:Bullseye Bicycle\, 102 Morris Street\, Durham\, NC\, 27701\, United States
ATTACH;FMTTYPE=image/jpeg:https://partsnlabor.com/wp-content/uploads/2023/12/bike-on-the-bull.jpg
END:VEVENT
BEGIN:VEVENT
DTSTART;TZID=America/New_York:20260902T180000
DTEND;TZID=America/New_York:20260902T210000
DTSTAMP:20260423T182903
CREATED:20241128T194759Z
LAST-MODIFIED:20241128T195028Z
UID:10001231-1788372000-1788382800@partsnlabor.com
SUMMARY:Carolina Film Makers Happy Hour
DESCRIPTION:New Carolinas Film Collective
URL:https://partsnlabor.com/event/carolina-film-makers-happy-hour/2026-09-02/
LOCATION:The Patio\, 723 Rigsbee Ave\, Durham\, NC\, 27701\, United States
ATTACH;FMTTYPE=image/jpeg:https://partsnlabor.com/wp-content/uploads/2024/11/ncfc.jpg
END:VEVENT
BEGIN:VEVENT
DTSTART;TZID=America/New_York:20260902T180000
DTEND;TZID=America/New_York:20260902T230000
DTSTAMP:20260423T182903
CREATED:20240208T050809Z
LAST-MODIFIED:20250922T004654Z
UID:10000977-1788372000-1788390000@partsnlabor.com
SUMMARY:Game Night in the Garage!
DESCRIPTION:JOIN US every Wednesday evening for game night in the garage! All are welcome to gather with friends around their favorite board\, card\, or word game. We’ll have a weekly rotation of food & drinks on special\, and a select number of games behind the bar for use. Get out of your living room and into the garage to enjoy a fun-filled evening at Parts&Labor! All ages welcome.
URL:https://partsnlabor.com/event/game-night-in-the-garage-2-2/2026-09-02/
LOCATION:The Patio\, 723 Rigsbee Ave\, Durham\, NC\, 27701\, United States
ATTACH;FMTTYPE=image/png:https://partsnlabor.com/wp-content/uploads/2024/02/game-night-5.5-x-4.25-in.png
END:VEVENT
BEGIN:VEVENT
DTSTART;TZID=America/New_York:20260909T180000
DTEND;TZID=America/New_York:20260909T230000
DTSTAMP:20260423T182903
CREATED:20240208T050809Z
LAST-MODIFIED:20250922T004654Z
UID:10000978-1788976800-1788994800@partsnlabor.com
SUMMARY:Game Night in the Garage!
DESCRIPTION:JOIN US every Wednesday evening for game night in the garage! All are welcome to gather with friends around their favorite board\, card\, or word game. We’ll have a weekly rotation of food & drinks on special\, and a select number of games behind the bar for use. Get out of your living room and into the garage to enjoy a fun-filled evening at Parts&Labor! All ages welcome.
URL:https://partsnlabor.com/event/game-night-in-the-garage-2-2/2026-09-09/
LOCATION:The Patio\, 723 Rigsbee Ave\, Durham\, NC\, 27701\, United States
ATTACH;FMTTYPE=image/png:https://partsnlabor.com/wp-content/uploads/2024/02/game-night-5.5-x-4.25-in.png
END:VEVENT
BEGIN:VEVENT
DTSTART;TZID=America/New_York:20260915T190000
DTEND;TZID=America/New_York:20260915T210000
DTSTAMP:20260423T182903
CREATED:20231230T013450Z
LAST-MODIFIED:20241209T030342Z
UID:10000107-1789498800-1789506000@partsnlabor.com
SUMMARY:Tuesday Night Bike Ride
DESCRIPTION:The Tuesday night bike ride meets at Bullseye Bicycle\, 102 Morris Street Downtown Durham at 7PM\, with a route ride out at 7:30PM\, rain or shine! Ride is usually around 2 hours and meets back at Parts & Labor for festivities. A $25 gift card to Parts & Labor is raffled off every week – Join us!
URL:https://partsnlabor.com/event/tuesday-bike-night-ride/2026-09-15/
LOCATION:Bullseye Bicycle\, 102 Morris Street\, Durham\, NC\, 27701\, United States
ATTACH;FMTTYPE=image/jpeg:https://partsnlabor.com/wp-content/uploads/2023/12/bike-on-the-bull.jpg
END:VEVENT
BEGIN:VEVENT
DTSTART;TZID=America/New_York:20260916T180000
DTEND;TZID=America/New_York:20260916T230000
DTSTAMP:20260423T182903
CREATED:20240208T050809Z
LAST-MODIFIED:20250922T004654Z
UID:10000979-1789581600-1789599600@partsnlabor.com
SUMMARY:Game Night in the Garage!
DESCRIPTION:JOIN US every Wednesday evening for game night in the garage! All are welcome to gather with friends around their favorite board\, card\, or word game. We’ll have a weekly rotation of food & drinks on special\, and a select number of games behind the bar for use. Get out of your living room and into the garage to enjoy a fun-filled evening at Parts&Labor! All ages welcome.
URL:https://partsnlabor.com/event/game-night-in-the-garage-2-2/2026-09-16/
LOCATION:The Patio\, 723 Rigsbee Ave\, Durham\, NC\, 27701\, United States
ATTACH;FMTTYPE=image/png:https://partsnlabor.com/wp-content/uploads/2024/02/game-night-5.5-x-4.25-in.png
END:VEVENT
BEGIN:VEVENT
DTSTART;TZID=America/New_York:20260917T170000
DTEND;TZID=America/New_York:20260917T203000
DTSTAMP:20260423T182903
CREATED:20240208T045029Z
LAST-MODIFIED:20240303T222804Z
UID:10001136-1789664400-1789677000@partsnlabor.com
SUMMARY:Artstigators
DESCRIPTION:Every 3rd Thursday from 5:30 to 8PM-ish. Come hang with fellow creative folk and share what you’re working on!
URL:https://partsnlabor.com/event/artstigators-2/2026-09-17/
LOCATION:NC
ATTACH;FMTTYPE=image/png:https://partsnlabor.com/wp-content/uploads/2023/12/artstigators-happyhour.png
END:VEVENT
BEGIN:VEVENT
DTSTART;TZID=America/New_York:20260922T190000
DTEND;TZID=America/New_York:20260922T210000
DTSTAMP:20260423T182903
CREATED:20231230T013450Z
LAST-MODIFIED:20241209T030342Z
UID:10000108-1790103600-1790110800@partsnlabor.com
SUMMARY:Tuesday Night Bike Ride
DESCRIPTION:The Tuesday night bike ride meets at Bullseye Bicycle\, 102 Morris Street Downtown Durham at 7PM\, with a route ride out at 7:30PM\, rain or shine! Ride is usually around 2 hours and meets back at Parts & Labor for festivities. A $25 gift card to Parts & Labor is raffled off every week – Join us!
URL:https://partsnlabor.com/event/tuesday-bike-night-ride/2026-09-22/
LOCATION:Bullseye Bicycle\, 102 Morris Street\, Durham\, NC\, 27701\, United States
ATTACH;FMTTYPE=image/jpeg:https://partsnlabor.com/wp-content/uploads/2023/12/bike-on-the-bull.jpg
END:VEVENT
BEGIN:VEVENT
DTSTART;TZID=America/New_York:20260923T180000
DTEND;TZID=America/New_York:20260923T230000
DTSTAMP:20260423T182903
CREATED:20240208T050809Z
LAST-MODIFIED:20250922T004654Z
UID:10000980-1790186400-1790204400@partsnlabor.com
SUMMARY:Game Night in the Garage!
DESCRIPTION:JOIN US every Wednesday evening for game night in the garage! All are welcome to gather with friends around their favorite board\, card\, or word game. We’ll have a weekly rotation of food & drinks on special\, and a select number of games behind the bar for use. Get out of your living room and into the garage to enjoy a fun-filled evening at Parts&Labor! All ages welcome.
URL:https://partsnlabor.com/event/game-night-in-the-garage-2-2/2026-09-23/
LOCATION:The Patio\, 723 Rigsbee Ave\, Durham\, NC\, 27701\, United States
ATTACH;FMTTYPE=image/png:https://partsnlabor.com/wp-content/uploads/2024/02/game-night-5.5-x-4.25-in.png
END:VEVENT
BEGIN:VEVENT
DTSTART;TZID=America/New_York:20260929T190000
DTEND;TZID=America/New_York:20260929T210000
DTSTAMP:20260423T182903
CREATED:20231230T013450Z
LAST-MODIFIED:20241209T030342Z
UID:10000109-1790708400-1790715600@partsnlabor.com
SUMMARY:Tuesday Night Bike Ride
DESCRIPTION:The Tuesday night bike ride meets at Bullseye Bicycle\, 102 Morris Street Downtown Durham at 7PM\, with a route ride out at 7:30PM\, rain or shine! Ride is usually around 2 hours and meets back at Parts & Labor for festivities. A $25 gift card to Parts & Labor is raffled off every week – Join us!
URL:https://partsnlabor.com/event/tuesday-bike-night-ride/2026-09-29/
LOCATION:Bullseye Bicycle\, 102 Morris Street\, Durham\, NC\, 27701\, United States
ATTACH;FMTTYPE=image/jpeg:https://partsnlabor.com/wp-content/uploads/2023/12/bike-on-the-bull.jpg
END:VEVENT
BEGIN:VEVENT
DTSTART;TZID=America/New_York:20260930T180000
DTEND;TZID=America/New_York:20260930T230000
DTSTAMP:20260423T182903
CREATED:20240208T050809Z
LAST-MODIFIED:20250922T004654Z
UID:10000981-1790791200-1790809200@partsnlabor.com
SUMMARY:Game Night in the Garage!
DESCRIPTION:JOIN US every Wednesday evening for game night in the garage! All are welcome to gather with friends around their favorite board\, card\, or word game. We’ll have a weekly rotation of food & drinks on special\, and a select number of games behind the bar for use. Get out of your living room and into the garage to enjoy a fun-filled evening at Parts&Labor! All ages welcome.
URL:https://partsnlabor.com/event/game-night-in-the-garage-2-2/2026-09-30/
LOCATION:The Patio\, 723 Rigsbee Ave\, Durham\, NC\, 27701\, United States
ATTACH;FMTTYPE=image/png:https://partsnlabor.com/wp-content/uploads/2024/02/game-night-5.5-x-4.25-in.png
END:VEVENT
BEGIN:VEVENT
DTSTART;TZID=America/New_York:20261007T180000
DTEND;TZID=America/New_York:20261007T210000
DTSTAMP:20260423T182903
CREATED:20241128T194759Z
LAST-MODIFIED:20241128T195028Z
UID:10001232-1791396000-1791406800@partsnlabor.com
SUMMARY:Carolina Film Makers Happy Hour
DESCRIPTION:New Carolinas Film Collective
URL:https://partsnlabor.com/event/carolina-film-makers-happy-hour/2026-10-07/
LOCATION:The Patio\, 723 Rigsbee Ave\, Durham\, NC\, 27701\, United States
ATTACH;FMTTYPE=image/jpeg:https://partsnlabor.com/wp-content/uploads/2024/11/ncfc.jpg
END:VEVENT
BEGIN:VEVENT
DTSTART;TZID=America/New_York:20261007T180000
DTEND;TZID=America/New_York:20261007T230000
DTSTAMP:20260423T182903
CREATED:20240208T050809Z
LAST-MODIFIED:20250922T004654Z
UID:10000982-1791396000-1791414000@partsnlabor.com
SUMMARY:Game Night in the Garage!
DESCRIPTION:JOIN US every Wednesday evening for game night in the garage! All are welcome to gather with friends around their favorite board\, card\, or word game. We’ll have a weekly rotation of food & drinks on special\, and a select number of games behind the bar for use. Get out of your living room and into the garage to enjoy a fun-filled evening at Parts&Labor! All ages welcome.
URL:https://partsnlabor.com/event/game-night-in-the-garage-2-2/2026-10-07/
LOCATION:The Patio\, 723 Rigsbee Ave\, Durham\, NC\, 27701\, United States
ATTACH;FMTTYPE=image/png:https://partsnlabor.com/wp-content/uploads/2024/02/game-night-5.5-x-4.25-in.png
END:VEVENT
BEGIN:VEVENT
DTSTART;TZID=America/New_York:20261013T190000
DTEND;TZID=America/New_York:20261013T210000
DTSTAMP:20260423T182903
CREATED:20231230T013450Z
LAST-MODIFIED:20241209T030342Z
UID:10000110-1791918000-1791925200@partsnlabor.com
SUMMARY:Tuesday Night Bike Ride
DESCRIPTION:The Tuesday night bike ride meets at Bullseye Bicycle\, 102 Morris Street Downtown Durham at 7PM\, with a route ride out at 7:30PM\, rain or shine! Ride is usually around 2 hours and meets back at Parts & Labor for festivities. A $25 gift card to Parts & Labor is raffled off every week – Join us!
URL:https://partsnlabor.com/event/tuesday-bike-night-ride/2026-10-13/
LOCATION:Bullseye Bicycle\, 102 Morris Street\, Durham\, NC\, 27701\, United States
ATTACH;FMTTYPE=image/jpeg:https://partsnlabor.com/wp-content/uploads/2023/12/bike-on-the-bull.jpg
END:VEVENT
BEGIN:VEVENT
DTSTART;TZID=America/New_York:20261014T180000
DTEND;TZID=America/New_York:20261014T230000
DTSTAMP:20260423T182903
CREATED:20240208T050809Z
LAST-MODIFIED:20250922T004654Z
UID:10000983-1792000800-1792018800@partsnlabor.com
SUMMARY:Game Night in the Garage!
DESCRIPTION:JOIN US every Wednesday evening for game night in the garage! All are welcome to gather with friends around their favorite board\, card\, or word game. We’ll have a weekly rotation of food & drinks on special\, and a select number of games behind the bar for use. Get out of your living room and into the garage to enjoy a fun-filled evening at Parts&Labor! All ages welcome.
URL:https://partsnlabor.com/event/game-night-in-the-garage-2-2/2026-10-14/
LOCATION:The Patio\, 723 Rigsbee Ave\, Durham\, NC\, 27701\, United States
ATTACH;FMTTYPE=image/png:https://partsnlabor.com/wp-content/uploads/2024/02/game-night-5.5-x-4.25-in.png
END:VEVENT
BEGIN:VEVENT
DTSTART;TZID=America/New_York:20261015T170000
DTEND;TZID=America/New_York:20261015T203000
DTSTAMP:20260423T182903
CREATED:20240208T045029Z
LAST-MODIFIED:20240303T222804Z
UID:10001137-1792083600-1792096200@partsnlabor.com
SUMMARY:Artstigators
DESCRIPTION:Every 3rd Thursday from 5:30 to 8PM-ish. Come hang with fellow creative folk and share what you’re working on!
URL:https://partsnlabor.com/event/artstigators-2/2026-10-15/
LOCATION:NC
ATTACH;FMTTYPE=image/png:https://partsnlabor.com/wp-content/uploads/2023/12/artstigators-happyhour.png
END:VEVENT
BEGIN:VEVENT
DTSTART;TZID=America/New_York:20261020T190000
DTEND;TZID=America/New_York:20261020T210000
DTSTAMP:20260423T182903
CREATED:20231230T013450Z
LAST-MODIFIED:20241209T030342Z
UID:10000111-1792522800-1792530000@partsnlabor.com
SUMMARY:Tuesday Night Bike Ride
DESCRIPTION:The Tuesday night bike ride meets at Bullseye Bicycle\, 102 Morris Street Downtown Durham at 7PM\, with a route ride out at 7:30PM\, rain or shine! Ride is usually around 2 hours and meets back at Parts & Labor for festivities. A $25 gift card to Parts & Labor is raffled off every week – Join us!
URL:https://partsnlabor.com/event/tuesday-bike-night-ride/2026-10-20/
LOCATION:Bullseye Bicycle\, 102 Morris Street\, Durham\, NC\, 27701\, United States
ATTACH;FMTTYPE=image/jpeg:https://partsnlabor.com/wp-content/uploads/2023/12/bike-on-the-bull.jpg
END:VEVENT
BEGIN:VEVENT
DTSTART;TZID=America/New_York:20261021T180000
DTEND;TZID=America/New_York:20261021T230000
DTSTAMP:20260423T182903
CREATED:20240208T050809Z
LAST-MODIFIED:20250922T004654Z
UID:10000984-1792605600-1792623600@partsnlabor.com
SUMMARY:Game Night in the Garage!
DESCRIPTION:JOIN US every Wednesday evening for game night in the garage! All are welcome to gather with friends around their favorite board\, card\, or word game. We’ll have a weekly rotation of food & drinks on special\, and a select number of games behind the bar for use. Get out of your living room and into the garage to enjoy a fun-filled evening at Parts&Labor! All ages welcome.
URL:https://partsnlabor.com/event/game-night-in-the-garage-2-2/2026-10-21/
LOCATION:The Patio\, 723 Rigsbee Ave\, Durham\, NC\, 27701\, United States
ATTACH;FMTTYPE=image/png:https://partsnlabor.com/wp-content/uploads/2024/02/game-night-5.5-x-4.25-in.png
END:VEVENT
BEGIN:VEVENT
DTSTART;TZID=America/New_York:20261027T190000
DTEND;TZID=America/New_York:20261027T210000
DTSTAMP:20260423T182903
CREATED:20231230T013450Z
LAST-MODIFIED:20241209T030342Z
UID:10000112-1793127600-1793134800@partsnlabor.com
SUMMARY:Tuesday Night Bike Ride
DESCRIPTION:The Tuesday night bike ride meets at Bullseye Bicycle\, 102 Morris Street Downtown Durham at 7PM\, with a route ride out at 7:30PM\, rain or shine! Ride is usually around 2 hours and meets back at Parts & Labor for festivities. A $25 gift card to Parts & Labor is raffled off every week – Join us!
URL:https://partsnlabor.com/event/tuesday-bike-night-ride/2026-10-27/
LOCATION:Bullseye Bicycle\, 102 Morris Street\, Durham\, NC\, 27701\, United States
ATTACH;FMTTYPE=image/jpeg:https://partsnlabor.com/wp-content/uploads/2023/12/bike-on-the-bull.jpg
END:VEVENT
BEGIN:VEVENT
DTSTART;TZID=America/New_York:20261028T180000
DTEND;TZID=America/New_York:20261028T230000
DTSTAMP:20260423T182903
CREATED:20240208T050809Z
LAST-MODIFIED:20250922T004654Z
UID:10000985-1793210400-1793228400@partsnlabor.com
SUMMARY:Game Night in the Garage!
DESCRIPTION:JOIN US every Wednesday evening for game night in the garage! All are welcome to gather with friends around their favorite board\, card\, or word game. We’ll have a weekly rotation of food & drinks on special\, and a select number of games behind the bar for use. Get out of your living room and into the garage to enjoy a fun-filled evening at Parts&Labor! All ages welcome.
URL:https://partsnlabor.com/event/game-night-in-the-garage-2-2/2026-10-28/
LOCATION:The Patio\, 723 Rigsbee Ave\, Durham\, NC\, 27701\, United States
ATTACH;FMTTYPE=image/png:https://partsnlabor.com/wp-content/uploads/2024/02/game-night-5.5-x-4.25-in.png
END:VEVENT
BEGIN:VEVENT
DTSTART;TZID=America/New_York:20261104T180000
DTEND;TZID=America/New_York:20261104T210000
DTSTAMP:20260423T182903
CREATED:20241128T194759Z
LAST-MODIFIED:20241128T195028Z
UID:10001233-1793815200-1793826000@partsnlabor.com
SUMMARY:Carolina Film Makers Happy Hour
DESCRIPTION:New Carolinas Film Collective
URL:https://partsnlabor.com/event/carolina-film-makers-happy-hour/2026-11-04/
LOCATION:The Patio\, 723 Rigsbee Ave\, Durham\, NC\, 27701\, United States
ATTACH;FMTTYPE=image/jpeg:https://partsnlabor.com/wp-content/uploads/2024/11/ncfc.jpg
END:VEVENT
BEGIN:VEVENT
DTSTART;TZID=America/New_York:20261104T180000
DTEND;TZID=America/New_York:20261104T230000
DTSTAMP:20260423T182903
CREATED:20240208T050809Z
LAST-MODIFIED:20250922T004654Z
UID:10000986-1793815200-1793833200@partsnlabor.com
SUMMARY:Game Night in the Garage!
DESCRIPTION:JOIN US every Wednesday evening for game night in the garage! All are welcome to gather with friends around their favorite board\, card\, or word game. We’ll have a weekly rotation of food & drinks on special\, and a select number of games behind the bar for use. Get out of your living room and into the garage to enjoy a fun-filled evening at Parts&Labor! All ages welcome.
URL:https://partsnlabor.com/event/game-night-in-the-garage-2-2/2026-11-04/
LOCATION:The Patio\, 723 Rigsbee Ave\, Durham\, NC\, 27701\, United States
ATTACH;FMTTYPE=image/png:https://partsnlabor.com/wp-content/uploads/2024/02/game-night-5.5-x-4.25-in.png
END:VEVENT
BEGIN:VEVENT
DTSTART;TZID=America/New_York:20261110T190000
DTEND;TZID=America/New_York:20261110T210000
DTSTAMP:20260423T182903
CREATED:20231230T013450Z
LAST-MODIFIED:20241209T030342Z
UID:10000113-1794337200-1794344400@partsnlabor.com
SUMMARY:Tuesday Night Bike Ride
DESCRIPTION:The Tuesday night bike ride meets at Bullseye Bicycle\, 102 Morris Street Downtown Durham at 7PM\, with a route ride out at 7:30PM\, rain or shine! Ride is usually around 2 hours and meets back at Parts & Labor for festivities. A $25 gift card to Parts & Labor is raffled off every week – Join us!
URL:https://partsnlabor.com/event/tuesday-bike-night-ride/2026-11-10/
LOCATION:Bullseye Bicycle\, 102 Morris Street\, Durham\, NC\, 27701\, United States
ATTACH;FMTTYPE=image/jpeg:https://partsnlabor.com/wp-content/uploads/2023/12/bike-on-the-bull.jpg
END:VEVENT
BEGIN:VEVENT
DTSTART;TZID=America/New_York:20261111T180000
DTEND;TZID=America/New_York:20261111T230000
DTSTAMP:20260423T182903
CREATED:20240208T050809Z
LAST-MODIFIED:20250922T004654Z
UID:10000987-1794420000-1794438000@partsnlabor.com
SUMMARY:Game Night in the Garage!
DESCRIPTION:JOIN US every Wednesday evening for game night in the garage! All are welcome to gather with friends around their favorite board\, card\, or word game. We’ll have a weekly rotation of food & drinks on special\, and a select number of games behind the bar for use. Get out of your living room and into the garage to enjoy a fun-filled evening at Parts&Labor! All ages welcome.
URL:https://partsnlabor.com/event/game-night-in-the-garage-2-2/2026-11-11/
LOCATION:The Patio\, 723 Rigsbee Ave\, Durham\, NC\, 27701\, United States
ATTACH;FMTTYPE=image/png:https://partsnlabor.com/wp-content/uploads/2024/02/game-night-5.5-x-4.25-in.png
END:VEVENT
BEGIN:VEVENT
DTSTART;TZID=America/New_York:20261117T190000
DTEND;TZID=America/New_York:20261117T210000
DTSTAMP:20260423T182903
CREATED:20231230T013450Z
LAST-MODIFIED:20241209T030342Z
UID:10000114-1794942000-1794949200@partsnlabor.com
SUMMARY:Tuesday Night Bike Ride
DESCRIPTION:The Tuesday night bike ride meets at Bullseye Bicycle\, 102 Morris Street Downtown Durham at 7PM\, with a route ride out at 7:30PM\, rain or shine! Ride is usually around 2 hours and meets back at Parts & Labor for festivities. A $25 gift card to Parts & Labor is raffled off every week – Join us!
URL:https://partsnlabor.com/event/tuesday-bike-night-ride/2026-11-17/
LOCATION:Bullseye Bicycle\, 102 Morris Street\, Durham\, NC\, 27701\, United States
ATTACH;FMTTYPE=image/jpeg:https://partsnlabor.com/wp-content/uploads/2023/12/bike-on-the-bull.jpg
END:VEVENT
BEGIN:VEVENT
DTSTART;TZID=America/New_York:20261118T180000
DTEND;TZID=America/New_York:20261118T230000
DTSTAMP:20260423T182903
CREATED:20240208T050809Z
LAST-MODIFIED:20250922T004654Z
UID:10000988-1795024800-1795042800@partsnlabor.com
SUMMARY:Game Night in the Garage!
DESCRIPTION:JOIN US every Wednesday evening for game night in the garage! All are welcome to gather with friends around their favorite board\, card\, or word game. We’ll have a weekly rotation of food & drinks on special\, and a select number of games behind the bar for use. Get out of your living room and into the garage to enjoy a fun-filled evening at Parts&Labor! All ages welcome.
URL:https://partsnlabor.com/event/game-night-in-the-garage-2-2/2026-11-18/
LOCATION:The Patio\, 723 Rigsbee Ave\, Durham\, NC\, 27701\, United States
ATTACH;FMTTYPE=image/png:https://partsnlabor.com/wp-content/uploads/2024/02/game-night-5.5-x-4.25-in.png
END:VEVENT
END:VCALENDAR