BEGIN:VCALENDAR
VERSION:2.0
PRODID:-//Parts&amp;Labor - ECPv6.9.0//NONSGML v1.0//EN
CALSCALE:GREGORIAN
METHOD:PUBLISH
X-WR-CALNAME:Parts&amp;Labor
X-ORIGINAL-URL:https://partsnlabor.com
X-WR-CALDESC:Events for Parts&amp;Labor
REFRESH-INTERVAL;VALUE=DURATION:PT1H
X-Robots-Tag:noindex
X-PUBLISHED-TTL:PT1H
BEGIN:VTIMEZONE
TZID:America/New_York
BEGIN:DAYLIGHT
TZOFFSETFROM:-0500
TZOFFSETTO:-0400
TZNAME:EDT
DTSTART:20260308T070000
END:DAYLIGHT
BEGIN:STANDARD
TZOFFSETFROM:-0400
TZOFFSETTO:-0500
TZNAME:EST
DTSTART:20261101T060000
END:STANDARD
END:VTIMEZONE
BEGIN:VEVENT
DTSTART;TZID=America/New_York:20260303T190000
DTEND;TZID=America/New_York:20260303T210000
DTSTAMP:20260423T111814
CREATED:20231230T013450Z
LAST-MODIFIED:20241209T030342Z
UID:10000086-1772564400-1772571600@partsnlabor.com
SUMMARY:Tuesday Night Bike Ride
DESCRIPTION:The Tuesday night bike ride meets at Bullseye Bicycle\, 102 Morris Street Downtown Durham at 7PM\, with a route ride out at 7:30PM\, rain or shine! Ride is usually around 2 hours and meets back at Parts & Labor for festivities. A $25 gift card to Parts & Labor is raffled off every week – Join us!
URL:https://partsnlabor.com/event/tuesday-bike-night-ride/2026-03-03/
LOCATION:Bullseye Bicycle\, 102 Morris Street\, Durham\, NC\, 27701\, United States
ATTACH;FMTTYPE=image/jpeg:https://partsnlabor.com/wp-content/uploads/2023/12/bike-on-the-bull.jpg
END:VEVENT
BEGIN:VEVENT
DTSTART;TZID=America/New_York:20260304T180000
DTEND;TZID=America/New_York:20260304T210000
DTSTAMP:20260423T111814
CREATED:20241128T194759Z
LAST-MODIFIED:20241128T195028Z
UID:10001225-1772647200-1772658000@partsnlabor.com
SUMMARY:Carolina Film Makers Happy Hour
DESCRIPTION:New Carolinas Film Collective
URL:https://partsnlabor.com/event/carolina-film-makers-happy-hour/2026-03-04/
LOCATION:The Patio\, 723 Rigsbee Ave\, Durham\, NC\, 27701\, United States
ATTACH;FMTTYPE=image/jpeg:https://partsnlabor.com/wp-content/uploads/2024/11/ncfc.jpg
END:VEVENT
BEGIN:VEVENT
DTSTART;TZID=America/New_York:20260304T180000
DTEND;TZID=America/New_York:20260304T230000
DTSTAMP:20260423T111814
CREATED:20240208T050809Z
LAST-MODIFIED:20250922T004654Z
UID:10000951-1772647200-1772665200@partsnlabor.com
SUMMARY:Game Night in the Garage!
DESCRIPTION:JOIN US every Wednesday evening for game night in the garage! All are welcome to gather with friends around their favorite board\, card\, or word game. We’ll have a weekly rotation of food & drinks on special\, and a select number of games behind the bar for use. Get out of your living room and into the garage to enjoy a fun-filled evening at Parts&Labor! All ages welcome.
URL:https://partsnlabor.com/event/game-night-in-the-garage-2-2/2026-03-04/
LOCATION:The Patio\, 723 Rigsbee Ave\, Durham\, NC\, 27701\, United States
ATTACH;FMTTYPE=image/png:https://partsnlabor.com/wp-content/uploads/2024/02/game-night-5.5-x-4.25-in.png
END:VEVENT
BEGIN:VEVENT
DTSTART;TZID=America/New_York:20260310T190000
DTEND;TZID=America/New_York:20260310T210000
DTSTAMP:20260423T111814
CREATED:20231230T013450Z
LAST-MODIFIED:20241209T030342Z
UID:10000087-1773169200-1773176400@partsnlabor.com
SUMMARY:Tuesday Night Bike Ride
DESCRIPTION:The Tuesday night bike ride meets at Bullseye Bicycle\, 102 Morris Street Downtown Durham at 7PM\, with a route ride out at 7:30PM\, rain or shine! Ride is usually around 2 hours and meets back at Parts & Labor for festivities. A $25 gift card to Parts & Labor is raffled off every week – Join us!
URL:https://partsnlabor.com/event/tuesday-bike-night-ride/2026-03-10/
LOCATION:Bullseye Bicycle\, 102 Morris Street\, Durham\, NC\, 27701\, United States
ATTACH;FMTTYPE=image/jpeg:https://partsnlabor.com/wp-content/uploads/2023/12/bike-on-the-bull.jpg
END:VEVENT
BEGIN:VEVENT
DTSTART;TZID=America/New_York:20260311T180000
DTEND;TZID=America/New_York:20260311T230000
DTSTAMP:20260423T111814
CREATED:20240208T050809Z
LAST-MODIFIED:20250922T004654Z
UID:10000952-1773252000-1773270000@partsnlabor.com
SUMMARY:Game Night in the Garage!
DESCRIPTION:JOIN US every Wednesday evening for game night in the garage! All are welcome to gather with friends around their favorite board\, card\, or word game. We’ll have a weekly rotation of food & drinks on special\, and a select number of games behind the bar for use. Get out of your living room and into the garage to enjoy a fun-filled evening at Parts&Labor! All ages welcome.
URL:https://partsnlabor.com/event/game-night-in-the-garage-2-2/2026-03-11/
LOCATION:The Patio\, 723 Rigsbee Ave\, Durham\, NC\, 27701\, United States
ATTACH;FMTTYPE=image/png:https://partsnlabor.com/wp-content/uploads/2024/02/game-night-5.5-x-4.25-in.png
END:VEVENT
BEGIN:VEVENT
DTSTART;TZID=America/New_York:20260317T190000
DTEND;TZID=America/New_York:20260317T210000
DTSTAMP:20260423T111814
CREATED:20231230T013450Z
LAST-MODIFIED:20241209T030342Z
UID:10000088-1773774000-1773781200@partsnlabor.com
SUMMARY:Tuesday Night Bike Ride
DESCRIPTION:The Tuesday night bike ride meets at Bullseye Bicycle\, 102 Morris Street Downtown Durham at 7PM\, with a route ride out at 7:30PM\, rain or shine! Ride is usually around 2 hours and meets back at Parts & Labor for festivities. A $25 gift card to Parts & Labor is raffled off every week – Join us!
URL:https://partsnlabor.com/event/tuesday-bike-night-ride/2026-03-17/
LOCATION:Bullseye Bicycle\, 102 Morris Street\, Durham\, NC\, 27701\, United States
ATTACH;FMTTYPE=image/jpeg:https://partsnlabor.com/wp-content/uploads/2023/12/bike-on-the-bull.jpg
END:VEVENT
BEGIN:VEVENT
DTSTART;TZID=America/New_York:20260318T180000
DTEND;TZID=America/New_York:20260318T230000
DTSTAMP:20260423T111814
CREATED:20240208T050809Z
LAST-MODIFIED:20250922T004654Z
UID:10000953-1773856800-1773874800@partsnlabor.com
SUMMARY:Game Night in the Garage!
DESCRIPTION:JOIN US every Wednesday evening for game night in the garage! All are welcome to gather with friends around their favorite board\, card\, or word game. We’ll have a weekly rotation of food & drinks on special\, and a select number of games behind the bar for use. Get out of your living room and into the garage to enjoy a fun-filled evening at Parts&Labor! All ages welcome.
URL:https://partsnlabor.com/event/game-night-in-the-garage-2-2/2026-03-18/
LOCATION:The Patio\, 723 Rigsbee Ave\, Durham\, NC\, 27701\, United States
ATTACH;FMTTYPE=image/png:https://partsnlabor.com/wp-content/uploads/2024/02/game-night-5.5-x-4.25-in.png
END:VEVENT
BEGIN:VEVENT
DTSTART;TZID=America/New_York:20260319T170000
DTEND;TZID=America/New_York:20260319T203000
DTSTAMP:20260423T111814
CREATED:20240208T045029Z
LAST-MODIFIED:20240303T222804Z
UID:10001130-1773939600-1773952200@partsnlabor.com
SUMMARY:Artstigators
DESCRIPTION:Every 3rd Thursday from 5:30 to 8PM-ish. Come hang with fellow creative folk and share what you’re working on!
URL:https://partsnlabor.com/event/artstigators-2/2026-03-19/
ATTACH;FMTTYPE=image/png:https://partsnlabor.com/wp-content/uploads/2023/12/artstigators-happyhour.png
END:VEVENT
BEGIN:VEVENT
DTSTART;TZID=America/New_York:20260325T180000
DTEND;TZID=America/New_York:20260325T230000
DTSTAMP:20260423T111814
CREATED:20240208T050809Z
LAST-MODIFIED:20250922T004654Z
UID:10000954-1774461600-1774479600@partsnlabor.com
SUMMARY:Game Night in the Garage!
DESCRIPTION:JOIN US every Wednesday evening for game night in the garage! All are welcome to gather with friends around their favorite board\, card\, or word game. We’ll have a weekly rotation of food & drinks on special\, and a select number of games behind the bar for use. Get out of your living room and into the garage to enjoy a fun-filled evening at Parts&Labor! All ages welcome.
URL:https://partsnlabor.com/event/game-night-in-the-garage-2-2/2026-03-25/
LOCATION:The Patio\, 723 Rigsbee Ave\, Durham\, NC\, 27701\, United States
ATTACH;FMTTYPE=image/png:https://partsnlabor.com/wp-content/uploads/2024/02/game-night-5.5-x-4.25-in.png
END:VEVENT
BEGIN:VEVENT
DTSTART;TZID=America/New_York:20260331T190000
DTEND;TZID=America/New_York:20260331T210000
DTSTAMP:20260423T111814
CREATED:20231230T013450Z
LAST-MODIFIED:20241209T030342Z
UID:10000089-1774983600-1774990800@partsnlabor.com
SUMMARY:Tuesday Night Bike Ride
DESCRIPTION:The Tuesday night bike ride meets at Bullseye Bicycle\, 102 Morris Street Downtown Durham at 7PM\, with a route ride out at 7:30PM\, rain or shine! Ride is usually around 2 hours and meets back at Parts & Labor for festivities. A $25 gift card to Parts & Labor is raffled off every week – Join us!
URL:https://partsnlabor.com/event/tuesday-bike-night-ride/2026-03-31/
LOCATION:Bullseye Bicycle\, 102 Morris Street\, Durham\, NC\, 27701\, United States
ATTACH;FMTTYPE=image/jpeg:https://partsnlabor.com/wp-content/uploads/2023/12/bike-on-the-bull.jpg
END:VEVENT
END:VCALENDAR