BEGIN:VCALENDAR
VERSION:2.0
PRODID:-//Parts&amp;Labor - ECPv6.9.0//NONSGML v1.0//EN
CALSCALE:GREGORIAN
METHOD:PUBLISH
X-WR-CALNAME:Parts&amp;Labor
X-ORIGINAL-URL:https://partsnlabor.com
X-WR-CALDESC:Events for Parts&amp;Labor
REFRESH-INTERVAL;VALUE=DURATION:PT1H
X-Robots-Tag:noindex
X-PUBLISHED-TTL:PT1H
BEGIN:VTIMEZONE
TZID:America/New_York
BEGIN:DAYLIGHT
TZOFFSETFROM:-0500
TZOFFSETTO:-0400
TZNAME:EDT
DTSTART:20290311T070000
END:DAYLIGHT
BEGIN:STANDARD
TZOFFSETFROM:-0400
TZOFFSETTO:-0500
TZNAME:EST
DTSTART:20291104T060000
END:STANDARD
END:VTIMEZONE
BEGIN:VEVENT
DTSTART;TZID=America/New_York:20290131T180000
DTEND;TZID=America/New_York:20290131T230000
DTSTAMP:20260424T181843
CREATED:20240208T050809Z
LAST-MODIFIED:20250922T004654Z
UID:10001103-1864576800-1864594800@partsnlabor.com
SUMMARY:Game Night in the Garage!
DESCRIPTION:JOIN US every Wednesday evening for game night in the garage! All are welcome to gather with friends around their favorite board\, card\, or word game. We’ll have a weekly rotation of food & drinks on special\, and a select number of games behind the bar for use. Get out of your living room and into the garage to enjoy a fun-filled evening at Parts&Labor! All ages welcome.
URL:https://partsnlabor.com/event/game-night-in-the-garage-2-2/2029-01-31/
LOCATION:The Patio\, 723 Rigsbee Ave\, Durham\, NC\, 27701\, United States
ATTACH;FMTTYPE=image/png:https://partsnlabor.com/wp-content/uploads/2024/02/game-night-5.5-x-4.25-in.png
END:VEVENT
BEGIN:VEVENT
DTSTART;TZID=America/New_York:20290207T180000
DTEND;TZID=America/New_York:20290207T230000
DTSTAMP:20260424T181843
CREATED:20240208T050809Z
LAST-MODIFIED:20250922T004654Z
UID:10001105-1865181600-1865199600@partsnlabor.com
SUMMARY:Game Night in the Garage!
DESCRIPTION:JOIN US every Wednesday evening for game night in the garage! All are welcome to gather with friends around their favorite board\, card\, or word game. We’ll have a weekly rotation of food & drinks on special\, and a select number of games behind the bar for use. Get out of your living room and into the garage to enjoy a fun-filled evening at Parts&Labor! All ages welcome.
URL:https://partsnlabor.com/event/game-night-in-the-garage-2-2/2029-02-07/
LOCATION:The Patio\, 723 Rigsbee Ave\, Durham\, NC\, 27701\, United States
ATTACH;FMTTYPE=image/png:https://partsnlabor.com/wp-content/uploads/2024/02/game-night-5.5-x-4.25-in.png
END:VEVENT
BEGIN:VEVENT
DTSTART;TZID=America/New_York:20290214T180000
DTEND;TZID=America/New_York:20290214T230000
DTSTAMP:20260424T181843
CREATED:20240208T050809Z
LAST-MODIFIED:20250922T004654Z
UID:10001173-1865786400-1865804400@partsnlabor.com
SUMMARY:Game Night in the Garage!
DESCRIPTION:JOIN US every Wednesday evening for game night in the garage! All are welcome to gather with friends around their favorite board\, card\, or word game. We’ll have a weekly rotation of food & drinks on special\, and a select number of games behind the bar for use. Get out of your living room and into the garage to enjoy a fun-filled evening at Parts&Labor! All ages welcome.
URL:https://partsnlabor.com/event/game-night-in-the-garage-2-2/2029-02-14/
LOCATION:The Patio\, 723 Rigsbee Ave\, Durham\, NC\, 27701\, United States
ATTACH;FMTTYPE=image/png:https://partsnlabor.com/wp-content/uploads/2024/02/game-night-5.5-x-4.25-in.png
END:VEVENT
BEGIN:VEVENT
DTSTART;TZID=America/New_York:20290221T180000
DTEND;TZID=America/New_York:20290221T230000
DTSTAMP:20260424T181843
CREATED:20240208T050809Z
LAST-MODIFIED:20250922T004654Z
UID:10001174-1866391200-1866409200@partsnlabor.com
SUMMARY:Game Night in the Garage!
DESCRIPTION:JOIN US every Wednesday evening for game night in the garage! All are welcome to gather with friends around their favorite board\, card\, or word game. We’ll have a weekly rotation of food & drinks on special\, and a select number of games behind the bar for use. Get out of your living room and into the garage to enjoy a fun-filled evening at Parts&Labor! All ages welcome.
URL:https://partsnlabor.com/event/game-night-in-the-garage-2-2/2029-02-21/
LOCATION:The Patio\, 723 Rigsbee Ave\, Durham\, NC\, 27701\, United States
ATTACH;FMTTYPE=image/png:https://partsnlabor.com/wp-content/uploads/2024/02/game-night-5.5-x-4.25-in.png
END:VEVENT
BEGIN:VEVENT
DTSTART;TZID=America/New_York:20290228T180000
DTEND;TZID=America/New_York:20290228T230000
DTSTAMP:20260424T181843
CREATED:20240208T050809Z
LAST-MODIFIED:20250922T004654Z
UID:10001176-1866996000-1867014000@partsnlabor.com
SUMMARY:Game Night in the Garage!
DESCRIPTION:JOIN US every Wednesday evening for game night in the garage! All are welcome to gather with friends around their favorite board\, card\, or word game. We’ll have a weekly rotation of food & drinks on special\, and a select number of games behind the bar for use. Get out of your living room and into the garage to enjoy a fun-filled evening at Parts&Labor! All ages welcome.
URL:https://partsnlabor.com/event/game-night-in-the-garage-2-2/2029-02-28/
LOCATION:The Patio\, 723 Rigsbee Ave\, Durham\, NC\, 27701\, United States
ATTACH;FMTTYPE=image/png:https://partsnlabor.com/wp-content/uploads/2024/02/game-night-5.5-x-4.25-in.png
END:VEVENT
BEGIN:VEVENT
DTSTART;TZID=America/New_York:20290307T180000
DTEND;TZID=America/New_York:20290307T230000
DTSTAMP:20260424T181843
CREATED:20240208T050809Z
LAST-MODIFIED:20250922T004654Z
UID:10001287-1867600800-1867618800@partsnlabor.com
SUMMARY:Game Night in the Garage!
DESCRIPTION:JOIN US every Wednesday evening for game night in the garage! All are welcome to gather with friends around their favorite board\, card\, or word game. We’ll have a weekly rotation of food & drinks on special\, and a select number of games behind the bar for use. Get out of your living room and into the garage to enjoy a fun-filled evening at Parts&Labor! All ages welcome.
URL:https://partsnlabor.com/event/game-night-in-the-garage-2-2/2029-03-07/
LOCATION:The Patio\, 723 Rigsbee Ave\, Durham\, NC\, 27701\, United States
ATTACH;FMTTYPE=image/png:https://partsnlabor.com/wp-content/uploads/2024/02/game-night-5.5-x-4.25-in.png
END:VEVENT
BEGIN:VEVENT
DTSTART;TZID=America/New_York:20290314T180000
DTEND;TZID=America/New_York:20290314T230000
DTSTAMP:20260424T181843
CREATED:20240208T050809Z
LAST-MODIFIED:20250922T004654Z
UID:10001288-1868205600-1868223600@partsnlabor.com
SUMMARY:Game Night in the Garage!
DESCRIPTION:JOIN US every Wednesday evening for game night in the garage! All are welcome to gather with friends around their favorite board\, card\, or word game. We’ll have a weekly rotation of food & drinks on special\, and a select number of games behind the bar for use. Get out of your living room and into the garage to enjoy a fun-filled evening at Parts&Labor! All ages welcome.
URL:https://partsnlabor.com/event/game-night-in-the-garage-2-2/2029-03-14/
LOCATION:The Patio\, 723 Rigsbee Ave\, Durham\, NC\, 27701\, United States
ATTACH;FMTTYPE=image/png:https://partsnlabor.com/wp-content/uploads/2024/02/game-night-5.5-x-4.25-in.png
END:VEVENT
BEGIN:VEVENT
DTSTART;TZID=America/New_York:20290321T180000
DTEND;TZID=America/New_York:20290321T230000
DTSTAMP:20260424T181843
CREATED:20240208T050809Z
LAST-MODIFIED:20250922T004654Z
UID:10001289-1868810400-1868828400@partsnlabor.com
SUMMARY:Game Night in the Garage!
DESCRIPTION:JOIN US every Wednesday evening for game night in the garage! All are welcome to gather with friends around their favorite board\, card\, or word game. We’ll have a weekly rotation of food & drinks on special\, and a select number of games behind the bar for use. Get out of your living room and into the garage to enjoy a fun-filled evening at Parts&Labor! All ages welcome.
URL:https://partsnlabor.com/event/game-night-in-the-garage-2-2/2029-03-21/
LOCATION:The Patio\, 723 Rigsbee Ave\, Durham\, NC\, 27701\, United States
ATTACH;FMTTYPE=image/png:https://partsnlabor.com/wp-content/uploads/2024/02/game-night-5.5-x-4.25-in.png
END:VEVENT
BEGIN:VEVENT
DTSTART;TZID=America/New_York:20290328T180000
DTEND;TZID=America/New_York:20290328T230000
DTSTAMP:20260424T181843
CREATED:20240208T050809Z
LAST-MODIFIED:20250922T004654Z
UID:10001290-1869415200-1869433200@partsnlabor.com
SUMMARY:Game Night in the Garage!
DESCRIPTION:JOIN US every Wednesday evening for game night in the garage! All are welcome to gather with friends around their favorite board\, card\, or word game. We’ll have a weekly rotation of food & drinks on special\, and a select number of games behind the bar for use. Get out of your living room and into the garage to enjoy a fun-filled evening at Parts&Labor! All ages welcome.
URL:https://partsnlabor.com/event/game-night-in-the-garage-2-2/2029-03-28/
LOCATION:The Patio\, 723 Rigsbee Ave\, Durham\, NC\, 27701\, United States
ATTACH;FMTTYPE=image/png:https://partsnlabor.com/wp-content/uploads/2024/02/game-night-5.5-x-4.25-in.png
END:VEVENT
BEGIN:VEVENT
DTSTART;TZID=America/New_York:20290404T180000
DTEND;TZID=America/New_York:20290404T230000
DTSTAMP:20260424T181843
CREATED:20240208T050809Z
LAST-MODIFIED:20250922T004654Z
UID:10001291-1870020000-1870038000@partsnlabor.com
SUMMARY:Game Night in the Garage!
DESCRIPTION:JOIN US every Wednesday evening for game night in the garage! All are welcome to gather with friends around their favorite board\, card\, or word game. We’ll have a weekly rotation of food & drinks on special\, and a select number of games behind the bar for use. Get out of your living room and into the garage to enjoy a fun-filled evening at Parts&Labor! All ages welcome.
URL:https://partsnlabor.com/event/game-night-in-the-garage-2-2/2029-04-04/
LOCATION:The Patio\, 723 Rigsbee Ave\, Durham\, NC\, 27701\, United States
ATTACH;FMTTYPE=image/png:https://partsnlabor.com/wp-content/uploads/2024/02/game-night-5.5-x-4.25-in.png
END:VEVENT
BEGIN:VEVENT
DTSTART;TZID=America/New_York:20290411T180000
DTEND;TZID=America/New_York:20290411T230000
DTSTAMP:20260424T181843
CREATED:20240208T050809Z
LAST-MODIFIED:20250922T004654Z
UID:10001292-1870624800-1870642800@partsnlabor.com
SUMMARY:Game Night in the Garage!
DESCRIPTION:JOIN US every Wednesday evening for game night in the garage! All are welcome to gather with friends around their favorite board\, card\, or word game. We’ll have a weekly rotation of food & drinks on special\, and a select number of games behind the bar for use. Get out of your living room and into the garage to enjoy a fun-filled evening at Parts&Labor! All ages welcome.
URL:https://partsnlabor.com/event/game-night-in-the-garage-2-2/2029-04-11/
LOCATION:The Patio\, 723 Rigsbee Ave\, Durham\, NC\, 27701\, United States
ATTACH;FMTTYPE=image/png:https://partsnlabor.com/wp-content/uploads/2024/02/game-night-5.5-x-4.25-in.png
END:VEVENT
BEGIN:VEVENT
DTSTART;TZID=America/New_York:20290418T180000
DTEND;TZID=America/New_York:20290418T230000
DTSTAMP:20260424T181843
CREATED:20240208T050809Z
LAST-MODIFIED:20250922T004654Z
UID:10001293-1871229600-1871247600@partsnlabor.com
SUMMARY:Game Night in the Garage!
DESCRIPTION:JOIN US every Wednesday evening for game night in the garage! All are welcome to gather with friends around their favorite board\, card\, or word game. We’ll have a weekly rotation of food & drinks on special\, and a select number of games behind the bar for use. Get out of your living room and into the garage to enjoy a fun-filled evening at Parts&Labor! All ages welcome.
URL:https://partsnlabor.com/event/game-night-in-the-garage-2-2/2029-04-18/
LOCATION:The Patio\, 723 Rigsbee Ave\, Durham\, NC\, 27701\, United States
ATTACH;FMTTYPE=image/png:https://partsnlabor.com/wp-content/uploads/2024/02/game-night-5.5-x-4.25-in.png
END:VEVENT
BEGIN:VEVENT
DTSTART;TZID=America/New_York:20290425T180000
DTEND;TZID=America/New_York:20290425T230000
DTSTAMP:20260424T181843
CREATED:20240208T050809Z
LAST-MODIFIED:20250922T004654Z
UID:10001294-1871834400-1871852400@partsnlabor.com
SUMMARY:Game Night in the Garage!
DESCRIPTION:JOIN US every Wednesday evening for game night in the garage! All are welcome to gather with friends around their favorite board\, card\, or word game. We’ll have a weekly rotation of food & drinks on special\, and a select number of games behind the bar for use. Get out of your living room and into the garage to enjoy a fun-filled evening at Parts&Labor! All ages welcome.
URL:https://partsnlabor.com/event/game-night-in-the-garage-2-2/2029-04-25/
LOCATION:The Patio\, 723 Rigsbee Ave\, Durham\, NC\, 27701\, United States
ATTACH;FMTTYPE=image/png:https://partsnlabor.com/wp-content/uploads/2024/02/game-night-5.5-x-4.25-in.png
END:VEVENT
BEGIN:VEVENT
DTSTART;TZID=America/New_York:20290502T180000
DTEND;TZID=America/New_York:20290502T230000
DTSTAMP:20260424T181843
CREATED:20240208T050809Z
LAST-MODIFIED:20250922T004654Z
UID:10001295-1872439200-1872457200@partsnlabor.com
SUMMARY:Game Night in the Garage!
DESCRIPTION:JOIN US every Wednesday evening for game night in the garage! All are welcome to gather with friends around their favorite board\, card\, or word game. We’ll have a weekly rotation of food & drinks on special\, and a select number of games behind the bar for use. Get out of your living room and into the garage to enjoy a fun-filled evening at Parts&Labor! All ages welcome.
URL:https://partsnlabor.com/event/game-night-in-the-garage-2-2/2029-05-02/
LOCATION:The Patio\, 723 Rigsbee Ave\, Durham\, NC\, 27701\, United States
ATTACH;FMTTYPE=image/png:https://partsnlabor.com/wp-content/uploads/2024/02/game-night-5.5-x-4.25-in.png
END:VEVENT
BEGIN:VEVENT
DTSTART;TZID=America/New_York:20290509T180000
DTEND;TZID=America/New_York:20290509T230000
DTSTAMP:20260424T181843
CREATED:20240208T050809Z
LAST-MODIFIED:20250922T004654Z
UID:10001296-1873044000-1873062000@partsnlabor.com
SUMMARY:Game Night in the Garage!
DESCRIPTION:JOIN US every Wednesday evening for game night in the garage! All are welcome to gather with friends around their favorite board\, card\, or word game. We’ll have a weekly rotation of food & drinks on special\, and a select number of games behind the bar for use. Get out of your living room and into the garage to enjoy a fun-filled evening at Parts&Labor! All ages welcome.
URL:https://partsnlabor.com/event/game-night-in-the-garage-2-2/2029-05-09/
LOCATION:The Patio\, 723 Rigsbee Ave\, Durham\, NC\, 27701\, United States
ATTACH;FMTTYPE=image/png:https://partsnlabor.com/wp-content/uploads/2024/02/game-night-5.5-x-4.25-in.png
END:VEVENT
BEGIN:VEVENT
DTSTART;TZID=America/New_York:20290516T180000
DTEND;TZID=America/New_York:20290516T230000
DTSTAMP:20260424T181843
CREATED:20240208T050809Z
LAST-MODIFIED:20250922T004654Z
UID:10001297-1873648800-1873666800@partsnlabor.com
SUMMARY:Game Night in the Garage!
DESCRIPTION:JOIN US every Wednesday evening for game night in the garage! All are welcome to gather with friends around their favorite board\, card\, or word game. We’ll have a weekly rotation of food & drinks on special\, and a select number of games behind the bar for use. Get out of your living room and into the garage to enjoy a fun-filled evening at Parts&Labor! All ages welcome.
URL:https://partsnlabor.com/event/game-night-in-the-garage-2-2/2029-05-16/
LOCATION:The Patio\, 723 Rigsbee Ave\, Durham\, NC\, 27701\, United States
ATTACH;FMTTYPE=image/png:https://partsnlabor.com/wp-content/uploads/2024/02/game-night-5.5-x-4.25-in.png
END:VEVENT
BEGIN:VEVENT
DTSTART;TZID=America/New_York:20290523T180000
DTEND;TZID=America/New_York:20290523T230000
DTSTAMP:20260424T181843
CREATED:20240208T050809Z
LAST-MODIFIED:20250922T004654Z
UID:10001298-1874253600-1874271600@partsnlabor.com
SUMMARY:Game Night in the Garage!
DESCRIPTION:JOIN US every Wednesday evening for game night in the garage! All are welcome to gather with friends around their favorite board\, card\, or word game. We’ll have a weekly rotation of food & drinks on special\, and a select number of games behind the bar for use. Get out of your living room and into the garage to enjoy a fun-filled evening at Parts&Labor! All ages welcome.
URL:https://partsnlabor.com/event/game-night-in-the-garage-2-2/2029-05-23/
LOCATION:The Patio\, 723 Rigsbee Ave\, Durham\, NC\, 27701\, United States
ATTACH;FMTTYPE=image/png:https://partsnlabor.com/wp-content/uploads/2024/02/game-night-5.5-x-4.25-in.png
END:VEVENT
BEGIN:VEVENT
DTSTART;TZID=America/New_York:20290530T180000
DTEND;TZID=America/New_York:20290530T230000
DTSTAMP:20260424T181843
CREATED:20240208T050809Z
LAST-MODIFIED:20250922T004654Z
UID:10001299-1874858400-1874876400@partsnlabor.com
SUMMARY:Game Night in the Garage!
DESCRIPTION:JOIN US every Wednesday evening for game night in the garage! All are welcome to gather with friends around their favorite board\, card\, or word game. We’ll have a weekly rotation of food & drinks on special\, and a select number of games behind the bar for use. Get out of your living room and into the garage to enjoy a fun-filled evening at Parts&Labor! All ages welcome.
URL:https://partsnlabor.com/event/game-night-in-the-garage-2-2/2029-05-30/
LOCATION:The Patio\, 723 Rigsbee Ave\, Durham\, NC\, 27701\, United States
ATTACH;FMTTYPE=image/png:https://partsnlabor.com/wp-content/uploads/2024/02/game-night-5.5-x-4.25-in.png
END:VEVENT
BEGIN:VEVENT
DTSTART;TZID=America/New_York:20290606T180000
DTEND;TZID=America/New_York:20290606T230000
DTSTAMP:20260424T181843
CREATED:20240208T050809Z
LAST-MODIFIED:20250922T004654Z
UID:10001300-1875463200-1875481200@partsnlabor.com
SUMMARY:Game Night in the Garage!
DESCRIPTION:JOIN US every Wednesday evening for game night in the garage! All are welcome to gather with friends around their favorite board\, card\, or word game. We’ll have a weekly rotation of food & drinks on special\, and a select number of games behind the bar for use. Get out of your living room and into the garage to enjoy a fun-filled evening at Parts&Labor! All ages welcome.
URL:https://partsnlabor.com/event/game-night-in-the-garage-2-2/2029-06-06/
LOCATION:The Patio\, 723 Rigsbee Ave\, Durham\, NC\, 27701\, United States
ATTACH;FMTTYPE=image/png:https://partsnlabor.com/wp-content/uploads/2024/02/game-night-5.5-x-4.25-in.png
END:VEVENT
BEGIN:VEVENT
DTSTART;TZID=America/New_York:20290613T180000
DTEND;TZID=America/New_York:20290613T230000
DTSTAMP:20260424T181843
CREATED:20240208T050809Z
LAST-MODIFIED:20250922T004654Z
UID:10001301-1876068000-1876086000@partsnlabor.com
SUMMARY:Game Night in the Garage!
DESCRIPTION:JOIN US every Wednesday evening for game night in the garage! All are welcome to gather with friends around their favorite board\, card\, or word game. We’ll have a weekly rotation of food & drinks on special\, and a select number of games behind the bar for use. Get out of your living room and into the garage to enjoy a fun-filled evening at Parts&Labor! All ages welcome.
URL:https://partsnlabor.com/event/game-night-in-the-garage-2-2/2029-06-13/
LOCATION:The Patio\, 723 Rigsbee Ave\, Durham\, NC\, 27701\, United States
ATTACH;FMTTYPE=image/png:https://partsnlabor.com/wp-content/uploads/2024/02/game-night-5.5-x-4.25-in.png
END:VEVENT
BEGIN:VEVENT
DTSTART;TZID=America/New_York:20290620T180000
DTEND;TZID=America/New_York:20290620T230000
DTSTAMP:20260424T181843
CREATED:20240208T050809Z
LAST-MODIFIED:20250922T004654Z
UID:10001302-1876672800-1876690800@partsnlabor.com
SUMMARY:Game Night in the Garage!
DESCRIPTION:JOIN US every Wednesday evening for game night in the garage! All are welcome to gather with friends around their favorite board\, card\, or word game. We’ll have a weekly rotation of food & drinks on special\, and a select number of games behind the bar for use. Get out of your living room and into the garage to enjoy a fun-filled evening at Parts&Labor! All ages welcome.
URL:https://partsnlabor.com/event/game-night-in-the-garage-2-2/2029-06-20/
LOCATION:The Patio\, 723 Rigsbee Ave\, Durham\, NC\, 27701\, United States
ATTACH;FMTTYPE=image/png:https://partsnlabor.com/wp-content/uploads/2024/02/game-night-5.5-x-4.25-in.png
END:VEVENT
BEGIN:VEVENT
DTSTART;TZID=America/New_York:20290627T180000
DTEND;TZID=America/New_York:20290627T230000
DTSTAMP:20260424T181843
CREATED:20240208T050809Z
LAST-MODIFIED:20250922T004654Z
UID:10001303-1877277600-1877295600@partsnlabor.com
SUMMARY:Game Night in the Garage!
DESCRIPTION:JOIN US every Wednesday evening for game night in the garage! All are welcome to gather with friends around their favorite board\, card\, or word game. We’ll have a weekly rotation of food & drinks on special\, and a select number of games behind the bar for use. Get out of your living room and into the garage to enjoy a fun-filled evening at Parts&Labor! All ages welcome.
URL:https://partsnlabor.com/event/game-night-in-the-garage-2-2/2029-06-27/
LOCATION:The Patio\, 723 Rigsbee Ave\, Durham\, NC\, 27701\, United States
ATTACH;FMTTYPE=image/png:https://partsnlabor.com/wp-content/uploads/2024/02/game-night-5.5-x-4.25-in.png
END:VEVENT
BEGIN:VEVENT
DTSTART;TZID=America/New_York:20290704T180000
DTEND;TZID=America/New_York:20290704T230000
DTSTAMP:20260424T181843
CREATED:20240208T050809Z
LAST-MODIFIED:20250922T004654Z
UID:10001304-1877882400-1877900400@partsnlabor.com
SUMMARY:Game Night in the Garage!
DESCRIPTION:JOIN US every Wednesday evening for game night in the garage! All are welcome to gather with friends around their favorite board\, card\, or word game. We’ll have a weekly rotation of food & drinks on special\, and a select number of games behind the bar for use. Get out of your living room and into the garage to enjoy a fun-filled evening at Parts&Labor! All ages welcome.
URL:https://partsnlabor.com/event/game-night-in-the-garage-2-2/2029-07-04/
LOCATION:The Patio\, 723 Rigsbee Ave\, Durham\, NC\, 27701\, United States
ATTACH;FMTTYPE=image/png:https://partsnlabor.com/wp-content/uploads/2024/02/game-night-5.5-x-4.25-in.png
END:VEVENT
BEGIN:VEVENT
DTSTART;TZID=America/New_York:20290711T180000
DTEND;TZID=America/New_York:20290711T230000
DTSTAMP:20260424T181843
CREATED:20240208T050809Z
LAST-MODIFIED:20250922T004654Z
UID:10001305-1878487200-1878505200@partsnlabor.com
SUMMARY:Game Night in the Garage!
DESCRIPTION:JOIN US every Wednesday evening for game night in the garage! All are welcome to gather with friends around their favorite board\, card\, or word game. We’ll have a weekly rotation of food & drinks on special\, and a select number of games behind the bar for use. Get out of your living room and into the garage to enjoy a fun-filled evening at Parts&Labor! All ages welcome.
URL:https://partsnlabor.com/event/game-night-in-the-garage-2-2/2029-07-11/
LOCATION:The Patio\, 723 Rigsbee Ave\, Durham\, NC\, 27701\, United States
ATTACH;FMTTYPE=image/png:https://partsnlabor.com/wp-content/uploads/2024/02/game-night-5.5-x-4.25-in.png
END:VEVENT
BEGIN:VEVENT
DTSTART;TZID=America/New_York:20290718T180000
DTEND;TZID=America/New_York:20290718T230000
DTSTAMP:20260424T181843
CREATED:20240208T050809Z
LAST-MODIFIED:20250922T004654Z
UID:10001306-1879092000-1879110000@partsnlabor.com
SUMMARY:Game Night in the Garage!
DESCRIPTION:JOIN US every Wednesday evening for game night in the garage! All are welcome to gather with friends around their favorite board\, card\, or word game. We’ll have a weekly rotation of food & drinks on special\, and a select number of games behind the bar for use. Get out of your living room and into the garage to enjoy a fun-filled evening at Parts&Labor! All ages welcome.
URL:https://partsnlabor.com/event/game-night-in-the-garage-2-2/2029-07-18/
LOCATION:The Patio\, 723 Rigsbee Ave\, Durham\, NC\, 27701\, United States
ATTACH;FMTTYPE=image/png:https://partsnlabor.com/wp-content/uploads/2024/02/game-night-5.5-x-4.25-in.png
END:VEVENT
BEGIN:VEVENT
DTSTART;TZID=America/New_York:20290725T180000
DTEND;TZID=America/New_York:20290725T230000
DTSTAMP:20260424T181843
CREATED:20240208T050809Z
LAST-MODIFIED:20250922T004654Z
UID:10001307-1879696800-1879714800@partsnlabor.com
SUMMARY:Game Night in the Garage!
DESCRIPTION:JOIN US every Wednesday evening for game night in the garage! All are welcome to gather with friends around their favorite board\, card\, or word game. We’ll have a weekly rotation of food & drinks on special\, and a select number of games behind the bar for use. Get out of your living room and into the garage to enjoy a fun-filled evening at Parts&Labor! All ages welcome.
URL:https://partsnlabor.com/event/game-night-in-the-garage-2-2/2029-07-25/
LOCATION:The Patio\, 723 Rigsbee Ave\, Durham\, NC\, 27701\, United States
ATTACH;FMTTYPE=image/png:https://partsnlabor.com/wp-content/uploads/2024/02/game-night-5.5-x-4.25-in.png
END:VEVENT
BEGIN:VEVENT
DTSTART;TZID=America/New_York:20290801T180000
DTEND;TZID=America/New_York:20290801T230000
DTSTAMP:20260424T181843
CREATED:20240208T050809Z
LAST-MODIFIED:20250922T004654Z
UID:10001308-1880301600-1880319600@partsnlabor.com
SUMMARY:Game Night in the Garage!
DESCRIPTION:JOIN US every Wednesday evening for game night in the garage! All are welcome to gather with friends around their favorite board\, card\, or word game. We’ll have a weekly rotation of food & drinks on special\, and a select number of games behind the bar for use. Get out of your living room and into the garage to enjoy a fun-filled evening at Parts&Labor! All ages welcome.
URL:https://partsnlabor.com/event/game-night-in-the-garage-2-2/2029-08-01/
LOCATION:The Patio\, 723 Rigsbee Ave\, Durham\, NC\, 27701\, United States
ATTACH;FMTTYPE=image/png:https://partsnlabor.com/wp-content/uploads/2024/02/game-night-5.5-x-4.25-in.png
END:VEVENT
BEGIN:VEVENT
DTSTART;TZID=America/New_York:20290808T180000
DTEND;TZID=America/New_York:20290808T230000
DTSTAMP:20260424T181843
CREATED:20240208T050809Z
LAST-MODIFIED:20250922T004654Z
UID:10001309-1880906400-1880924400@partsnlabor.com
SUMMARY:Game Night in the Garage!
DESCRIPTION:JOIN US every Wednesday evening for game night in the garage! All are welcome to gather with friends around their favorite board\, card\, or word game. We’ll have a weekly rotation of food & drinks on special\, and a select number of games behind the bar for use. Get out of your living room and into the garage to enjoy a fun-filled evening at Parts&Labor! All ages welcome.
URL:https://partsnlabor.com/event/game-night-in-the-garage-2-2/2029-08-08/
LOCATION:The Patio\, 723 Rigsbee Ave\, Durham\, NC\, 27701\, United States
ATTACH;FMTTYPE=image/png:https://partsnlabor.com/wp-content/uploads/2024/02/game-night-5.5-x-4.25-in.png
END:VEVENT
BEGIN:VEVENT
DTSTART;TZID=America/New_York:20290815T180000
DTEND;TZID=America/New_York:20290815T230000
DTSTAMP:20260424T181843
CREATED:20240208T050809Z
LAST-MODIFIED:20250922T004654Z
UID:10001310-1881511200-1881529200@partsnlabor.com
SUMMARY:Game Night in the Garage!
DESCRIPTION:JOIN US every Wednesday evening for game night in the garage! All are welcome to gather with friends around their favorite board\, card\, or word game. We’ll have a weekly rotation of food & drinks on special\, and a select number of games behind the bar for use. Get out of your living room and into the garage to enjoy a fun-filled evening at Parts&Labor! All ages welcome.
URL:https://partsnlabor.com/event/game-night-in-the-garage-2-2/2029-08-15/
LOCATION:The Patio\, 723 Rigsbee Ave\, Durham\, NC\, 27701\, United States
ATTACH;FMTTYPE=image/png:https://partsnlabor.com/wp-content/uploads/2024/02/game-night-5.5-x-4.25-in.png
END:VEVENT
BEGIN:VEVENT
DTSTART;TZID=America/New_York:20290822T180000
DTEND;TZID=America/New_York:20290822T230000
DTSTAMP:20260424T181843
CREATED:20240208T050809Z
LAST-MODIFIED:20250922T004654Z
UID:10001311-1882116000-1882134000@partsnlabor.com
SUMMARY:Game Night in the Garage!
DESCRIPTION:JOIN US every Wednesday evening for game night in the garage! All are welcome to gather with friends around their favorite board\, card\, or word game. We’ll have a weekly rotation of food & drinks on special\, and a select number of games behind the bar for use. Get out of your living room and into the garage to enjoy a fun-filled evening at Parts&Labor! All ages welcome.
URL:https://partsnlabor.com/event/game-night-in-the-garage-2-2/2029-08-22/
LOCATION:The Patio\, 723 Rigsbee Ave\, Durham\, NC\, 27701\, United States
ATTACH;FMTTYPE=image/png:https://partsnlabor.com/wp-content/uploads/2024/02/game-night-5.5-x-4.25-in.png
END:VEVENT
END:VCALENDAR