BEGIN:VCALENDAR
VERSION:2.0
PRODID:-//Parts&amp;Labor - ECPv6.9.0//NONSGML v1.0//EN
CALSCALE:GREGORIAN
METHOD:PUBLISH
X-ORIGINAL-URL:https://partsnlabor.com
X-WR-CALDESC:Events for Parts&amp;Labor
REFRESH-INTERVAL;VALUE=DURATION:PT1H
X-Robots-Tag:noindex
X-PUBLISHED-TTL:PT1H
BEGIN:VTIMEZONE
TZID:America/New_York
BEGIN:DAYLIGHT
TZOFFSETFROM:-0500
TZOFFSETTO:-0400
TZNAME:EDT
DTSTART:20250309T070000
END:DAYLIGHT
BEGIN:STANDARD
TZOFFSETFROM:-0400
TZOFFSETTO:-0500
TZNAME:EST
DTSTART:20251102T060000
END:STANDARD
BEGIN:DAYLIGHT
TZOFFSETFROM:-0500
TZOFFSETTO:-0400
TZNAME:EDT
DTSTART:20260308T070000
END:DAYLIGHT
BEGIN:STANDARD
TZOFFSETFROM:-0400
TZOFFSETTO:-0500
TZNAME:EST
DTSTART:20261101T060000
END:STANDARD
END:VTIMEZONE
BEGIN:VEVENT
DTSTART;TZID=America/New_York:20260414T190000
DTEND;TZID=America/New_York:20260414T210000
DTSTAMP:20260423T113324
CREATED:20231230T013450Z
LAST-MODIFIED:20241209T030342Z
UID:10000091-1776193200-1776200400@partsnlabor.com
SUMMARY:Tuesday Night Bike Ride
DESCRIPTION:The Tuesday night bike ride meets at Bullseye Bicycle\, 102 Morris Street Downtown Durham at 7PM\, with a route ride out at 7:30PM\, rain or shine! Ride is usually around 2 hours and meets back at Parts & Labor for festivities. A $25 gift card to Parts & Labor is raffled off every week – Join us!
URL:https://partsnlabor.com/event/tuesday-bike-night-ride/2026-04-14/
LOCATION:Bullseye Bicycle\, 102 Morris Street\, Durham\, NC\, 27701\, United States
ATTACH;FMTTYPE=image/jpeg:https://partsnlabor.com/wp-content/uploads/2023/12/bike-on-the-bull.jpg
END:VEVENT
BEGIN:VEVENT
DTSTART;TZID=America/New_York:20260407T190000
DTEND;TZID=America/New_York:20260407T210000
DTSTAMP:20260423T113324
CREATED:20231230T013450Z
LAST-MODIFIED:20241209T030342Z
UID:10000090-1775588400-1775595600@partsnlabor.com
SUMMARY:Tuesday Night Bike Ride
DESCRIPTION:The Tuesday night bike ride meets at Bullseye Bicycle\, 102 Morris Street Downtown Durham at 7PM\, with a route ride out at 7:30PM\, rain or shine! Ride is usually around 2 hours and meets back at Parts & Labor for festivities. A $25 gift card to Parts & Labor is raffled off every week – Join us!
URL:https://partsnlabor.com/event/tuesday-bike-night-ride/2026-04-07/
LOCATION:Bullseye Bicycle\, 102 Morris Street\, Durham\, NC\, 27701\, United States
ATTACH;FMTTYPE=image/jpeg:https://partsnlabor.com/wp-content/uploads/2023/12/bike-on-the-bull.jpg
END:VEVENT
BEGIN:VEVENT
DTSTART;TZID=America/New_York:20260331T190000
DTEND;TZID=America/New_York:20260331T210000
DTSTAMP:20260423T113324
CREATED:20231230T013450Z
LAST-MODIFIED:20241209T030342Z
UID:10000089-1774983600-1774990800@partsnlabor.com
SUMMARY:Tuesday Night Bike Ride
DESCRIPTION:The Tuesday night bike ride meets at Bullseye Bicycle\, 102 Morris Street Downtown Durham at 7PM\, with a route ride out at 7:30PM\, rain or shine! Ride is usually around 2 hours and meets back at Parts & Labor for festivities. A $25 gift card to Parts & Labor is raffled off every week – Join us!
URL:https://partsnlabor.com/event/tuesday-bike-night-ride/2026-03-31/
LOCATION:Bullseye Bicycle\, 102 Morris Street\, Durham\, NC\, 27701\, United States
ATTACH;FMTTYPE=image/jpeg:https://partsnlabor.com/wp-content/uploads/2023/12/bike-on-the-bull.jpg
END:VEVENT
BEGIN:VEVENT
DTSTART;TZID=America/New_York:20260317T190000
DTEND;TZID=America/New_York:20260317T210000
DTSTAMP:20260423T113324
CREATED:20231230T013450Z
LAST-MODIFIED:20241209T030342Z
UID:10000088-1773774000-1773781200@partsnlabor.com
SUMMARY:Tuesday Night Bike Ride
DESCRIPTION:The Tuesday night bike ride meets at Bullseye Bicycle\, 102 Morris Street Downtown Durham at 7PM\, with a route ride out at 7:30PM\, rain or shine! Ride is usually around 2 hours and meets back at Parts & Labor for festivities. A $25 gift card to Parts & Labor is raffled off every week – Join us!
URL:https://partsnlabor.com/event/tuesday-bike-night-ride/2026-03-17/
LOCATION:Bullseye Bicycle\, 102 Morris Street\, Durham\, NC\, 27701\, United States
ATTACH;FMTTYPE=image/jpeg:https://partsnlabor.com/wp-content/uploads/2023/12/bike-on-the-bull.jpg
END:VEVENT
BEGIN:VEVENT
DTSTART;TZID=America/New_York:20260310T190000
DTEND;TZID=America/New_York:20260310T210000
DTSTAMP:20260423T113324
CREATED:20231230T013450Z
LAST-MODIFIED:20241209T030342Z
UID:10000087-1773169200-1773176400@partsnlabor.com
SUMMARY:Tuesday Night Bike Ride
DESCRIPTION:The Tuesday night bike ride meets at Bullseye Bicycle\, 102 Morris Street Downtown Durham at 7PM\, with a route ride out at 7:30PM\, rain or shine! Ride is usually around 2 hours and meets back at Parts & Labor for festivities. A $25 gift card to Parts & Labor is raffled off every week – Join us!
URL:https://partsnlabor.com/event/tuesday-bike-night-ride/2026-03-10/
LOCATION:Bullseye Bicycle\, 102 Morris Street\, Durham\, NC\, 27701\, United States
ATTACH;FMTTYPE=image/jpeg:https://partsnlabor.com/wp-content/uploads/2023/12/bike-on-the-bull.jpg
END:VEVENT
BEGIN:VEVENT
DTSTART;TZID=America/New_York:20260303T190000
DTEND;TZID=America/New_York:20260303T210000
DTSTAMP:20260423T113324
CREATED:20231230T013450Z
LAST-MODIFIED:20241209T030342Z
UID:10000086-1772564400-1772571600@partsnlabor.com
SUMMARY:Tuesday Night Bike Ride
DESCRIPTION:The Tuesday night bike ride meets at Bullseye Bicycle\, 102 Morris Street Downtown Durham at 7PM\, with a route ride out at 7:30PM\, rain or shine! Ride is usually around 2 hours and meets back at Parts & Labor for festivities. A $25 gift card to Parts & Labor is raffled off every week – Join us!
URL:https://partsnlabor.com/event/tuesday-bike-night-ride/2026-03-03/
LOCATION:Bullseye Bicycle\, 102 Morris Street\, Durham\, NC\, 27701\, United States
ATTACH;FMTTYPE=image/jpeg:https://partsnlabor.com/wp-content/uploads/2023/12/bike-on-the-bull.jpg
END:VEVENT
BEGIN:VEVENT
DTSTART;TZID=America/New_York:20260217T190000
DTEND;TZID=America/New_York:20260217T210000
DTSTAMP:20260423T113324
CREATED:20231230T013450Z
LAST-MODIFIED:20241209T030342Z
UID:10000085-1771354800-1771362000@partsnlabor.com
SUMMARY:Tuesday Night Bike Ride
DESCRIPTION:The Tuesday night bike ride meets at Bullseye Bicycle\, 102 Morris Street Downtown Durham at 7PM\, with a route ride out at 7:30PM\, rain or shine! Ride is usually around 2 hours and meets back at Parts & Labor for festivities. A $25 gift card to Parts & Labor is raffled off every week – Join us!
URL:https://partsnlabor.com/event/tuesday-bike-night-ride/2026-02-17/
LOCATION:Bullseye Bicycle\, 102 Morris Street\, Durham\, NC\, 27701\, United States
ATTACH;FMTTYPE=image/jpeg:https://partsnlabor.com/wp-content/uploads/2023/12/bike-on-the-bull.jpg
END:VEVENT
BEGIN:VEVENT
DTSTART;TZID=America/New_York:20260210T190000
DTEND;TZID=America/New_York:20260210T210000
DTSTAMP:20260423T113324
CREATED:20231230T013450Z
LAST-MODIFIED:20241209T030342Z
UID:10000084-1770750000-1770757200@partsnlabor.com
SUMMARY:Tuesday Night Bike Ride
DESCRIPTION:The Tuesday night bike ride meets at Bullseye Bicycle\, 102 Morris Street Downtown Durham at 7PM\, with a route ride out at 7:30PM\, rain or shine! Ride is usually around 2 hours and meets back at Parts & Labor for festivities. A $25 gift card to Parts & Labor is raffled off every week – Join us!
URL:https://partsnlabor.com/event/tuesday-bike-night-ride/2026-02-10/
LOCATION:Bullseye Bicycle\, 102 Morris Street\, Durham\, NC\, 27701\, United States
ATTACH;FMTTYPE=image/jpeg:https://partsnlabor.com/wp-content/uploads/2023/12/bike-on-the-bull.jpg
END:VEVENT
BEGIN:VEVENT
DTSTART;TZID=America/New_York:20260203T190000
DTEND;TZID=America/New_York:20260203T210000
DTSTAMP:20260423T113324
CREATED:20231230T013450Z
LAST-MODIFIED:20241209T030342Z
UID:10000083-1770145200-1770152400@partsnlabor.com
SUMMARY:Tuesday Night Bike Ride
DESCRIPTION:The Tuesday night bike ride meets at Bullseye Bicycle\, 102 Morris Street Downtown Durham at 7PM\, with a route ride out at 7:30PM\, rain or shine! Ride is usually around 2 hours and meets back at Parts & Labor for festivities. A $25 gift card to Parts & Labor is raffled off every week – Join us!
URL:https://partsnlabor.com/event/tuesday-bike-night-ride/2026-02-03/
LOCATION:Bullseye Bicycle\, 102 Morris Street\, Durham\, NC\, 27701\, United States
ATTACH;FMTTYPE=image/jpeg:https://partsnlabor.com/wp-content/uploads/2023/12/bike-on-the-bull.jpg
END:VEVENT
BEGIN:VEVENT
DTSTART;TZID=America/New_York:20260120T190000
DTEND;TZID=America/New_York:20260120T210000
DTSTAMP:20260423T113324
CREATED:20231230T013450Z
LAST-MODIFIED:20241209T030342Z
UID:10000082-1768935600-1768942800@partsnlabor.com
SUMMARY:Tuesday Night Bike Ride
DESCRIPTION:The Tuesday night bike ride meets at Bullseye Bicycle\, 102 Morris Street Downtown Durham at 7PM\, with a route ride out at 7:30PM\, rain or shine! Ride is usually around 2 hours and meets back at Parts & Labor for festivities. A $25 gift card to Parts & Labor is raffled off every week – Join us!
URL:https://partsnlabor.com/event/tuesday-bike-night-ride/2026-01-20/
LOCATION:Bullseye Bicycle\, 102 Morris Street\, Durham\, NC\, 27701\, United States
ATTACH;FMTTYPE=image/jpeg:https://partsnlabor.com/wp-content/uploads/2023/12/bike-on-the-bull.jpg
END:VEVENT
BEGIN:VEVENT
DTSTART;TZID=America/New_York:20260113T190000
DTEND;TZID=America/New_York:20260113T210000
DTSTAMP:20260423T113324
CREATED:20231230T013450Z
LAST-MODIFIED:20241209T030342Z
UID:10000081-1768330800-1768338000@partsnlabor.com
SUMMARY:Tuesday Night Bike Ride
DESCRIPTION:The Tuesday night bike ride meets at Bullseye Bicycle\, 102 Morris Street Downtown Durham at 7PM\, with a route ride out at 7:30PM\, rain or shine! Ride is usually around 2 hours and meets back at Parts & Labor for festivities. A $25 gift card to Parts & Labor is raffled off every week – Join us!
URL:https://partsnlabor.com/event/tuesday-bike-night-ride/2026-01-13/
LOCATION:Bullseye Bicycle\, 102 Morris Street\, Durham\, NC\, 27701\, United States
ATTACH;FMTTYPE=image/jpeg:https://partsnlabor.com/wp-content/uploads/2023/12/bike-on-the-bull.jpg
END:VEVENT
BEGIN:VEVENT
DTSTART;TZID=America/New_York:20260106T190000
DTEND;TZID=America/New_York:20260106T210000
DTSTAMP:20260423T113324
CREATED:20231230T013450Z
LAST-MODIFIED:20241209T030342Z
UID:10000080-1767726000-1767733200@partsnlabor.com
SUMMARY:Tuesday Night Bike Ride
DESCRIPTION:The Tuesday night bike ride meets at Bullseye Bicycle\, 102 Morris Street Downtown Durham at 7PM\, with a route ride out at 7:30PM\, rain or shine! Ride is usually around 2 hours and meets back at Parts & Labor for festivities. A $25 gift card to Parts & Labor is raffled off every week – Join us!
URL:https://partsnlabor.com/event/tuesday-bike-night-ride/2026-01-06/
LOCATION:Bullseye Bicycle\, 102 Morris Street\, Durham\, NC\, 27701\, United States
ATTACH;FMTTYPE=image/jpeg:https://partsnlabor.com/wp-content/uploads/2023/12/bike-on-the-bull.jpg
END:VEVENT
BEGIN:VEVENT
DTSTART;TZID=America/New_York:20251223T190000
DTEND;TZID=America/New_York:20251223T210000
DTSTAMP:20260423T113324
CREATED:20231230T013450Z
LAST-MODIFIED:20241209T030342Z
UID:10000079-1766516400-1766523600@partsnlabor.com
SUMMARY:Tuesday Night Bike Ride
DESCRIPTION:The Tuesday night bike ride meets at Bullseye Bicycle\, 102 Morris Street Downtown Durham at 7PM\, with a route ride out at 7:30PM\, rain or shine! Ride is usually around 2 hours and meets back at Parts & Labor for festivities. A $25 gift card to Parts & Labor is raffled off every week – Join us!
URL:https://partsnlabor.com/event/tuesday-bike-night-ride/2025-12-23/
LOCATION:Bullseye Bicycle\, 102 Morris Street\, Durham\, NC\, 27701\, United States
ATTACH;FMTTYPE=image/jpeg:https://partsnlabor.com/wp-content/uploads/2023/12/bike-on-the-bull.jpg
END:VEVENT
BEGIN:VEVENT
DTSTART;TZID=America/New_York:20251216T190000
DTEND;TZID=America/New_York:20251216T210000
DTSTAMP:20260423T113324
CREATED:20231230T013450Z
LAST-MODIFIED:20241209T030342Z
UID:10000078-1765911600-1765918800@partsnlabor.com
SUMMARY:Tuesday Night Bike Ride
DESCRIPTION:The Tuesday night bike ride meets at Bullseye Bicycle\, 102 Morris Street Downtown Durham at 7PM\, with a route ride out at 7:30PM\, rain or shine! Ride is usually around 2 hours and meets back at Parts & Labor for festivities. A $25 gift card to Parts & Labor is raffled off every week – Join us!
URL:https://partsnlabor.com/event/tuesday-bike-night-ride/2025-12-16/
LOCATION:Bullseye Bicycle\, 102 Morris Street\, Durham\, NC\, 27701\, United States
ATTACH;FMTTYPE=image/jpeg:https://partsnlabor.com/wp-content/uploads/2023/12/bike-on-the-bull.jpg
END:VEVENT
BEGIN:VEVENT
DTSTART;TZID=America/New_York:20251209T190000
DTEND;TZID=America/New_York:20251209T210000
DTSTAMP:20260423T113324
CREATED:20231230T013450Z
LAST-MODIFIED:20241209T030342Z
UID:10000077-1765306800-1765314000@partsnlabor.com
SUMMARY:Tuesday Night Bike Ride
DESCRIPTION:The Tuesday night bike ride meets at Bullseye Bicycle\, 102 Morris Street Downtown Durham at 7PM\, with a route ride out at 7:30PM\, rain or shine! Ride is usually around 2 hours and meets back at Parts & Labor for festivities. A $25 gift card to Parts & Labor is raffled off every week – Join us!
URL:https://partsnlabor.com/event/tuesday-bike-night-ride/2025-12-09/
LOCATION:Bullseye Bicycle\, 102 Morris Street\, Durham\, NC\, 27701\, United States
ATTACH;FMTTYPE=image/jpeg:https://partsnlabor.com/wp-content/uploads/2023/12/bike-on-the-bull.jpg
END:VEVENT
BEGIN:VEVENT
DTSTART;TZID=America/New_York:20251125T190000
DTEND;TZID=America/New_York:20251125T210000
DTSTAMP:20260423T113324
CREATED:20231230T013450Z
LAST-MODIFIED:20241209T030342Z
UID:10000076-1764097200-1764104400@partsnlabor.com
SUMMARY:Tuesday Night Bike Ride
DESCRIPTION:The Tuesday night bike ride meets at Bullseye Bicycle\, 102 Morris Street Downtown Durham at 7PM\, with a route ride out at 7:30PM\, rain or shine! Ride is usually around 2 hours and meets back at Parts & Labor for festivities. A $25 gift card to Parts & Labor is raffled off every week – Join us!
URL:https://partsnlabor.com/event/tuesday-bike-night-ride/2025-11-25/
LOCATION:Bullseye Bicycle\, 102 Morris Street\, Durham\, NC\, 27701\, United States
ATTACH;FMTTYPE=image/jpeg:https://partsnlabor.com/wp-content/uploads/2023/12/bike-on-the-bull.jpg
END:VEVENT
BEGIN:VEVENT
DTSTART;TZID=America/New_York:20251118T190000
DTEND;TZID=America/New_York:20251118T210000
DTSTAMP:20260423T113324
CREATED:20231230T013450Z
LAST-MODIFIED:20241209T030342Z
UID:10000075-1763492400-1763499600@partsnlabor.com
SUMMARY:Tuesday Night Bike Ride
DESCRIPTION:The Tuesday night bike ride meets at Bullseye Bicycle\, 102 Morris Street Downtown Durham at 7PM\, with a route ride out at 7:30PM\, rain or shine! Ride is usually around 2 hours and meets back at Parts & Labor for festivities. A $25 gift card to Parts & Labor is raffled off every week – Join us!
URL:https://partsnlabor.com/event/tuesday-bike-night-ride/2025-11-18/
LOCATION:Bullseye Bicycle\, 102 Morris Street\, Durham\, NC\, 27701\, United States
ATTACH;FMTTYPE=image/jpeg:https://partsnlabor.com/wp-content/uploads/2023/12/bike-on-the-bull.jpg
END:VEVENT
BEGIN:VEVENT
DTSTART;TZID=America/New_York:20251111T190000
DTEND;TZID=America/New_York:20251111T210000
DTSTAMP:20260423T113324
CREATED:20231230T013450Z
LAST-MODIFIED:20241209T030342Z
UID:10000074-1762887600-1762894800@partsnlabor.com
SUMMARY:Tuesday Night Bike Ride
DESCRIPTION:The Tuesday night bike ride meets at Bullseye Bicycle\, 102 Morris Street Downtown Durham at 7PM\, with a route ride out at 7:30PM\, rain or shine! Ride is usually around 2 hours and meets back at Parts & Labor for festivities. A $25 gift card to Parts & Labor is raffled off every week – Join us!
URL:https://partsnlabor.com/event/tuesday-bike-night-ride/2025-11-11/
LOCATION:Bullseye Bicycle\, 102 Morris Street\, Durham\, NC\, 27701\, United States
ATTACH;FMTTYPE=image/jpeg:https://partsnlabor.com/wp-content/uploads/2023/12/bike-on-the-bull.jpg
END:VEVENT
BEGIN:VEVENT
DTSTART;TZID=America/New_York:20251028T190000
DTEND;TZID=America/New_York:20251028T210000
DTSTAMP:20260423T113324
CREATED:20231230T013450Z
LAST-MODIFIED:20241209T030342Z
UID:10000073-1761678000-1761685200@partsnlabor.com
SUMMARY:Tuesday Night Bike Ride
DESCRIPTION:The Tuesday night bike ride meets at Bullseye Bicycle\, 102 Morris Street Downtown Durham at 7PM\, with a route ride out at 7:30PM\, rain or shine! Ride is usually around 2 hours and meets back at Parts & Labor for festivities. A $25 gift card to Parts & Labor is raffled off every week – Join us!
URL:https://partsnlabor.com/event/tuesday-bike-night-ride/2025-10-28/
LOCATION:Bullseye Bicycle\, 102 Morris Street\, Durham\, NC\, 27701\, United States
ATTACH;FMTTYPE=image/jpeg:https://partsnlabor.com/wp-content/uploads/2023/12/bike-on-the-bull.jpg
END:VEVENT
BEGIN:VEVENT
DTSTART;TZID=America/New_York:20251021T190000
DTEND;TZID=America/New_York:20251021T210000
DTSTAMP:20260423T113324
CREATED:20231230T013450Z
LAST-MODIFIED:20241209T030342Z
UID:10000072-1761073200-1761080400@partsnlabor.com
SUMMARY:Tuesday Night Bike Ride
DESCRIPTION:The Tuesday night bike ride meets at Bullseye Bicycle\, 102 Morris Street Downtown Durham at 7PM\, with a route ride out at 7:30PM\, rain or shine! Ride is usually around 2 hours and meets back at Parts & Labor for festivities. A $25 gift card to Parts & Labor is raffled off every week – Join us!
URL:https://partsnlabor.com/event/tuesday-bike-night-ride/2025-10-21/
LOCATION:Bullseye Bicycle\, 102 Morris Street\, Durham\, NC\, 27701\, United States
ATTACH;FMTTYPE=image/jpeg:https://partsnlabor.com/wp-content/uploads/2023/12/bike-on-the-bull.jpg
END:VEVENT
BEGIN:VEVENT
DTSTART;TZID=America/New_York:20251014T190000
DTEND;TZID=America/New_York:20251014T210000
DTSTAMP:20260423T113324
CREATED:20231230T013450Z
LAST-MODIFIED:20241209T030342Z
UID:10000071-1760468400-1760475600@partsnlabor.com
SUMMARY:Tuesday Night Bike Ride
DESCRIPTION:The Tuesday night bike ride meets at Bullseye Bicycle\, 102 Morris Street Downtown Durham at 7PM\, with a route ride out at 7:30PM\, rain or shine! Ride is usually around 2 hours and meets back at Parts & Labor for festivities. A $25 gift card to Parts & Labor is raffled off every week – Join us!
URL:https://partsnlabor.com/event/tuesday-bike-night-ride/2025-10-14/
LOCATION:Bullseye Bicycle\, 102 Morris Street\, Durham\, NC\, 27701\, United States
ATTACH;FMTTYPE=image/jpeg:https://partsnlabor.com/wp-content/uploads/2023/12/bike-on-the-bull.jpg
END:VEVENT
BEGIN:VEVENT
DTSTART;TZID=America/New_York:20250930T190000
DTEND;TZID=America/New_York:20250930T210000
DTSTAMP:20260423T113324
CREATED:20231230T013450Z
LAST-MODIFIED:20241209T030342Z
UID:10000070-1759258800-1759266000@partsnlabor.com
SUMMARY:Tuesday Night Bike Ride
DESCRIPTION:The Tuesday night bike ride meets at Bullseye Bicycle\, 102 Morris Street Downtown Durham at 7PM\, with a route ride out at 7:30PM\, rain or shine! Ride is usually around 2 hours and meets back at Parts & Labor for festivities. A $25 gift card to Parts & Labor is raffled off every week – Join us!
URL:https://partsnlabor.com/event/tuesday-bike-night-ride/2025-09-30/
LOCATION:Bullseye Bicycle\, 102 Morris Street\, Durham\, NC\, 27701\, United States
ATTACH;FMTTYPE=image/jpeg:https://partsnlabor.com/wp-content/uploads/2023/12/bike-on-the-bull.jpg
END:VEVENT
BEGIN:VEVENT
DTSTART;TZID=America/New_York:20250923T190000
DTEND;TZID=America/New_York:20250923T210000
DTSTAMP:20260423T113324
CREATED:20231230T013450Z
LAST-MODIFIED:20241209T030342Z
UID:10000069-1758654000-1758661200@partsnlabor.com
SUMMARY:Tuesday Night Bike Ride
DESCRIPTION:The Tuesday night bike ride meets at Bullseye Bicycle\, 102 Morris Street Downtown Durham at 7PM\, with a route ride out at 7:30PM\, rain or shine! Ride is usually around 2 hours and meets back at Parts & Labor for festivities. A $25 gift card to Parts & Labor is raffled off every week – Join us!
URL:https://partsnlabor.com/event/tuesday-bike-night-ride/2025-09-23/
LOCATION:Bullseye Bicycle\, 102 Morris Street\, Durham\, NC\, 27701\, United States
ATTACH;FMTTYPE=image/jpeg:https://partsnlabor.com/wp-content/uploads/2023/12/bike-on-the-bull.jpg
END:VEVENT
BEGIN:VEVENT
DTSTART;TZID=America/New_York:20250916T190000
DTEND;TZID=America/New_York:20250916T210000
DTSTAMP:20260423T113324
CREATED:20231230T013450Z
LAST-MODIFIED:20241209T030342Z
UID:10000068-1758049200-1758056400@partsnlabor.com
SUMMARY:Tuesday Night Bike Ride
DESCRIPTION:The Tuesday night bike ride meets at Bullseye Bicycle\, 102 Morris Street Downtown Durham at 7PM\, with a route ride out at 7:30PM\, rain or shine! Ride is usually around 2 hours and meets back at Parts & Labor for festivities. A $25 gift card to Parts & Labor is raffled off every week – Join us!
URL:https://partsnlabor.com/event/tuesday-bike-night-ride/2025-09-16/
LOCATION:Bullseye Bicycle\, 102 Morris Street\, Durham\, NC\, 27701\, United States
ATTACH;FMTTYPE=image/jpeg:https://partsnlabor.com/wp-content/uploads/2023/12/bike-on-the-bull.jpg
END:VEVENT
BEGIN:VEVENT
DTSTART;TZID=America/New_York:20250902T190000
DTEND;TZID=America/New_York:20250902T210000
DTSTAMP:20260423T113324
CREATED:20231230T013450Z
LAST-MODIFIED:20241209T030342Z
UID:10000067-1756839600-1756846800@partsnlabor.com
SUMMARY:Tuesday Night Bike Ride
DESCRIPTION:The Tuesday night bike ride meets at Bullseye Bicycle\, 102 Morris Street Downtown Durham at 7PM\, with a route ride out at 7:30PM\, rain or shine! Ride is usually around 2 hours and meets back at Parts & Labor for festivities. A $25 gift card to Parts & Labor is raffled off every week – Join us!
URL:https://partsnlabor.com/event/tuesday-bike-night-ride/2025-09-02/
LOCATION:Bullseye Bicycle\, 102 Morris Street\, Durham\, NC\, 27701\, United States
ATTACH;FMTTYPE=image/jpeg:https://partsnlabor.com/wp-content/uploads/2023/12/bike-on-the-bull.jpg
END:VEVENT
BEGIN:VEVENT
DTSTART;TZID=America/New_York:20250826T190000
DTEND;TZID=America/New_York:20250826T210000
DTSTAMP:20260423T113324
CREATED:20231230T013450Z
LAST-MODIFIED:20241209T030342Z
UID:10000066-1756234800-1756242000@partsnlabor.com
SUMMARY:Tuesday Night Bike Ride
DESCRIPTION:The Tuesday night bike ride meets at Bullseye Bicycle\, 102 Morris Street Downtown Durham at 7PM\, with a route ride out at 7:30PM\, rain or shine! Ride is usually around 2 hours and meets back at Parts & Labor for festivities. A $25 gift card to Parts & Labor is raffled off every week – Join us!
URL:https://partsnlabor.com/event/tuesday-bike-night-ride/2025-08-26/
LOCATION:Bullseye Bicycle\, 102 Morris Street\, Durham\, NC\, 27701\, United States
ATTACH;FMTTYPE=image/jpeg:https://partsnlabor.com/wp-content/uploads/2023/12/bike-on-the-bull.jpg
END:VEVENT
BEGIN:VEVENT
DTSTART;TZID=America/New_York:20250819T190000
DTEND;TZID=America/New_York:20250819T210000
DTSTAMP:20260423T113324
CREATED:20231230T013450Z
LAST-MODIFIED:20241209T030342Z
UID:10000065-1755630000-1755637200@partsnlabor.com
SUMMARY:Tuesday Night Bike Ride
DESCRIPTION:The Tuesday night bike ride meets at Bullseye Bicycle\, 102 Morris Street Downtown Durham at 7PM\, with a route ride out at 7:30PM\, rain or shine! Ride is usually around 2 hours and meets back at Parts & Labor for festivities. A $25 gift card to Parts & Labor is raffled off every week – Join us!
URL:https://partsnlabor.com/event/tuesday-bike-night-ride/2025-08-19/
LOCATION:Bullseye Bicycle\, 102 Morris Street\, Durham\, NC\, 27701\, United States
ATTACH;FMTTYPE=image/jpeg:https://partsnlabor.com/wp-content/uploads/2023/12/bike-on-the-bull.jpg
END:VEVENT
BEGIN:VEVENT
DTSTART;TZID=America/New_York:20250805T190000
DTEND;TZID=America/New_York:20250805T210000
DTSTAMP:20260423T113324
CREATED:20231230T013450Z
LAST-MODIFIED:20241209T030342Z
UID:10000064-1754420400-1754427600@partsnlabor.com
SUMMARY:Tuesday Night Bike Ride
DESCRIPTION:The Tuesday night bike ride meets at Bullseye Bicycle\, 102 Morris Street Downtown Durham at 7PM\, with a route ride out at 7:30PM\, rain or shine! Ride is usually around 2 hours and meets back at Parts & Labor for festivities. A $25 gift card to Parts & Labor is raffled off every week – Join us!
URL:https://partsnlabor.com/event/tuesday-bike-night-ride/2025-08-05/
LOCATION:Bullseye Bicycle\, 102 Morris Street\, Durham\, NC\, 27701\, United States
ATTACH;FMTTYPE=image/jpeg:https://partsnlabor.com/wp-content/uploads/2023/12/bike-on-the-bull.jpg
END:VEVENT
BEGIN:VEVENT
DTSTART;TZID=America/New_York:20250729T190000
DTEND;TZID=America/New_York:20250729T210000
DTSTAMP:20260423T113324
CREATED:20231230T013450Z
LAST-MODIFIED:20241209T030342Z
UID:10000063-1753815600-1753822800@partsnlabor.com
SUMMARY:Tuesday Night Bike Ride
DESCRIPTION:The Tuesday night bike ride meets at Bullseye Bicycle\, 102 Morris Street Downtown Durham at 7PM\, with a route ride out at 7:30PM\, rain or shine! Ride is usually around 2 hours and meets back at Parts & Labor for festivities. A $25 gift card to Parts & Labor is raffled off every week – Join us!
URL:https://partsnlabor.com/event/tuesday-bike-night-ride/2025-07-29/
LOCATION:Bullseye Bicycle\, 102 Morris Street\, Durham\, NC\, 27701\, United States
ATTACH;FMTTYPE=image/jpeg:https://partsnlabor.com/wp-content/uploads/2023/12/bike-on-the-bull.jpg
END:VEVENT
BEGIN:VEVENT
DTSTART;TZID=America/New_York:20250722T190000
DTEND;TZID=America/New_York:20250722T210000
DTSTAMP:20260423T113324
CREATED:20231230T013450Z
LAST-MODIFIED:20241209T030342Z
UID:10000062-1753210800-1753218000@partsnlabor.com
SUMMARY:Tuesday Night Bike Ride
DESCRIPTION:The Tuesday night bike ride meets at Bullseye Bicycle\, 102 Morris Street Downtown Durham at 7PM\, with a route ride out at 7:30PM\, rain or shine! Ride is usually around 2 hours and meets back at Parts & Labor for festivities. A $25 gift card to Parts & Labor is raffled off every week – Join us!
URL:https://partsnlabor.com/event/tuesday-bike-night-ride/2025-07-22/
LOCATION:Bullseye Bicycle\, 102 Morris Street\, Durham\, NC\, 27701\, United States
ATTACH;FMTTYPE=image/jpeg:https://partsnlabor.com/wp-content/uploads/2023/12/bike-on-the-bull.jpg
END:VEVENT
END:VCALENDAR