BEGIN:VCALENDAR
VERSION:2.0
PRODID:-//Parts&amp;Labor - ECPv6.9.0//NONSGML v1.0//EN
CALSCALE:GREGORIAN
METHOD:PUBLISH
X-ORIGINAL-URL:https://partsnlabor.com
X-WR-CALDESC:Events for Parts&amp;Labor
REFRESH-INTERVAL;VALUE=DURATION:PT1H
X-Robots-Tag:noindex
X-PUBLISHED-TTL:PT1H
BEGIN:VTIMEZONE
TZID:America/New_York
BEGIN:DAYLIGHT
TZOFFSETFROM:-0500
TZOFFSETTO:-0400
TZNAME:EDT
DTSTART:20240310T070000
END:DAYLIGHT
BEGIN:STANDARD
TZOFFSETFROM:-0400
TZOFFSETTO:-0500
TZNAME:EST
DTSTART:20241103T060000
END:STANDARD
END:VTIMEZONE
BEGIN:VEVENT
DTSTART;TZID=America/New_York:20241001T190000
DTEND;TZID=America/New_York:20241001T210000
DTSTAMP:20260423T172923
CREATED:20231230T013450Z
LAST-MODIFIED:20241209T030342Z
UID:10000031-1727809200-1727816400@partsnlabor.com
SUMMARY:Tuesday Night Bike Ride
DESCRIPTION:The Tuesday night bike ride meets at Bullseye Bicycle\, 102 Morris Street Downtown Durham at 7PM\, with a route ride out at 7:30PM\, rain or shine! Ride is usually around 2 hours and meets back at Parts & Labor for festivities. A $25 gift card to Parts & Labor is raffled off every week – Join us!
URL:https://partsnlabor.com/event/tuesday-bike-night-ride/2024-10-01/
LOCATION:Bullseye Bicycle\, 102 Morris Street\, Durham\, NC\, 27701\, United States
ATTACH;FMTTYPE=image/jpeg:https://partsnlabor.com/wp-content/uploads/2023/12/bike-on-the-bull.jpg
END:VEVENT
BEGIN:VEVENT
DTSTART;TZID=America/New_York:20240924T190000
DTEND;TZID=America/New_York:20240924T210000
DTSTAMP:20260423T172923
CREATED:20231230T013450Z
LAST-MODIFIED:20241209T030342Z
UID:10000030-1727204400-1727211600@partsnlabor.com
SUMMARY:Tuesday Night Bike Ride
DESCRIPTION:The Tuesday night bike ride meets at Bullseye Bicycle\, 102 Morris Street Downtown Durham at 7PM\, with a route ride out at 7:30PM\, rain or shine! Ride is usually around 2 hours and meets back at Parts & Labor for festivities. A $25 gift card to Parts & Labor is raffled off every week – Join us!
URL:https://partsnlabor.com/event/tuesday-bike-night-ride/2024-09-24/
LOCATION:Bullseye Bicycle\, 102 Morris Street\, Durham\, NC\, 27701\, United States
ATTACH;FMTTYPE=image/jpeg:https://partsnlabor.com/wp-content/uploads/2023/12/bike-on-the-bull.jpg
END:VEVENT
BEGIN:VEVENT
DTSTART;TZID=America/New_York:20240917T190000
DTEND;TZID=America/New_York:20240917T210000
DTSTAMP:20260423T172923
CREATED:20231230T013450Z
LAST-MODIFIED:20241209T030342Z
UID:10000029-1726599600-1726606800@partsnlabor.com
SUMMARY:Tuesday Night Bike Ride
DESCRIPTION:The Tuesday night bike ride meets at Bullseye Bicycle\, 102 Morris Street Downtown Durham at 7PM\, with a route ride out at 7:30PM\, rain or shine! Ride is usually around 2 hours and meets back at Parts & Labor for festivities. A $25 gift card to Parts & Labor is raffled off every week – Join us!
URL:https://partsnlabor.com/event/tuesday-bike-night-ride/2024-09-17/
LOCATION:Bullseye Bicycle\, 102 Morris Street\, Durham\, NC\, 27701\, United States
ATTACH;FMTTYPE=image/jpeg:https://partsnlabor.com/wp-content/uploads/2023/12/bike-on-the-bull.jpg
END:VEVENT
BEGIN:VEVENT
DTSTART;TZID=America/New_York:20240903T190000
DTEND;TZID=America/New_York:20240903T210000
DTSTAMP:20260423T172923
CREATED:20231230T013450Z
LAST-MODIFIED:20241209T030342Z
UID:10000028-1725390000-1725397200@partsnlabor.com
SUMMARY:Tuesday Night Bike Ride
DESCRIPTION:The Tuesday night bike ride meets at Bullseye Bicycle\, 102 Morris Street Downtown Durham at 7PM\, with a route ride out at 7:30PM\, rain or shine! Ride is usually around 2 hours and meets back at Parts & Labor for festivities. A $25 gift card to Parts & Labor is raffled off every week – Join us!
URL:https://partsnlabor.com/event/tuesday-bike-night-ride/2024-09-03/
LOCATION:Bullseye Bicycle\, 102 Morris Street\, Durham\, NC\, 27701\, United States
ATTACH;FMTTYPE=image/jpeg:https://partsnlabor.com/wp-content/uploads/2023/12/bike-on-the-bull.jpg
END:VEVENT
BEGIN:VEVENT
DTSTART;TZID=America/New_York:20240827T190000
DTEND;TZID=America/New_York:20240827T210000
DTSTAMP:20260423T172923
CREATED:20231230T013450Z
LAST-MODIFIED:20241209T030342Z
UID:10000027-1724785200-1724792400@partsnlabor.com
SUMMARY:Tuesday Night Bike Ride
DESCRIPTION:The Tuesday night bike ride meets at Bullseye Bicycle\, 102 Morris Street Downtown Durham at 7PM\, with a route ride out at 7:30PM\, rain or shine! Ride is usually around 2 hours and meets back at Parts & Labor for festivities. A $25 gift card to Parts & Labor is raffled off every week – Join us!
URL:https://partsnlabor.com/event/tuesday-bike-night-ride/2024-08-27/
LOCATION:Bullseye Bicycle\, 102 Morris Street\, Durham\, NC\, 27701\, United States
ATTACH;FMTTYPE=image/jpeg:https://partsnlabor.com/wp-content/uploads/2023/12/bike-on-the-bull.jpg
END:VEVENT
BEGIN:VEVENT
DTSTART;TZID=America/New_York:20240820T190000
DTEND;TZID=America/New_York:20240820T210000
DTSTAMP:20260423T172923
CREATED:20231230T013450Z
LAST-MODIFIED:20241209T030342Z
UID:10000026-1724180400-1724187600@partsnlabor.com
SUMMARY:Tuesday Night Bike Ride
DESCRIPTION:The Tuesday night bike ride meets at Bullseye Bicycle\, 102 Morris Street Downtown Durham at 7PM\, with a route ride out at 7:30PM\, rain or shine! Ride is usually around 2 hours and meets back at Parts & Labor for festivities. A $25 gift card to Parts & Labor is raffled off every week – Join us!
URL:https://partsnlabor.com/event/tuesday-bike-night-ride/2024-08-20/
LOCATION:Bullseye Bicycle\, 102 Morris Street\, Durham\, NC\, 27701\, United States
ATTACH;FMTTYPE=image/jpeg:https://partsnlabor.com/wp-content/uploads/2023/12/bike-on-the-bull.jpg
END:VEVENT
BEGIN:VEVENT
DTSTART;TZID=America/New_York:20240806T190000
DTEND;TZID=America/New_York:20240806T210000
DTSTAMP:20260423T172923
CREATED:20231230T013450Z
LAST-MODIFIED:20241209T030342Z
UID:10000025-1722970800-1722978000@partsnlabor.com
SUMMARY:Tuesday Night Bike Ride
DESCRIPTION:The Tuesday night bike ride meets at Bullseye Bicycle\, 102 Morris Street Downtown Durham at 7PM\, with a route ride out at 7:30PM\, rain or shine! Ride is usually around 2 hours and meets back at Parts & Labor for festivities. A $25 gift card to Parts & Labor is raffled off every week – Join us!
URL:https://partsnlabor.com/event/tuesday-bike-night-ride/2024-08-06/
LOCATION:Bullseye Bicycle\, 102 Morris Street\, Durham\, NC\, 27701\, United States
ATTACH;FMTTYPE=image/jpeg:https://partsnlabor.com/wp-content/uploads/2023/12/bike-on-the-bull.jpg
END:VEVENT
BEGIN:VEVENT
DTSTART;TZID=America/New_York:20240730T190000
DTEND;TZID=America/New_York:20240730T210000
DTSTAMP:20260423T172923
CREATED:20231230T013450Z
LAST-MODIFIED:20241209T030342Z
UID:10000024-1722366000-1722373200@partsnlabor.com
SUMMARY:Tuesday Night Bike Ride
DESCRIPTION:The Tuesday night bike ride meets at Bullseye Bicycle\, 102 Morris Street Downtown Durham at 7PM\, with a route ride out at 7:30PM\, rain or shine! Ride is usually around 2 hours and meets back at Parts & Labor for festivities. A $25 gift card to Parts & Labor is raffled off every week – Join us!
URL:https://partsnlabor.com/event/tuesday-bike-night-ride/2024-07-30/
LOCATION:Bullseye Bicycle\, 102 Morris Street\, Durham\, NC\, 27701\, United States
ATTACH;FMTTYPE=image/jpeg:https://partsnlabor.com/wp-content/uploads/2023/12/bike-on-the-bull.jpg
END:VEVENT
BEGIN:VEVENT
DTSTART;TZID=America/New_York:20240723T190000
DTEND;TZID=America/New_York:20240723T210000
DTSTAMP:20260423T172923
CREATED:20231230T013450Z
LAST-MODIFIED:20241209T030342Z
UID:10000023-1721761200-1721768400@partsnlabor.com
SUMMARY:Tuesday Night Bike Ride
DESCRIPTION:The Tuesday night bike ride meets at Bullseye Bicycle\, 102 Morris Street Downtown Durham at 7PM\, with a route ride out at 7:30PM\, rain or shine! Ride is usually around 2 hours and meets back at Parts & Labor for festivities. A $25 gift card to Parts & Labor is raffled off every week – Join us!
URL:https://partsnlabor.com/event/tuesday-bike-night-ride/2024-07-23/
LOCATION:Bullseye Bicycle\, 102 Morris Street\, Durham\, NC\, 27701\, United States
ATTACH;FMTTYPE=image/jpeg:https://partsnlabor.com/wp-content/uploads/2023/12/bike-on-the-bull.jpg
END:VEVENT
BEGIN:VEVENT
DTSTART;TZID=America/New_York:20240709T190000
DTEND;TZID=America/New_York:20240709T210000
DTSTAMP:20260423T172923
CREATED:20231230T013450Z
LAST-MODIFIED:20241209T030342Z
UID:10000022-1720551600-1720558800@partsnlabor.com
SUMMARY:Tuesday Night Bike Ride
DESCRIPTION:The Tuesday night bike ride meets at Bullseye Bicycle\, 102 Morris Street Downtown Durham at 7PM\, with a route ride out at 7:30PM\, rain or shine! Ride is usually around 2 hours and meets back at Parts & Labor for festivities. A $25 gift card to Parts & Labor is raffled off every week – Join us!
URL:https://partsnlabor.com/event/tuesday-bike-night-ride/2024-07-09/
LOCATION:Bullseye Bicycle\, 102 Morris Street\, Durham\, NC\, 27701\, United States
ATTACH;FMTTYPE=image/jpeg:https://partsnlabor.com/wp-content/uploads/2023/12/bike-on-the-bull.jpg
END:VEVENT
BEGIN:VEVENT
DTSTART;TZID=America/New_York:20240702T190000
DTEND;TZID=America/New_York:20240702T210000
DTSTAMP:20260423T172923
CREATED:20231230T013450Z
LAST-MODIFIED:20241209T030342Z
UID:10000021-1719946800-1719954000@partsnlabor.com
SUMMARY:Tuesday Night Bike Ride
DESCRIPTION:The Tuesday night bike ride meets at Bullseye Bicycle\, 102 Morris Street Downtown Durham at 7PM\, with a route ride out at 7:30PM\, rain or shine! Ride is usually around 2 hours and meets back at Parts & Labor for festivities. A $25 gift card to Parts & Labor is raffled off every week – Join us!
URL:https://partsnlabor.com/event/tuesday-bike-night-ride/2024-07-02/
LOCATION:Bullseye Bicycle\, 102 Morris Street\, Durham\, NC\, 27701\, United States
ATTACH;FMTTYPE=image/jpeg:https://partsnlabor.com/wp-content/uploads/2023/12/bike-on-the-bull.jpg
END:VEVENT
BEGIN:VEVENT
DTSTART;TZID=America/New_York:20240625T190000
DTEND;TZID=America/New_York:20240625T210000
DTSTAMP:20260423T172923
CREATED:20231230T013450Z
LAST-MODIFIED:20241209T030342Z
UID:10000020-1719342000-1719349200@partsnlabor.com
SUMMARY:Tuesday Night Bike Ride
DESCRIPTION:The Tuesday night bike ride meets at Bullseye Bicycle\, 102 Morris Street Downtown Durham at 7PM\, with a route ride out at 7:30PM\, rain or shine! Ride is usually around 2 hours and meets back at Parts & Labor for festivities. A $25 gift card to Parts & Labor is raffled off every week – Join us!
URL:https://partsnlabor.com/event/tuesday-bike-night-ride/2024-06-25/
LOCATION:Bullseye Bicycle\, 102 Morris Street\, Durham\, NC\, 27701\, United States
ATTACH;FMTTYPE=image/jpeg:https://partsnlabor.com/wp-content/uploads/2023/12/bike-on-the-bull.jpg
END:VEVENT
BEGIN:VEVENT
DTSTART;TZID=America/New_York:20240611T190000
DTEND;TZID=America/New_York:20240611T210000
DTSTAMP:20260423T172923
CREATED:20231230T013450Z
LAST-MODIFIED:20241209T030342Z
UID:10000019-1718132400-1718139600@partsnlabor.com
SUMMARY:Tuesday Night Bike Ride
DESCRIPTION:The Tuesday night bike ride meets at Bullseye Bicycle\, 102 Morris Street Downtown Durham at 7PM\, with a route ride out at 7:30PM\, rain or shine! Ride is usually around 2 hours and meets back at Parts & Labor for festivities. A $25 gift card to Parts & Labor is raffled off every week – Join us!
URL:https://partsnlabor.com/event/tuesday-bike-night-ride/2024-06-11/
LOCATION:Bullseye Bicycle\, 102 Morris Street\, Durham\, NC\, 27701\, United States
ATTACH;FMTTYPE=image/jpeg:https://partsnlabor.com/wp-content/uploads/2023/12/bike-on-the-bull.jpg
END:VEVENT
BEGIN:VEVENT
DTSTART;TZID=America/New_York:20240604T190000
DTEND;TZID=America/New_York:20240604T210000
DTSTAMP:20260423T172923
CREATED:20231230T013450Z
LAST-MODIFIED:20241209T030342Z
UID:10000018-1717527600-1717534800@partsnlabor.com
SUMMARY:Tuesday Night Bike Ride
DESCRIPTION:The Tuesday night bike ride meets at Bullseye Bicycle\, 102 Morris Street Downtown Durham at 7PM\, with a route ride out at 7:30PM\, rain or shine! Ride is usually around 2 hours and meets back at Parts & Labor for festivities. A $25 gift card to Parts & Labor is raffled off every week – Join us!
URL:https://partsnlabor.com/event/tuesday-bike-night-ride/2024-06-04/
LOCATION:Bullseye Bicycle\, 102 Morris Street\, Durham\, NC\, 27701\, United States
ATTACH;FMTTYPE=image/jpeg:https://partsnlabor.com/wp-content/uploads/2023/12/bike-on-the-bull.jpg
END:VEVENT
BEGIN:VEVENT
DTSTART;TZID=America/New_York:20240528T190000
DTEND;TZID=America/New_York:20240528T210000
DTSTAMP:20260423T172923
CREATED:20231230T013450Z
LAST-MODIFIED:20241209T030342Z
UID:10000017-1716922800-1716930000@partsnlabor.com
SUMMARY:Tuesday Night Bike Ride
DESCRIPTION:The Tuesday night bike ride meets at Bullseye Bicycle\, 102 Morris Street Downtown Durham at 7PM\, with a route ride out at 7:30PM\, rain or shine! Ride is usually around 2 hours and meets back at Parts & Labor for festivities. A $25 gift card to Parts & Labor is raffled off every week – Join us!
URL:https://partsnlabor.com/event/tuesday-bike-night-ride/2024-05-28/
LOCATION:Bullseye Bicycle\, 102 Morris Street\, Durham\, NC\, 27701\, United States
ATTACH;FMTTYPE=image/jpeg:https://partsnlabor.com/wp-content/uploads/2023/12/bike-on-the-bull.jpg
END:VEVENT
BEGIN:VEVENT
DTSTART;TZID=America/New_York:20240514T190000
DTEND;TZID=America/New_York:20240514T210000
DTSTAMP:20260423T172923
CREATED:20231230T013450Z
LAST-MODIFIED:20241209T030342Z
UID:10000016-1715713200-1715720400@partsnlabor.com
SUMMARY:Tuesday Night Bike Ride
DESCRIPTION:The Tuesday night bike ride meets at Bullseye Bicycle\, 102 Morris Street Downtown Durham at 7PM\, with a route ride out at 7:30PM\, rain or shine! Ride is usually around 2 hours and meets back at Parts & Labor for festivities. A $25 gift card to Parts & Labor is raffled off every week – Join us!
URL:https://partsnlabor.com/event/tuesday-bike-night-ride/2024-05-14/
LOCATION:Bullseye Bicycle\, 102 Morris Street\, Durham\, NC\, 27701\, United States
ATTACH;FMTTYPE=image/jpeg:https://partsnlabor.com/wp-content/uploads/2023/12/bike-on-the-bull.jpg
END:VEVENT
BEGIN:VEVENT
DTSTART;TZID=America/New_York:20240507T190000
DTEND;TZID=America/New_York:20240507T210000
DTSTAMP:20260423T172923
CREATED:20231230T013450Z
LAST-MODIFIED:20241209T030342Z
UID:10000015-1715108400-1715115600@partsnlabor.com
SUMMARY:Tuesday Night Bike Ride
DESCRIPTION:The Tuesday night bike ride meets at Bullseye Bicycle\, 102 Morris Street Downtown Durham at 7PM\, with a route ride out at 7:30PM\, rain or shine! Ride is usually around 2 hours and meets back at Parts & Labor for festivities. A $25 gift card to Parts & Labor is raffled off every week – Join us!
URL:https://partsnlabor.com/event/tuesday-bike-night-ride/2024-05-07/
LOCATION:Bullseye Bicycle\, 102 Morris Street\, Durham\, NC\, 27701\, United States
ATTACH;FMTTYPE=image/jpeg:https://partsnlabor.com/wp-content/uploads/2023/12/bike-on-the-bull.jpg
END:VEVENT
BEGIN:VEVENT
DTSTART;TZID=America/New_York:20240430T190000
DTEND;TZID=America/New_York:20240430T210000
DTSTAMP:20260423T172923
CREATED:20231230T013450Z
LAST-MODIFIED:20241209T030342Z
UID:10000014-1714503600-1714510800@partsnlabor.com
SUMMARY:Tuesday Night Bike Ride
DESCRIPTION:The Tuesday night bike ride meets at Bullseye Bicycle\, 102 Morris Street Downtown Durham at 7PM\, with a route ride out at 7:30PM\, rain or shine! Ride is usually around 2 hours and meets back at Parts & Labor for festivities. A $25 gift card to Parts & Labor is raffled off every week – Join us!
URL:https://partsnlabor.com/event/tuesday-bike-night-ride/2024-04-30/
LOCATION:Bullseye Bicycle\, 102 Morris Street\, Durham\, NC\, 27701\, United States
ATTACH;FMTTYPE=image/jpeg:https://partsnlabor.com/wp-content/uploads/2023/12/bike-on-the-bull.jpg
END:VEVENT
BEGIN:VEVENT
DTSTART;TZID=America/New_York:20240416T190000
DTEND;TZID=America/New_York:20240416T210000
DTSTAMP:20260423T172923
CREATED:20231230T013450Z
LAST-MODIFIED:20241209T030342Z
UID:10000013-1713294000-1713301200@partsnlabor.com
SUMMARY:Tuesday Night Bike Ride
DESCRIPTION:The Tuesday night bike ride meets at Bullseye Bicycle\, 102 Morris Street Downtown Durham at 7PM\, with a route ride out at 7:30PM\, rain or shine! Ride is usually around 2 hours and meets back at Parts & Labor for festivities. A $25 gift card to Parts & Labor is raffled off every week – Join us!
URL:https://partsnlabor.com/event/tuesday-bike-night-ride/2024-04-16/
LOCATION:Bullseye Bicycle\, 102 Morris Street\, Durham\, NC\, 27701\, United States
ATTACH;FMTTYPE=image/jpeg:https://partsnlabor.com/wp-content/uploads/2023/12/bike-on-the-bull.jpg
END:VEVENT
BEGIN:VEVENT
DTSTART;TZID=America/New_York:20240409T190000
DTEND;TZID=America/New_York:20240409T210000
DTSTAMP:20260423T172923
CREATED:20231230T013450Z
LAST-MODIFIED:20241209T030342Z
UID:10000012-1712689200-1712696400@partsnlabor.com
SUMMARY:Tuesday Night Bike Ride
DESCRIPTION:The Tuesday night bike ride meets at Bullseye Bicycle\, 102 Morris Street Downtown Durham at 7PM\, with a route ride out at 7:30PM\, rain or shine! Ride is usually around 2 hours and meets back at Parts & Labor for festivities. A $25 gift card to Parts & Labor is raffled off every week – Join us!
URL:https://partsnlabor.com/event/tuesday-bike-night-ride/2024-04-09/
LOCATION:Bullseye Bicycle\, 102 Morris Street\, Durham\, NC\, 27701\, United States
ATTACH;FMTTYPE=image/jpeg:https://partsnlabor.com/wp-content/uploads/2023/12/bike-on-the-bull.jpg
END:VEVENT
BEGIN:VEVENT
DTSTART;TZID=America/New_York:20240402T190000
DTEND;TZID=America/New_York:20240402T210000
DTSTAMP:20260423T172923
CREATED:20231230T013450Z
LAST-MODIFIED:20241209T030342Z
UID:10000011-1712084400-1712091600@partsnlabor.com
SUMMARY:Tuesday Night Bike Ride
DESCRIPTION:The Tuesday night bike ride meets at Bullseye Bicycle\, 102 Morris Street Downtown Durham at 7PM\, with a route ride out at 7:30PM\, rain or shine! Ride is usually around 2 hours and meets back at Parts & Labor for festivities. A $25 gift card to Parts & Labor is raffled off every week – Join us!
URL:https://partsnlabor.com/event/tuesday-bike-night-ride/2024-04-02/
LOCATION:Bullseye Bicycle\, 102 Morris Street\, Durham\, NC\, 27701\, United States
ATTACH;FMTTYPE=image/jpeg:https://partsnlabor.com/wp-content/uploads/2023/12/bike-on-the-bull.jpg
END:VEVENT
BEGIN:VEVENT
DTSTART;TZID=America/New_York:20240319T190000
DTEND;TZID=America/New_York:20240319T210000
DTSTAMP:20260423T172923
CREATED:20231230T013450Z
LAST-MODIFIED:20241209T030342Z
UID:10000010-1710874800-1710882000@partsnlabor.com
SUMMARY:Tuesday Night Bike Ride
DESCRIPTION:The Tuesday night bike ride meets at Bullseye Bicycle\, 102 Morris Street Downtown Durham at 7PM\, with a route ride out at 7:30PM\, rain or shine! Ride is usually around 2 hours and meets back at Parts & Labor for festivities. A $25 gift card to Parts & Labor is raffled off every week – Join us!
URL:https://partsnlabor.com/event/tuesday-bike-night-ride/2024-03-19/
LOCATION:Bullseye Bicycle\, 102 Morris Street\, Durham\, NC\, 27701\, United States
ATTACH;FMTTYPE=image/jpeg:https://partsnlabor.com/wp-content/uploads/2023/12/bike-on-the-bull.jpg
END:VEVENT
BEGIN:VEVENT
DTSTART;TZID=America/New_York:20240312T190000
DTEND;TZID=America/New_York:20240312T210000
DTSTAMP:20260423T172923
CREATED:20231230T013450Z
LAST-MODIFIED:20241209T030342Z
UID:10000009-1710270000-1710277200@partsnlabor.com
SUMMARY:Tuesday Night Bike Ride
DESCRIPTION:The Tuesday night bike ride meets at Bullseye Bicycle\, 102 Morris Street Downtown Durham at 7PM\, with a route ride out at 7:30PM\, rain or shine! Ride is usually around 2 hours and meets back at Parts & Labor for festivities. A $25 gift card to Parts & Labor is raffled off every week – Join us!
URL:https://partsnlabor.com/event/tuesday-bike-night-ride/2024-03-12/
LOCATION:Bullseye Bicycle\, 102 Morris Street\, Durham\, NC\, 27701\, United States
ATTACH;FMTTYPE=image/jpeg:https://partsnlabor.com/wp-content/uploads/2023/12/bike-on-the-bull.jpg
END:VEVENT
BEGIN:VEVENT
DTSTART;TZID=America/New_York:20240305T190000
DTEND;TZID=America/New_York:20240305T210000
DTSTAMP:20260423T172923
CREATED:20231230T013450Z
LAST-MODIFIED:20241209T030342Z
UID:10000008-1709665200-1709672400@partsnlabor.com
SUMMARY:Tuesday Night Bike Ride
DESCRIPTION:The Tuesday night bike ride meets at Bullseye Bicycle\, 102 Morris Street Downtown Durham at 7PM\, with a route ride out at 7:30PM\, rain or shine! Ride is usually around 2 hours and meets back at Parts & Labor for festivities. A $25 gift card to Parts & Labor is raffled off every week – Join us!
URL:https://partsnlabor.com/event/tuesday-bike-night-ride/2024-03-05/
LOCATION:Bullseye Bicycle\, 102 Morris Street\, Durham\, NC\, 27701\, United States
ATTACH;FMTTYPE=image/jpeg:https://partsnlabor.com/wp-content/uploads/2023/12/bike-on-the-bull.jpg
END:VEVENT
BEGIN:VEVENT
DTSTART;TZID=America/New_York:20240220T190000
DTEND;TZID=America/New_York:20240220T210000
DTSTAMP:20260423T172923
CREATED:20231230T013450Z
LAST-MODIFIED:20241209T030342Z
UID:10000007-1708455600-1708462800@partsnlabor.com
SUMMARY:Tuesday Night Bike Ride
DESCRIPTION:The Tuesday night bike ride meets at Bullseye Bicycle\, 102 Morris Street Downtown Durham at 7PM\, with a route ride out at 7:30PM\, rain or shine! Ride is usually around 2 hours and meets back at Parts & Labor for festivities. A $25 gift card to Parts & Labor is raffled off every week – Join us!
URL:https://partsnlabor.com/event/tuesday-bike-night-ride/2024-02-20/
LOCATION:Bullseye Bicycle\, 102 Morris Street\, Durham\, NC\, 27701\, United States
ATTACH;FMTTYPE=image/jpeg:https://partsnlabor.com/wp-content/uploads/2023/12/bike-on-the-bull.jpg
END:VEVENT
BEGIN:VEVENT
DTSTART;TZID=America/New_York:20240213T190000
DTEND;TZID=America/New_York:20240213T210000
DTSTAMP:20260423T172923
CREATED:20231230T013450Z
LAST-MODIFIED:20241209T030342Z
UID:10000006-1707850800-1707858000@partsnlabor.com
SUMMARY:Tuesday Night Bike Ride
DESCRIPTION:The Tuesday night bike ride meets at Bullseye Bicycle\, 102 Morris Street Downtown Durham at 7PM\, with a route ride out at 7:30PM\, rain or shine! Ride is usually around 2 hours and meets back at Parts & Labor for festivities. A $25 gift card to Parts & Labor is raffled off every week – Join us!
URL:https://partsnlabor.com/event/tuesday-bike-night-ride/2024-02-13/
LOCATION:Bullseye Bicycle\, 102 Morris Street\, Durham\, NC\, 27701\, United States
ATTACH;FMTTYPE=image/jpeg:https://partsnlabor.com/wp-content/uploads/2023/12/bike-on-the-bull.jpg
END:VEVENT
BEGIN:VEVENT
DTSTART;TZID=America/New_York:20240206T190000
DTEND;TZID=America/New_York:20240206T210000
DTSTAMP:20260423T172923
CREATED:20231230T013450Z
LAST-MODIFIED:20241209T030342Z
UID:10000005-1707246000-1707253200@partsnlabor.com
SUMMARY:Tuesday Night Bike Ride
DESCRIPTION:The Tuesday night bike ride meets at Bullseye Bicycle\, 102 Morris Street Downtown Durham at 7PM\, with a route ride out at 7:30PM\, rain or shine! Ride is usually around 2 hours and meets back at Parts & Labor for festivities. A $25 gift card to Parts & Labor is raffled off every week – Join us!
URL:https://partsnlabor.com/event/tuesday-bike-night-ride/2024-02-06/
LOCATION:Bullseye Bicycle\, 102 Morris Street\, Durham\, NC\, 27701\, United States
ATTACH;FMTTYPE=image/jpeg:https://partsnlabor.com/wp-content/uploads/2023/12/bike-on-the-bull.jpg
END:VEVENT
BEGIN:VEVENT
DTSTART;TZID=America/New_York:20240123T190000
DTEND;TZID=America/New_York:20240123T210000
DTSTAMP:20260423T172923
CREATED:20231230T013450Z
LAST-MODIFIED:20241209T030342Z
UID:10000004-1706036400-1706043600@partsnlabor.com
SUMMARY:Tuesday Night Bike Ride
DESCRIPTION:The Tuesday night bike ride meets at Bullseye Bicycle\, 102 Morris Street Downtown Durham at 7PM\, with a route ride out at 7:30PM\, rain or shine! Ride is usually around 2 hours and meets back at Parts & Labor for festivities. A $25 gift card to Parts & Labor is raffled off every week – Join us!
URL:https://partsnlabor.com/event/tuesday-bike-night-ride/2024-01-23/
LOCATION:Bullseye Bicycle\, 102 Morris Street\, Durham\, NC\, 27701\, United States
ATTACH;FMTTYPE=image/jpeg:https://partsnlabor.com/wp-content/uploads/2023/12/bike-on-the-bull.jpg
END:VEVENT
BEGIN:VEVENT
DTSTART;TZID=America/New_York:20240116T190000
DTEND;TZID=America/New_York:20240116T210000
DTSTAMP:20260423T172923
CREATED:20231230T013450Z
LAST-MODIFIED:20241209T030342Z
UID:10000003-1705431600-1705438800@partsnlabor.com
SUMMARY:Tuesday Night Bike Ride
DESCRIPTION:The Tuesday night bike ride meets at Bullseye Bicycle\, 102 Morris Street Downtown Durham at 7PM\, with a route ride out at 7:30PM\, rain or shine! Ride is usually around 2 hours and meets back at Parts & Labor for festivities. A $25 gift card to Parts & Labor is raffled off every week – Join us!
URL:https://partsnlabor.com/event/tuesday-bike-night-ride/2024-01-16/
LOCATION:Bullseye Bicycle\, 102 Morris Street\, Durham\, NC\, 27701\, United States
ATTACH;FMTTYPE=image/jpeg:https://partsnlabor.com/wp-content/uploads/2023/12/bike-on-the-bull.jpg
END:VEVENT
BEGIN:VEVENT
DTSTART;TZID=America/New_York:20240109T190000
DTEND;TZID=America/New_York:20240109T210000
DTSTAMP:20260423T172923
CREATED:20231230T013450Z
LAST-MODIFIED:20241209T030342Z
UID:10000002-1704826800-1704834000@partsnlabor.com
SUMMARY:Tuesday Night Bike Ride
DESCRIPTION:The Tuesday night bike ride meets at Bullseye Bicycle\, 102 Morris Street Downtown Durham at 7PM\, with a route ride out at 7:30PM\, rain or shine! Ride is usually around 2 hours and meets back at Parts & Labor for festivities. A $25 gift card to Parts & Labor is raffled off every week – Join us!
URL:https://partsnlabor.com/event/tuesday-bike-night-ride/2024-01-09/
LOCATION:Bullseye Bicycle\, 102 Morris Street\, Durham\, NC\, 27701\, United States
ATTACH;FMTTYPE=image/jpeg:https://partsnlabor.com/wp-content/uploads/2023/12/bike-on-the-bull.jpg
END:VEVENT
END:VCALENDAR