BEGIN:VCALENDAR
VERSION:2.0
PRODID:-//Parts&amp;Labor - ECPv6.9.0//NONSGML v1.0//EN
CALSCALE:GREGORIAN
METHOD:PUBLISH
X-WR-CALNAME:Parts&amp;Labor
X-ORIGINAL-URL:https://partsnlabor.com
X-WR-CALDESC:Events for Parts&amp;Labor
REFRESH-INTERVAL;VALUE=DURATION:PT1H
X-Robots-Tag:noindex
X-PUBLISHED-TTL:PT1H
BEGIN:VTIMEZONE
TZID:America/New_York
BEGIN:DAYLIGHT
TZOFFSETFROM:-0500
TZOFFSETTO:-0400
TZNAME:EDT
DTSTART:20280312T070000
END:DAYLIGHT
BEGIN:STANDARD
TZOFFSETFROM:-0400
TZOFFSETTO:-0500
TZNAME:EST
DTSTART:20281105T060000
END:STANDARD
END:VTIMEZONE
BEGIN:VEVENT
DTSTART;TZID=America/New_York:20280105T180000
DTEND;TZID=America/New_York:20280105T210000
DTSTAMP:20260424T123717
CREATED:20241128T194759Z
LAST-MODIFIED:20241128T195028Z
UID:10001247-1830708000-1830718800@partsnlabor.com
SUMMARY:Carolina Film Makers Happy Hour
DESCRIPTION:New Carolinas Film Collective
URL:https://partsnlabor.com/event/carolina-film-makers-happy-hour/2028-01-05/
LOCATION:The Patio\, 723 Rigsbee Ave\, Durham\, NC\, 27701\, United States
ATTACH;FMTTYPE=image/jpeg:https://partsnlabor.com/wp-content/uploads/2024/11/ncfc.jpg
END:VEVENT
BEGIN:VEVENT
DTSTART;TZID=America/New_York:20280105T180000
DTEND;TZID=America/New_York:20280105T230000
DTSTAMP:20260424T123717
CREATED:20240208T050809Z
LAST-MODIFIED:20250922T004654Z
UID:10001047-1830708000-1830726000@partsnlabor.com
SUMMARY:Game Night in the Garage!
DESCRIPTION:JOIN US every Wednesday evening for game night in the garage! All are welcome to gather with friends around their favorite board\, card\, or word game. We’ll have a weekly rotation of food & drinks on special\, and a select number of games behind the bar for use. Get out of your living room and into the garage to enjoy a fun-filled evening at Parts&Labor! All ages welcome.
URL:https://partsnlabor.com/event/game-night-in-the-garage-2-2/2028-01-05/
LOCATION:The Patio\, 723 Rigsbee Ave\, Durham\, NC\, 27701\, United States
ATTACH;FMTTYPE=image/png:https://partsnlabor.com/wp-content/uploads/2024/02/game-night-5.5-x-4.25-in.png
END:VEVENT
BEGIN:VEVENT
DTSTART;TZID=America/New_York:20280112T180000
DTEND;TZID=America/New_York:20280112T230000
DTSTAMP:20260424T123717
CREATED:20240208T050809Z
LAST-MODIFIED:20250922T004654Z
UID:10001048-1831312800-1831330800@partsnlabor.com
SUMMARY:Game Night in the Garage!
DESCRIPTION:JOIN US every Wednesday evening for game night in the garage! All are welcome to gather with friends around their favorite board\, card\, or word game. We’ll have a weekly rotation of food & drinks on special\, and a select number of games behind the bar for use. Get out of your living room and into the garage to enjoy a fun-filled evening at Parts&Labor! All ages welcome.
URL:https://partsnlabor.com/event/game-night-in-the-garage-2-2/2028-01-12/
LOCATION:The Patio\, 723 Rigsbee Ave\, Durham\, NC\, 27701\, United States
ATTACH;FMTTYPE=image/png:https://partsnlabor.com/wp-content/uploads/2024/02/game-night-5.5-x-4.25-in.png
END:VEVENT
BEGIN:VEVENT
DTSTART;TZID=America/New_York:20280119T180000
DTEND;TZID=America/New_York:20280119T230000
DTSTAMP:20260424T123717
CREATED:20240208T050809Z
LAST-MODIFIED:20250922T004654Z
UID:10001049-1831917600-1831935600@partsnlabor.com
SUMMARY:Game Night in the Garage!
DESCRIPTION:JOIN US every Wednesday evening for game night in the garage! All are welcome to gather with friends around their favorite board\, card\, or word game. We’ll have a weekly rotation of food & drinks on special\, and a select number of games behind the bar for use. Get out of your living room and into the garage to enjoy a fun-filled evening at Parts&Labor! All ages welcome.
URL:https://partsnlabor.com/event/game-night-in-the-garage-2-2/2028-01-19/
LOCATION:The Patio\, 723 Rigsbee Ave\, Durham\, NC\, 27701\, United States
ATTACH;FMTTYPE=image/png:https://partsnlabor.com/wp-content/uploads/2024/02/game-night-5.5-x-4.25-in.png
END:VEVENT
BEGIN:VEVENT
DTSTART;TZID=America/New_York:20280126T180000
DTEND;TZID=America/New_York:20280126T230000
DTSTAMP:20260424T123717
CREATED:20240208T050809Z
LAST-MODIFIED:20250922T004654Z
UID:10001050-1832522400-1832540400@partsnlabor.com
SUMMARY:Game Night in the Garage!
DESCRIPTION:JOIN US every Wednesday evening for game night in the garage! All are welcome to gather with friends around their favorite board\, card\, or word game. We’ll have a weekly rotation of food & drinks on special\, and a select number of games behind the bar for use. Get out of your living room and into the garage to enjoy a fun-filled evening at Parts&Labor! All ages welcome.
URL:https://partsnlabor.com/event/game-night-in-the-garage-2-2/2028-01-26/
LOCATION:The Patio\, 723 Rigsbee Ave\, Durham\, NC\, 27701\, United States
ATTACH;FMTTYPE=image/png:https://partsnlabor.com/wp-content/uploads/2024/02/game-night-5.5-x-4.25-in.png
END:VEVENT
BEGIN:VEVENT
DTSTART;TZID=America/New_York:20280202T180000
DTEND;TZID=America/New_York:20280202T210000
DTSTAMP:20260424T123717
CREATED:20241128T194759Z
LAST-MODIFIED:20241128T195028Z
UID:10001248-1833127200-1833138000@partsnlabor.com
SUMMARY:Carolina Film Makers Happy Hour
DESCRIPTION:New Carolinas Film Collective
URL:https://partsnlabor.com/event/carolina-film-makers-happy-hour/2028-02-02/
LOCATION:The Patio\, 723 Rigsbee Ave\, Durham\, NC\, 27701\, United States
ATTACH;FMTTYPE=image/jpeg:https://partsnlabor.com/wp-content/uploads/2024/11/ncfc.jpg
END:VEVENT
BEGIN:VEVENT
DTSTART;TZID=America/New_York:20280202T180000
DTEND;TZID=America/New_York:20280202T230000
DTSTAMP:20260424T123717
CREATED:20240208T050809Z
LAST-MODIFIED:20250922T004654Z
UID:10001051-1833127200-1833145200@partsnlabor.com
SUMMARY:Game Night in the Garage!
DESCRIPTION:JOIN US every Wednesday evening for game night in the garage! All are welcome to gather with friends around their favorite board\, card\, or word game. We’ll have a weekly rotation of food & drinks on special\, and a select number of games behind the bar for use. Get out of your living room and into the garage to enjoy a fun-filled evening at Parts&Labor! All ages welcome.
URL:https://partsnlabor.com/event/game-night-in-the-garage-2-2/2028-02-02/
LOCATION:The Patio\, 723 Rigsbee Ave\, Durham\, NC\, 27701\, United States
ATTACH;FMTTYPE=image/png:https://partsnlabor.com/wp-content/uploads/2024/02/game-night-5.5-x-4.25-in.png
END:VEVENT
BEGIN:VEVENT
DTSTART;TZID=America/New_York:20280209T180000
DTEND;TZID=America/New_York:20280209T230000
DTSTAMP:20260424T123717
CREATED:20240208T050809Z
LAST-MODIFIED:20250922T004654Z
UID:10001052-1833732000-1833750000@partsnlabor.com
SUMMARY:Game Night in the Garage!
DESCRIPTION:JOIN US every Wednesday evening for game night in the garage! All are welcome to gather with friends around their favorite board\, card\, or word game. We’ll have a weekly rotation of food & drinks on special\, and a select number of games behind the bar for use. Get out of your living room and into the garage to enjoy a fun-filled evening at Parts&Labor! All ages welcome.
URL:https://partsnlabor.com/event/game-night-in-the-garage-2-2/2028-02-09/
LOCATION:The Patio\, 723 Rigsbee Ave\, Durham\, NC\, 27701\, United States
ATTACH;FMTTYPE=image/png:https://partsnlabor.com/wp-content/uploads/2024/02/game-night-5.5-x-4.25-in.png
END:VEVENT
BEGIN:VEVENT
DTSTART;TZID=America/New_York:20280216T180000
DTEND;TZID=America/New_York:20280216T230000
DTSTAMP:20260424T123717
CREATED:20240208T050809Z
LAST-MODIFIED:20250922T004654Z
UID:10001053-1834336800-1834354800@partsnlabor.com
SUMMARY:Game Night in the Garage!
DESCRIPTION:JOIN US every Wednesday evening for game night in the garage! All are welcome to gather with friends around their favorite board\, card\, or word game. We’ll have a weekly rotation of food & drinks on special\, and a select number of games behind the bar for use. Get out of your living room and into the garage to enjoy a fun-filled evening at Parts&Labor! All ages welcome.
URL:https://partsnlabor.com/event/game-night-in-the-garage-2-2/2028-02-16/
LOCATION:The Patio\, 723 Rigsbee Ave\, Durham\, NC\, 27701\, United States
ATTACH;FMTTYPE=image/png:https://partsnlabor.com/wp-content/uploads/2024/02/game-night-5.5-x-4.25-in.png
END:VEVENT
BEGIN:VEVENT
DTSTART;TZID=America/New_York:20280223T180000
DTEND;TZID=America/New_York:20280223T230000
DTSTAMP:20260424T123717
CREATED:20240208T050809Z
LAST-MODIFIED:20250922T004654Z
UID:10001054-1834941600-1834959600@partsnlabor.com
SUMMARY:Game Night in the Garage!
DESCRIPTION:JOIN US every Wednesday evening for game night in the garage! All are welcome to gather with friends around their favorite board\, card\, or word game. We’ll have a weekly rotation of food & drinks on special\, and a select number of games behind the bar for use. Get out of your living room and into the garage to enjoy a fun-filled evening at Parts&Labor! All ages welcome.
URL:https://partsnlabor.com/event/game-night-in-the-garage-2-2/2028-02-23/
LOCATION:The Patio\, 723 Rigsbee Ave\, Durham\, NC\, 27701\, United States
ATTACH;FMTTYPE=image/png:https://partsnlabor.com/wp-content/uploads/2024/02/game-night-5.5-x-4.25-in.png
END:VEVENT
BEGIN:VEVENT
DTSTART;TZID=America/New_York:20280301T180000
DTEND;TZID=America/New_York:20280301T210000
DTSTAMP:20260424T123717
CREATED:20241128T194759Z
LAST-MODIFIED:20241128T195028Z
UID:10001249-1835546400-1835557200@partsnlabor.com
SUMMARY:Carolina Film Makers Happy Hour
DESCRIPTION:New Carolinas Film Collective
URL:https://partsnlabor.com/event/carolina-film-makers-happy-hour/2028-03-01/
LOCATION:The Patio\, 723 Rigsbee Ave\, Durham\, NC\, 27701\, United States
ATTACH;FMTTYPE=image/jpeg:https://partsnlabor.com/wp-content/uploads/2024/11/ncfc.jpg
END:VEVENT
BEGIN:VEVENT
DTSTART;TZID=America/New_York:20280301T180000
DTEND;TZID=America/New_York:20280301T230000
DTSTAMP:20260424T123717
CREATED:20240208T050809Z
LAST-MODIFIED:20250922T004654Z
UID:10001055-1835546400-1835564400@partsnlabor.com
SUMMARY:Game Night in the Garage!
DESCRIPTION:JOIN US every Wednesday evening for game night in the garage! All are welcome to gather with friends around their favorite board\, card\, or word game. We’ll have a weekly rotation of food & drinks on special\, and a select number of games behind the bar for use. Get out of your living room and into the garage to enjoy a fun-filled evening at Parts&Labor! All ages welcome.
URL:https://partsnlabor.com/event/game-night-in-the-garage-2-2/2028-03-01/
LOCATION:The Patio\, 723 Rigsbee Ave\, Durham\, NC\, 27701\, United States
ATTACH;FMTTYPE=image/png:https://partsnlabor.com/wp-content/uploads/2024/02/game-night-5.5-x-4.25-in.png
END:VEVENT
BEGIN:VEVENT
DTSTART;TZID=America/New_York:20280308T180000
DTEND;TZID=America/New_York:20280308T230000
DTSTAMP:20260424T123717
CREATED:20240208T050809Z
LAST-MODIFIED:20250922T004654Z
UID:10001056-1836151200-1836169200@partsnlabor.com
SUMMARY:Game Night in the Garage!
DESCRIPTION:JOIN US every Wednesday evening for game night in the garage! All are welcome to gather with friends around their favorite board\, card\, or word game. We’ll have a weekly rotation of food & drinks on special\, and a select number of games behind the bar for use. Get out of your living room and into the garage to enjoy a fun-filled evening at Parts&Labor! All ages welcome.
URL:https://partsnlabor.com/event/game-night-in-the-garage-2-2/2028-03-08/
LOCATION:The Patio\, 723 Rigsbee Ave\, Durham\, NC\, 27701\, United States
ATTACH;FMTTYPE=image/png:https://partsnlabor.com/wp-content/uploads/2024/02/game-night-5.5-x-4.25-in.png
END:VEVENT
BEGIN:VEVENT
DTSTART;TZID=America/New_York:20280315T180000
DTEND;TZID=America/New_York:20280315T230000
DTSTAMP:20260424T123717
CREATED:20240208T050809Z
LAST-MODIFIED:20250922T004654Z
UID:10001057-1836756000-1836774000@partsnlabor.com
SUMMARY:Game Night in the Garage!
DESCRIPTION:JOIN US every Wednesday evening for game night in the garage! All are welcome to gather with friends around their favorite board\, card\, or word game. We’ll have a weekly rotation of food & drinks on special\, and a select number of games behind the bar for use. Get out of your living room and into the garage to enjoy a fun-filled evening at Parts&Labor! All ages welcome.
URL:https://partsnlabor.com/event/game-night-in-the-garage-2-2/2028-03-15/
LOCATION:The Patio\, 723 Rigsbee Ave\, Durham\, NC\, 27701\, United States
ATTACH;FMTTYPE=image/png:https://partsnlabor.com/wp-content/uploads/2024/02/game-night-5.5-x-4.25-in.png
END:VEVENT
BEGIN:VEVENT
DTSTART;TZID=America/New_York:20280322T180000
DTEND;TZID=America/New_York:20280322T230000
DTSTAMP:20260424T123717
CREATED:20240208T050809Z
LAST-MODIFIED:20250922T004654Z
UID:10001058-1837360800-1837378800@partsnlabor.com
SUMMARY:Game Night in the Garage!
DESCRIPTION:JOIN US every Wednesday evening for game night in the garage! All are welcome to gather with friends around their favorite board\, card\, or word game. We’ll have a weekly rotation of food & drinks on special\, and a select number of games behind the bar for use. Get out of your living room and into the garage to enjoy a fun-filled evening at Parts&Labor! All ages welcome.
URL:https://partsnlabor.com/event/game-night-in-the-garage-2-2/2028-03-22/
LOCATION:The Patio\, 723 Rigsbee Ave\, Durham\, NC\, 27701\, United States
ATTACH;FMTTYPE=image/png:https://partsnlabor.com/wp-content/uploads/2024/02/game-night-5.5-x-4.25-in.png
END:VEVENT
BEGIN:VEVENT
DTSTART;TZID=America/New_York:20280329T180000
DTEND;TZID=America/New_York:20280329T230000
DTSTAMP:20260424T123717
CREATED:20240208T050809Z
LAST-MODIFIED:20250922T004654Z
UID:10001059-1837965600-1837983600@partsnlabor.com
SUMMARY:Game Night in the Garage!
DESCRIPTION:JOIN US every Wednesday evening for game night in the garage! All are welcome to gather with friends around their favorite board\, card\, or word game. We’ll have a weekly rotation of food & drinks on special\, and a select number of games behind the bar for use. Get out of your living room and into the garage to enjoy a fun-filled evening at Parts&Labor! All ages welcome.
URL:https://partsnlabor.com/event/game-night-in-the-garage-2-2/2028-03-29/
LOCATION:The Patio\, 723 Rigsbee Ave\, Durham\, NC\, 27701\, United States
ATTACH;FMTTYPE=image/png:https://partsnlabor.com/wp-content/uploads/2024/02/game-night-5.5-x-4.25-in.png
END:VEVENT
BEGIN:VEVENT
DTSTART;TZID=America/New_York:20280405T180000
DTEND;TZID=America/New_York:20280405T210000
DTSTAMP:20260424T123717
CREATED:20241128T194759Z
LAST-MODIFIED:20241128T195028Z
UID:10001250-1838570400-1838581200@partsnlabor.com
SUMMARY:Carolina Film Makers Happy Hour
DESCRIPTION:New Carolinas Film Collective
URL:https://partsnlabor.com/event/carolina-film-makers-happy-hour/2028-04-05/
LOCATION:The Patio\, 723 Rigsbee Ave\, Durham\, NC\, 27701\, United States
ATTACH;FMTTYPE=image/jpeg:https://partsnlabor.com/wp-content/uploads/2024/11/ncfc.jpg
END:VEVENT
BEGIN:VEVENT
DTSTART;TZID=America/New_York:20280405T180000
DTEND;TZID=America/New_York:20280405T230000
DTSTAMP:20260424T123717
CREATED:20240208T050809Z
LAST-MODIFIED:20250922T004654Z
UID:10001060-1838570400-1838588400@partsnlabor.com
SUMMARY:Game Night in the Garage!
DESCRIPTION:JOIN US every Wednesday evening for game night in the garage! All are welcome to gather with friends around their favorite board\, card\, or word game. We’ll have a weekly rotation of food & drinks on special\, and a select number of games behind the bar for use. Get out of your living room and into the garage to enjoy a fun-filled evening at Parts&Labor! All ages welcome.
URL:https://partsnlabor.com/event/game-night-in-the-garage-2-2/2028-04-05/
LOCATION:The Patio\, 723 Rigsbee Ave\, Durham\, NC\, 27701\, United States
ATTACH;FMTTYPE=image/png:https://partsnlabor.com/wp-content/uploads/2024/02/game-night-5.5-x-4.25-in.png
END:VEVENT
BEGIN:VEVENT
DTSTART;TZID=America/New_York:20280412T180000
DTEND;TZID=America/New_York:20280412T230000
DTSTAMP:20260424T123717
CREATED:20240208T050809Z
LAST-MODIFIED:20250922T004654Z
UID:10001061-1839175200-1839193200@partsnlabor.com
SUMMARY:Game Night in the Garage!
DESCRIPTION:JOIN US every Wednesday evening for game night in the garage! All are welcome to gather with friends around their favorite board\, card\, or word game. We’ll have a weekly rotation of food & drinks on special\, and a select number of games behind the bar for use. Get out of your living room and into the garage to enjoy a fun-filled evening at Parts&Labor! All ages welcome.
URL:https://partsnlabor.com/event/game-night-in-the-garage-2-2/2028-04-12/
LOCATION:The Patio\, 723 Rigsbee Ave\, Durham\, NC\, 27701\, United States
ATTACH;FMTTYPE=image/png:https://partsnlabor.com/wp-content/uploads/2024/02/game-night-5.5-x-4.25-in.png
END:VEVENT
BEGIN:VEVENT
DTSTART;TZID=America/New_York:20280419T180000
DTEND;TZID=America/New_York:20280419T230000
DTSTAMP:20260424T123717
CREATED:20240208T050809Z
LAST-MODIFIED:20250922T004654Z
UID:10001062-1839780000-1839798000@partsnlabor.com
SUMMARY:Game Night in the Garage!
DESCRIPTION:JOIN US every Wednesday evening for game night in the garage! All are welcome to gather with friends around their favorite board\, card\, or word game. We’ll have a weekly rotation of food & drinks on special\, and a select number of games behind the bar for use. Get out of your living room and into the garage to enjoy a fun-filled evening at Parts&Labor! All ages welcome.
URL:https://partsnlabor.com/event/game-night-in-the-garage-2-2/2028-04-19/
LOCATION:The Patio\, 723 Rigsbee Ave\, Durham\, NC\, 27701\, United States
ATTACH;FMTTYPE=image/png:https://partsnlabor.com/wp-content/uploads/2024/02/game-night-5.5-x-4.25-in.png
END:VEVENT
BEGIN:VEVENT
DTSTART;TZID=America/New_York:20280426T180000
DTEND;TZID=America/New_York:20280426T230000
DTSTAMP:20260424T123717
CREATED:20240208T050809Z
LAST-MODIFIED:20250922T004654Z
UID:10001063-1840384800-1840402800@partsnlabor.com
SUMMARY:Game Night in the Garage!
DESCRIPTION:JOIN US every Wednesday evening for game night in the garage! All are welcome to gather with friends around their favorite board\, card\, or word game. We’ll have a weekly rotation of food & drinks on special\, and a select number of games behind the bar for use. Get out of your living room and into the garage to enjoy a fun-filled evening at Parts&Labor! All ages welcome.
URL:https://partsnlabor.com/event/game-night-in-the-garage-2-2/2028-04-26/
LOCATION:The Patio\, 723 Rigsbee Ave\, Durham\, NC\, 27701\, United States
ATTACH;FMTTYPE=image/png:https://partsnlabor.com/wp-content/uploads/2024/02/game-night-5.5-x-4.25-in.png
END:VEVENT
BEGIN:VEVENT
DTSTART;TZID=America/New_York:20280503T180000
DTEND;TZID=America/New_York:20280503T210000
DTSTAMP:20260424T123717
CREATED:20241128T194759Z
LAST-MODIFIED:20241128T195028Z
UID:10001251-1840989600-1841000400@partsnlabor.com
SUMMARY:Carolina Film Makers Happy Hour
DESCRIPTION:New Carolinas Film Collective
URL:https://partsnlabor.com/event/carolina-film-makers-happy-hour/2028-05-03/
LOCATION:The Patio\, 723 Rigsbee Ave\, Durham\, NC\, 27701\, United States
ATTACH;FMTTYPE=image/jpeg:https://partsnlabor.com/wp-content/uploads/2024/11/ncfc.jpg
END:VEVENT
BEGIN:VEVENT
DTSTART;TZID=America/New_York:20280503T180000
DTEND;TZID=America/New_York:20280503T230000
DTSTAMP:20260424T123717
CREATED:20240208T050809Z
LAST-MODIFIED:20250922T004654Z
UID:10001064-1840989600-1841007600@partsnlabor.com
SUMMARY:Game Night in the Garage!
DESCRIPTION:JOIN US every Wednesday evening for game night in the garage! All are welcome to gather with friends around their favorite board\, card\, or word game. We’ll have a weekly rotation of food & drinks on special\, and a select number of games behind the bar for use. Get out of your living room and into the garage to enjoy a fun-filled evening at Parts&Labor! All ages welcome.
URL:https://partsnlabor.com/event/game-night-in-the-garage-2-2/2028-05-03/
LOCATION:The Patio\, 723 Rigsbee Ave\, Durham\, NC\, 27701\, United States
ATTACH;FMTTYPE=image/png:https://partsnlabor.com/wp-content/uploads/2024/02/game-night-5.5-x-4.25-in.png
END:VEVENT
BEGIN:VEVENT
DTSTART;TZID=America/New_York:20280510T180000
DTEND;TZID=America/New_York:20280510T230000
DTSTAMP:20260424T123717
CREATED:20240208T050809Z
LAST-MODIFIED:20250922T004654Z
UID:10001065-1841594400-1841612400@partsnlabor.com
SUMMARY:Game Night in the Garage!
DESCRIPTION:JOIN US every Wednesday evening for game night in the garage! All are welcome to gather with friends around their favorite board\, card\, or word game. We’ll have a weekly rotation of food & drinks on special\, and a select number of games behind the bar for use. Get out of your living room and into the garage to enjoy a fun-filled evening at Parts&Labor! All ages welcome.
URL:https://partsnlabor.com/event/game-night-in-the-garage-2-2/2028-05-10/
LOCATION:The Patio\, 723 Rigsbee Ave\, Durham\, NC\, 27701\, United States
ATTACH;FMTTYPE=image/png:https://partsnlabor.com/wp-content/uploads/2024/02/game-night-5.5-x-4.25-in.png
END:VEVENT
BEGIN:VEVENT
DTSTART;TZID=America/New_York:20280517T180000
DTEND;TZID=America/New_York:20280517T230000
DTSTAMP:20260424T123717
CREATED:20240208T050809Z
LAST-MODIFIED:20250922T004654Z
UID:10001066-1842199200-1842217200@partsnlabor.com
SUMMARY:Game Night in the Garage!
DESCRIPTION:JOIN US every Wednesday evening for game night in the garage! All are welcome to gather with friends around their favorite board\, card\, or word game. We’ll have a weekly rotation of food & drinks on special\, and a select number of games behind the bar for use. Get out of your living room and into the garage to enjoy a fun-filled evening at Parts&Labor! All ages welcome.
URL:https://partsnlabor.com/event/game-night-in-the-garage-2-2/2028-05-17/
LOCATION:The Patio\, 723 Rigsbee Ave\, Durham\, NC\, 27701\, United States
ATTACH;FMTTYPE=image/png:https://partsnlabor.com/wp-content/uploads/2024/02/game-night-5.5-x-4.25-in.png
END:VEVENT
BEGIN:VEVENT
DTSTART;TZID=America/New_York:20280524T180000
DTEND;TZID=America/New_York:20280524T230000
DTSTAMP:20260424T123717
CREATED:20240208T050809Z
LAST-MODIFIED:20250922T004654Z
UID:10001067-1842804000-1842822000@partsnlabor.com
SUMMARY:Game Night in the Garage!
DESCRIPTION:JOIN US every Wednesday evening for game night in the garage! All are welcome to gather with friends around their favorite board\, card\, or word game. We’ll have a weekly rotation of food & drinks on special\, and a select number of games behind the bar for use. Get out of your living room and into the garage to enjoy a fun-filled evening at Parts&Labor! All ages welcome.
URL:https://partsnlabor.com/event/game-night-in-the-garage-2-2/2028-05-24/
LOCATION:The Patio\, 723 Rigsbee Ave\, Durham\, NC\, 27701\, United States
ATTACH;FMTTYPE=image/png:https://partsnlabor.com/wp-content/uploads/2024/02/game-night-5.5-x-4.25-in.png
END:VEVENT
BEGIN:VEVENT
DTSTART;TZID=America/New_York:20280531T180000
DTEND;TZID=America/New_York:20280531T230000
DTSTAMP:20260424T123717
CREATED:20240208T050809Z
LAST-MODIFIED:20250922T004654Z
UID:10001068-1843408800-1843426800@partsnlabor.com
SUMMARY:Game Night in the Garage!
DESCRIPTION:JOIN US every Wednesday evening for game night in the garage! All are welcome to gather with friends around their favorite board\, card\, or word game. We’ll have a weekly rotation of food & drinks on special\, and a select number of games behind the bar for use. Get out of your living room and into the garage to enjoy a fun-filled evening at Parts&Labor! All ages welcome.
URL:https://partsnlabor.com/event/game-night-in-the-garage-2-2/2028-05-31/
LOCATION:The Patio\, 723 Rigsbee Ave\, Durham\, NC\, 27701\, United States
ATTACH;FMTTYPE=image/png:https://partsnlabor.com/wp-content/uploads/2024/02/game-night-5.5-x-4.25-in.png
END:VEVENT
BEGIN:VEVENT
DTSTART;TZID=America/New_York:20280607T180000
DTEND;TZID=America/New_York:20280607T210000
DTSTAMP:20260424T123717
CREATED:20241128T194759Z
LAST-MODIFIED:20241128T195028Z
UID:10001252-1844013600-1844024400@partsnlabor.com
SUMMARY:Carolina Film Makers Happy Hour
DESCRIPTION:New Carolinas Film Collective
URL:https://partsnlabor.com/event/carolina-film-makers-happy-hour/2028-06-07/
LOCATION:The Patio\, 723 Rigsbee Ave\, Durham\, NC\, 27701\, United States
ATTACH;FMTTYPE=image/jpeg:https://partsnlabor.com/wp-content/uploads/2024/11/ncfc.jpg
END:VEVENT
BEGIN:VEVENT
DTSTART;TZID=America/New_York:20280607T180000
DTEND;TZID=America/New_York:20280607T230000
DTSTAMP:20260424T123717
CREATED:20240208T050809Z
LAST-MODIFIED:20250922T004654Z
UID:10001069-1844013600-1844031600@partsnlabor.com
SUMMARY:Game Night in the Garage!
DESCRIPTION:JOIN US every Wednesday evening for game night in the garage! All are welcome to gather with friends around their favorite board\, card\, or word game. We’ll have a weekly rotation of food & drinks on special\, and a select number of games behind the bar for use. Get out of your living room and into the garage to enjoy a fun-filled evening at Parts&Labor! All ages welcome.
URL:https://partsnlabor.com/event/game-night-in-the-garage-2-2/2028-06-07/
LOCATION:The Patio\, 723 Rigsbee Ave\, Durham\, NC\, 27701\, United States
ATTACH;FMTTYPE=image/png:https://partsnlabor.com/wp-content/uploads/2024/02/game-night-5.5-x-4.25-in.png
END:VEVENT
BEGIN:VEVENT
DTSTART;TZID=America/New_York:20280614T180000
DTEND;TZID=America/New_York:20280614T230000
DTSTAMP:20260424T123717
CREATED:20240208T050809Z
LAST-MODIFIED:20250922T004654Z
UID:10001070-1844618400-1844636400@partsnlabor.com
SUMMARY:Game Night in the Garage!
DESCRIPTION:JOIN US every Wednesday evening for game night in the garage! All are welcome to gather with friends around their favorite board\, card\, or word game. We’ll have a weekly rotation of food & drinks on special\, and a select number of games behind the bar for use. Get out of your living room and into the garage to enjoy a fun-filled evening at Parts&Labor! All ages welcome.
URL:https://partsnlabor.com/event/game-night-in-the-garage-2-2/2028-06-14/
LOCATION:The Patio\, 723 Rigsbee Ave\, Durham\, NC\, 27701\, United States
ATTACH;FMTTYPE=image/png:https://partsnlabor.com/wp-content/uploads/2024/02/game-night-5.5-x-4.25-in.png
END:VEVENT
END:VCALENDAR