BEGIN:VCALENDAR
VERSION:2.0
PRODID:-//Parts&amp;Labor - ECPv6.9.0//NONSGML v1.0//EN
CALSCALE:GREGORIAN
METHOD:PUBLISH
X-WR-CALNAME:Parts&amp;Labor
X-ORIGINAL-URL:https://partsnlabor.com
X-WR-CALDESC:Events for Parts&amp;Labor
REFRESH-INTERVAL;VALUE=DURATION:PT1H
X-Robots-Tag:noindex
X-PUBLISHED-TTL:PT1H
BEGIN:VTIMEZONE
TZID:America/New_York
BEGIN:DAYLIGHT
TZOFFSETFROM:-0500
TZOFFSETTO:-0400
TZNAME:EDT
DTSTART:20280312T070000
END:DAYLIGHT
BEGIN:STANDARD
TZOFFSETFROM:-0400
TZOFFSETTO:-0500
TZNAME:EST
DTSTART:20281105T060000
END:STANDARD
BEGIN:DAYLIGHT
TZOFFSETFROM:-0500
TZOFFSETTO:-0400
TZNAME:EDT
DTSTART:20290311T070000
END:DAYLIGHT
BEGIN:STANDARD
TZOFFSETFROM:-0400
TZOFFSETTO:-0500
TZNAME:EST
DTSTART:20291104T060000
END:STANDARD
END:VTIMEZONE
BEGIN:VEVENT
DTSTART;TZID=America/New_York:20280726T180000
DTEND;TZID=America/New_York:20280726T230000
DTSTAMP:20260424T160049
CREATED:20240208T050809Z
LAST-MODIFIED:20250922T004654Z
UID:10001076-1848247200-1848265200@partsnlabor.com
SUMMARY:Game Night in the Garage!
DESCRIPTION:JOIN US every Wednesday evening for game night in the garage! All are welcome to gather with friends around their favorite board\, card\, or word game. We’ll have a weekly rotation of food & drinks on special\, and a select number of games behind the bar for use. Get out of your living room and into the garage to enjoy a fun-filled evening at Parts&Labor! All ages welcome.
URL:https://partsnlabor.com/event/game-night-in-the-garage-2-2/2028-07-26/
LOCATION:The Patio\, 723 Rigsbee Ave\, Durham\, NC\, 27701\, United States
ATTACH;FMTTYPE=image/png:https://partsnlabor.com/wp-content/uploads/2024/02/game-night-5.5-x-4.25-in.png
END:VEVENT
BEGIN:VEVENT
DTSTART;TZID=America/New_York:20280802T180000
DTEND;TZID=America/New_York:20280802T210000
DTSTAMP:20260424T160049
CREATED:20241128T194759Z
LAST-MODIFIED:20241128T195028Z
UID:10001254-1848852000-1848862800@partsnlabor.com
SUMMARY:Carolina Film Makers Happy Hour
DESCRIPTION:New Carolinas Film Collective
URL:https://partsnlabor.com/event/carolina-film-makers-happy-hour/2028-08-02/
LOCATION:The Patio\, 723 Rigsbee Ave\, Durham\, NC\, 27701\, United States
ATTACH;FMTTYPE=image/jpeg:https://partsnlabor.com/wp-content/uploads/2024/11/ncfc.jpg
END:VEVENT
BEGIN:VEVENT
DTSTART;TZID=America/New_York:20280802T180000
DTEND;TZID=America/New_York:20280802T230000
DTSTAMP:20260424T160049
CREATED:20240208T050809Z
LAST-MODIFIED:20250922T004654Z
UID:10001077-1848852000-1848870000@partsnlabor.com
SUMMARY:Game Night in the Garage!
DESCRIPTION:JOIN US every Wednesday evening for game night in the garage! All are welcome to gather with friends around their favorite board\, card\, or word game. We’ll have a weekly rotation of food & drinks on special\, and a select number of games behind the bar for use. Get out of your living room and into the garage to enjoy a fun-filled evening at Parts&Labor! All ages welcome.
URL:https://partsnlabor.com/event/game-night-in-the-garage-2-2/2028-08-02/
LOCATION:The Patio\, 723 Rigsbee Ave\, Durham\, NC\, 27701\, United States
ATTACH;FMTTYPE=image/png:https://partsnlabor.com/wp-content/uploads/2024/02/game-night-5.5-x-4.25-in.png
END:VEVENT
BEGIN:VEVENT
DTSTART;TZID=America/New_York:20280809T180000
DTEND;TZID=America/New_York:20280809T230000
DTSTAMP:20260424T160049
CREATED:20240208T050809Z
LAST-MODIFIED:20250922T004654Z
UID:10001078-1849456800-1849474800@partsnlabor.com
SUMMARY:Game Night in the Garage!
DESCRIPTION:JOIN US every Wednesday evening for game night in the garage! All are welcome to gather with friends around their favorite board\, card\, or word game. We’ll have a weekly rotation of food & drinks on special\, and a select number of games behind the bar for use. Get out of your living room and into the garage to enjoy a fun-filled evening at Parts&Labor! All ages welcome.
URL:https://partsnlabor.com/event/game-night-in-the-garage-2-2/2028-08-09/
LOCATION:The Patio\, 723 Rigsbee Ave\, Durham\, NC\, 27701\, United States
ATTACH;FMTTYPE=image/png:https://partsnlabor.com/wp-content/uploads/2024/02/game-night-5.5-x-4.25-in.png
END:VEVENT
BEGIN:VEVENT
DTSTART;TZID=America/New_York:20280816T180000
DTEND;TZID=America/New_York:20280816T230000
DTSTAMP:20260424T160049
CREATED:20240208T050809Z
LAST-MODIFIED:20250922T004654Z
UID:10001079-1850061600-1850079600@partsnlabor.com
SUMMARY:Game Night in the Garage!
DESCRIPTION:JOIN US every Wednesday evening for game night in the garage! All are welcome to gather with friends around their favorite board\, card\, or word game. We’ll have a weekly rotation of food & drinks on special\, and a select number of games behind the bar for use. Get out of your living room and into the garage to enjoy a fun-filled evening at Parts&Labor! All ages welcome.
URL:https://partsnlabor.com/event/game-night-in-the-garage-2-2/2028-08-16/
LOCATION:The Patio\, 723 Rigsbee Ave\, Durham\, NC\, 27701\, United States
ATTACH;FMTTYPE=image/png:https://partsnlabor.com/wp-content/uploads/2024/02/game-night-5.5-x-4.25-in.png
END:VEVENT
BEGIN:VEVENT
DTSTART;TZID=America/New_York:20280823T180000
DTEND;TZID=America/New_York:20280823T230000
DTSTAMP:20260424T160049
CREATED:20240208T050809Z
LAST-MODIFIED:20250922T004654Z
UID:10001080-1850666400-1850684400@partsnlabor.com
SUMMARY:Game Night in the Garage!
DESCRIPTION:JOIN US every Wednesday evening for game night in the garage! All are welcome to gather with friends around their favorite board\, card\, or word game. We’ll have a weekly rotation of food & drinks on special\, and a select number of games behind the bar for use. Get out of your living room and into the garage to enjoy a fun-filled evening at Parts&Labor! All ages welcome.
URL:https://partsnlabor.com/event/game-night-in-the-garage-2-2/2028-08-23/
LOCATION:The Patio\, 723 Rigsbee Ave\, Durham\, NC\, 27701\, United States
ATTACH;FMTTYPE=image/png:https://partsnlabor.com/wp-content/uploads/2024/02/game-night-5.5-x-4.25-in.png
END:VEVENT
BEGIN:VEVENT
DTSTART;TZID=America/New_York:20280830T180000
DTEND;TZID=America/New_York:20280830T230000
DTSTAMP:20260424T160049
CREATED:20240208T050809Z
LAST-MODIFIED:20250922T004654Z
UID:10001081-1851271200-1851289200@partsnlabor.com
SUMMARY:Game Night in the Garage!
DESCRIPTION:JOIN US every Wednesday evening for game night in the garage! All are welcome to gather with friends around their favorite board\, card\, or word game. We’ll have a weekly rotation of food & drinks on special\, and a select number of games behind the bar for use. Get out of your living room and into the garage to enjoy a fun-filled evening at Parts&Labor! All ages welcome.
URL:https://partsnlabor.com/event/game-night-in-the-garage-2-2/2028-08-30/
LOCATION:The Patio\, 723 Rigsbee Ave\, Durham\, NC\, 27701\, United States
ATTACH;FMTTYPE=image/png:https://partsnlabor.com/wp-content/uploads/2024/02/game-night-5.5-x-4.25-in.png
END:VEVENT
BEGIN:VEVENT
DTSTART;TZID=America/New_York:20280906T180000
DTEND;TZID=America/New_York:20280906T210000
DTSTAMP:20260424T160049
CREATED:20241128T194759Z
LAST-MODIFIED:20241128T195028Z
UID:10001255-1851876000-1851886800@partsnlabor.com
SUMMARY:Carolina Film Makers Happy Hour
DESCRIPTION:New Carolinas Film Collective
URL:https://partsnlabor.com/event/carolina-film-makers-happy-hour/2028-09-06/
LOCATION:The Patio\, 723 Rigsbee Ave\, Durham\, NC\, 27701\, United States
ATTACH;FMTTYPE=image/jpeg:https://partsnlabor.com/wp-content/uploads/2024/11/ncfc.jpg
END:VEVENT
BEGIN:VEVENT
DTSTART;TZID=America/New_York:20280906T180000
DTEND;TZID=America/New_York:20280906T230000
DTSTAMP:20260424T160049
CREATED:20240208T050809Z
LAST-MODIFIED:20250922T004654Z
UID:10001082-1851876000-1851894000@partsnlabor.com
SUMMARY:Game Night in the Garage!
DESCRIPTION:JOIN US every Wednesday evening for game night in the garage! All are welcome to gather with friends around their favorite board\, card\, or word game. We’ll have a weekly rotation of food & drinks on special\, and a select number of games behind the bar for use. Get out of your living room and into the garage to enjoy a fun-filled evening at Parts&Labor! All ages welcome.
URL:https://partsnlabor.com/event/game-night-in-the-garage-2-2/2028-09-06/
LOCATION:The Patio\, 723 Rigsbee Ave\, Durham\, NC\, 27701\, United States
ATTACH;FMTTYPE=image/png:https://partsnlabor.com/wp-content/uploads/2024/02/game-night-5.5-x-4.25-in.png
END:VEVENT
BEGIN:VEVENT
DTSTART;TZID=America/New_York:20280913T180000
DTEND;TZID=America/New_York:20280913T230000
DTSTAMP:20260424T160049
CREATED:20240208T050809Z
LAST-MODIFIED:20250922T004654Z
UID:10001083-1852480800-1852498800@partsnlabor.com
SUMMARY:Game Night in the Garage!
DESCRIPTION:JOIN US every Wednesday evening for game night in the garage! All are welcome to gather with friends around their favorite board\, card\, or word game. We’ll have a weekly rotation of food & drinks on special\, and a select number of games behind the bar for use. Get out of your living room and into the garage to enjoy a fun-filled evening at Parts&Labor! All ages welcome.
URL:https://partsnlabor.com/event/game-night-in-the-garage-2-2/2028-09-13/
LOCATION:The Patio\, 723 Rigsbee Ave\, Durham\, NC\, 27701\, United States
ATTACH;FMTTYPE=image/png:https://partsnlabor.com/wp-content/uploads/2024/02/game-night-5.5-x-4.25-in.png
END:VEVENT
BEGIN:VEVENT
DTSTART;TZID=America/New_York:20280920T180000
DTEND;TZID=America/New_York:20280920T230000
DTSTAMP:20260424T160049
CREATED:20240208T050809Z
LAST-MODIFIED:20250922T004654Z
UID:10001084-1853085600-1853103600@partsnlabor.com
SUMMARY:Game Night in the Garage!
DESCRIPTION:JOIN US every Wednesday evening for game night in the garage! All are welcome to gather with friends around their favorite board\, card\, or word game. We’ll have a weekly rotation of food & drinks on special\, and a select number of games behind the bar for use. Get out of your living room and into the garage to enjoy a fun-filled evening at Parts&Labor! All ages welcome.
URL:https://partsnlabor.com/event/game-night-in-the-garage-2-2/2028-09-20/
LOCATION:The Patio\, 723 Rigsbee Ave\, Durham\, NC\, 27701\, United States
ATTACH;FMTTYPE=image/png:https://partsnlabor.com/wp-content/uploads/2024/02/game-night-5.5-x-4.25-in.png
END:VEVENT
BEGIN:VEVENT
DTSTART;TZID=America/New_York:20280927T180000
DTEND;TZID=America/New_York:20280927T230000
DTSTAMP:20260424T160050
CREATED:20240208T050809Z
LAST-MODIFIED:20250922T004654Z
UID:10001085-1853690400-1853708400@partsnlabor.com
SUMMARY:Game Night in the Garage!
DESCRIPTION:JOIN US every Wednesday evening for game night in the garage! All are welcome to gather with friends around their favorite board\, card\, or word game. We’ll have a weekly rotation of food & drinks on special\, and a select number of games behind the bar for use. Get out of your living room and into the garage to enjoy a fun-filled evening at Parts&Labor! All ages welcome.
URL:https://partsnlabor.com/event/game-night-in-the-garage-2-2/2028-09-27/
LOCATION:The Patio\, 723 Rigsbee Ave\, Durham\, NC\, 27701\, United States
ATTACH;FMTTYPE=image/png:https://partsnlabor.com/wp-content/uploads/2024/02/game-night-5.5-x-4.25-in.png
END:VEVENT
BEGIN:VEVENT
DTSTART;TZID=America/New_York:20281004T180000
DTEND;TZID=America/New_York:20281004T210000
DTSTAMP:20260424T160050
CREATED:20241128T194759Z
LAST-MODIFIED:20241128T195028Z
UID:10001256-1854295200-1854306000@partsnlabor.com
SUMMARY:Carolina Film Makers Happy Hour
DESCRIPTION:New Carolinas Film Collective
URL:https://partsnlabor.com/event/carolina-film-makers-happy-hour/2028-10-04/
LOCATION:The Patio\, 723 Rigsbee Ave\, Durham\, NC\, 27701\, United States
ATTACH;FMTTYPE=image/jpeg:https://partsnlabor.com/wp-content/uploads/2024/11/ncfc.jpg
END:VEVENT
BEGIN:VEVENT
DTSTART;TZID=America/New_York:20281004T180000
DTEND;TZID=America/New_York:20281004T230000
DTSTAMP:20260424T160050
CREATED:20240208T050809Z
LAST-MODIFIED:20250922T004654Z
UID:10001086-1854295200-1854313200@partsnlabor.com
SUMMARY:Game Night in the Garage!
DESCRIPTION:JOIN US every Wednesday evening for game night in the garage! All are welcome to gather with friends around their favorite board\, card\, or word game. We’ll have a weekly rotation of food & drinks on special\, and a select number of games behind the bar for use. Get out of your living room and into the garage to enjoy a fun-filled evening at Parts&Labor! All ages welcome.
URL:https://partsnlabor.com/event/game-night-in-the-garage-2-2/2028-10-04/
LOCATION:The Patio\, 723 Rigsbee Ave\, Durham\, NC\, 27701\, United States
ATTACH;FMTTYPE=image/png:https://partsnlabor.com/wp-content/uploads/2024/02/game-night-5.5-x-4.25-in.png
END:VEVENT
BEGIN:VEVENT
DTSTART;TZID=America/New_York:20281011T180000
DTEND;TZID=America/New_York:20281011T230000
DTSTAMP:20260424T160050
CREATED:20240208T050809Z
LAST-MODIFIED:20250922T004654Z
UID:10001087-1854900000-1854918000@partsnlabor.com
SUMMARY:Game Night in the Garage!
DESCRIPTION:JOIN US every Wednesday evening for game night in the garage! All are welcome to gather with friends around their favorite board\, card\, or word game. We’ll have a weekly rotation of food & drinks on special\, and a select number of games behind the bar for use. Get out of your living room and into the garage to enjoy a fun-filled evening at Parts&Labor! All ages welcome.
URL:https://partsnlabor.com/event/game-night-in-the-garage-2-2/2028-10-11/
LOCATION:The Patio\, 723 Rigsbee Ave\, Durham\, NC\, 27701\, United States
ATTACH;FMTTYPE=image/png:https://partsnlabor.com/wp-content/uploads/2024/02/game-night-5.5-x-4.25-in.png
END:VEVENT
BEGIN:VEVENT
DTSTART;TZID=America/New_York:20281018T180000
DTEND;TZID=America/New_York:20281018T230000
DTSTAMP:20260424T160050
CREATED:20240208T050809Z
LAST-MODIFIED:20250922T004654Z
UID:10001088-1855504800-1855522800@partsnlabor.com
SUMMARY:Game Night in the Garage!
DESCRIPTION:JOIN US every Wednesday evening for game night in the garage! All are welcome to gather with friends around their favorite board\, card\, or word game. We’ll have a weekly rotation of food & drinks on special\, and a select number of games behind the bar for use. Get out of your living room and into the garage to enjoy a fun-filled evening at Parts&Labor! All ages welcome.
URL:https://partsnlabor.com/event/game-night-in-the-garage-2-2/2028-10-18/
LOCATION:The Patio\, 723 Rigsbee Ave\, Durham\, NC\, 27701\, United States
ATTACH;FMTTYPE=image/png:https://partsnlabor.com/wp-content/uploads/2024/02/game-night-5.5-x-4.25-in.png
END:VEVENT
BEGIN:VEVENT
DTSTART;TZID=America/New_York:20281025T180000
DTEND;TZID=America/New_York:20281025T230000
DTSTAMP:20260424T160050
CREATED:20240208T050809Z
LAST-MODIFIED:20250922T004654Z
UID:10001089-1856109600-1856127600@partsnlabor.com
SUMMARY:Game Night in the Garage!
DESCRIPTION:JOIN US every Wednesday evening for game night in the garage! All are welcome to gather with friends around their favorite board\, card\, or word game. We’ll have a weekly rotation of food & drinks on special\, and a select number of games behind the bar for use. Get out of your living room and into the garage to enjoy a fun-filled evening at Parts&Labor! All ages welcome.
URL:https://partsnlabor.com/event/game-night-in-the-garage-2-2/2028-10-25/
LOCATION:The Patio\, 723 Rigsbee Ave\, Durham\, NC\, 27701\, United States
ATTACH;FMTTYPE=image/png:https://partsnlabor.com/wp-content/uploads/2024/02/game-night-5.5-x-4.25-in.png
END:VEVENT
BEGIN:VEVENT
DTSTART;TZID=America/New_York:20281101T180000
DTEND;TZID=America/New_York:20281101T210000
DTSTAMP:20260424T160050
CREATED:20241128T194759Z
LAST-MODIFIED:20241128T195028Z
UID:10001257-1856714400-1856725200@partsnlabor.com
SUMMARY:Carolina Film Makers Happy Hour
DESCRIPTION:New Carolinas Film Collective
URL:https://partsnlabor.com/event/carolina-film-makers-happy-hour/2028-11-01/
LOCATION:The Patio\, 723 Rigsbee Ave\, Durham\, NC\, 27701\, United States
ATTACH;FMTTYPE=image/jpeg:https://partsnlabor.com/wp-content/uploads/2024/11/ncfc.jpg
END:VEVENT
BEGIN:VEVENT
DTSTART;TZID=America/New_York:20281101T180000
DTEND;TZID=America/New_York:20281101T230000
DTSTAMP:20260424T160050
CREATED:20240208T050809Z
LAST-MODIFIED:20250922T004654Z
UID:10001090-1856714400-1856732400@partsnlabor.com
SUMMARY:Game Night in the Garage!
DESCRIPTION:JOIN US every Wednesday evening for game night in the garage! All are welcome to gather with friends around their favorite board\, card\, or word game. We’ll have a weekly rotation of food & drinks on special\, and a select number of games behind the bar for use. Get out of your living room and into the garage to enjoy a fun-filled evening at Parts&Labor! All ages welcome.
URL:https://partsnlabor.com/event/game-night-in-the-garage-2-2/2028-11-01/
LOCATION:The Patio\, 723 Rigsbee Ave\, Durham\, NC\, 27701\, United States
ATTACH;FMTTYPE=image/png:https://partsnlabor.com/wp-content/uploads/2024/02/game-night-5.5-x-4.25-in.png
END:VEVENT
BEGIN:VEVENT
DTSTART;TZID=America/New_York:20281108T180000
DTEND;TZID=America/New_York:20281108T230000
DTSTAMP:20260424T160050
CREATED:20240208T050809Z
LAST-MODIFIED:20250922T004654Z
UID:10001091-1857319200-1857337200@partsnlabor.com
SUMMARY:Game Night in the Garage!
DESCRIPTION:JOIN US every Wednesday evening for game night in the garage! All are welcome to gather with friends around their favorite board\, card\, or word game. We’ll have a weekly rotation of food & drinks on special\, and a select number of games behind the bar for use. Get out of your living room and into the garage to enjoy a fun-filled evening at Parts&Labor! All ages welcome.
URL:https://partsnlabor.com/event/game-night-in-the-garage-2-2/2028-11-08/
LOCATION:The Patio\, 723 Rigsbee Ave\, Durham\, NC\, 27701\, United States
ATTACH;FMTTYPE=image/png:https://partsnlabor.com/wp-content/uploads/2024/02/game-night-5.5-x-4.25-in.png
END:VEVENT
BEGIN:VEVENT
DTSTART;TZID=America/New_York:20281115T180000
DTEND;TZID=America/New_York:20281115T230000
DTSTAMP:20260424T160050
CREATED:20240208T050809Z
LAST-MODIFIED:20250922T004654Z
UID:10001092-1857924000-1857942000@partsnlabor.com
SUMMARY:Game Night in the Garage!
DESCRIPTION:JOIN US every Wednesday evening for game night in the garage! All are welcome to gather with friends around their favorite board\, card\, or word game. We’ll have a weekly rotation of food & drinks on special\, and a select number of games behind the bar for use. Get out of your living room and into the garage to enjoy a fun-filled evening at Parts&Labor! All ages welcome.
URL:https://partsnlabor.com/event/game-night-in-the-garage-2-2/2028-11-15/
LOCATION:The Patio\, 723 Rigsbee Ave\, Durham\, NC\, 27701\, United States
ATTACH;FMTTYPE=image/png:https://partsnlabor.com/wp-content/uploads/2024/02/game-night-5.5-x-4.25-in.png
END:VEVENT
BEGIN:VEVENT
DTSTART;TZID=America/New_York:20281122T180000
DTEND;TZID=America/New_York:20281122T230000
DTSTAMP:20260424T160050
CREATED:20240208T050809Z
LAST-MODIFIED:20250922T004654Z
UID:10001093-1858528800-1858546800@partsnlabor.com
SUMMARY:Game Night in the Garage!
DESCRIPTION:JOIN US every Wednesday evening for game night in the garage! All are welcome to gather with friends around their favorite board\, card\, or word game. We’ll have a weekly rotation of food & drinks on special\, and a select number of games behind the bar for use. Get out of your living room and into the garage to enjoy a fun-filled evening at Parts&Labor! All ages welcome.
URL:https://partsnlabor.com/event/game-night-in-the-garage-2-2/2028-11-22/
LOCATION:The Patio\, 723 Rigsbee Ave\, Durham\, NC\, 27701\, United States
ATTACH;FMTTYPE=image/png:https://partsnlabor.com/wp-content/uploads/2024/02/game-night-5.5-x-4.25-in.png
END:VEVENT
BEGIN:VEVENT
DTSTART;TZID=America/New_York:20281129T180000
DTEND;TZID=America/New_York:20281129T230000
DTSTAMP:20260424T160050
CREATED:20240208T050809Z
LAST-MODIFIED:20250922T004654Z
UID:10001094-1859133600-1859151600@partsnlabor.com
SUMMARY:Game Night in the Garage!
DESCRIPTION:JOIN US every Wednesday evening for game night in the garage! All are welcome to gather with friends around their favorite board\, card\, or word game. We’ll have a weekly rotation of food & drinks on special\, and a select number of games behind the bar for use. Get out of your living room and into the garage to enjoy a fun-filled evening at Parts&Labor! All ages welcome.
URL:https://partsnlabor.com/event/game-night-in-the-garage-2-2/2028-11-29/
LOCATION:The Patio\, 723 Rigsbee Ave\, Durham\, NC\, 27701\, United States
ATTACH;FMTTYPE=image/png:https://partsnlabor.com/wp-content/uploads/2024/02/game-night-5.5-x-4.25-in.png
END:VEVENT
BEGIN:VEVENT
DTSTART;TZID=America/New_York:20281206T180000
DTEND;TZID=America/New_York:20281206T210000
DTSTAMP:20260424T160050
CREATED:20241128T194759Z
LAST-MODIFIED:20241128T195028Z
UID:10001258-1859738400-1859749200@partsnlabor.com
SUMMARY:Carolina Film Makers Happy Hour
DESCRIPTION:New Carolinas Film Collective
URL:https://partsnlabor.com/event/carolina-film-makers-happy-hour/2028-12-06/
LOCATION:The Patio\, 723 Rigsbee Ave\, Durham\, NC\, 27701\, United States
ATTACH;FMTTYPE=image/jpeg:https://partsnlabor.com/wp-content/uploads/2024/11/ncfc.jpg
END:VEVENT
BEGIN:VEVENT
DTSTART;TZID=America/New_York:20281206T180000
DTEND;TZID=America/New_York:20281206T230000
DTSTAMP:20260424T160050
CREATED:20240208T050809Z
LAST-MODIFIED:20250922T004654Z
UID:10001095-1859738400-1859756400@partsnlabor.com
SUMMARY:Game Night in the Garage!
DESCRIPTION:JOIN US every Wednesday evening for game night in the garage! All are welcome to gather with friends around their favorite board\, card\, or word game. We’ll have a weekly rotation of food & drinks on special\, and a select number of games behind the bar for use. Get out of your living room and into the garage to enjoy a fun-filled evening at Parts&Labor! All ages welcome.
URL:https://partsnlabor.com/event/game-night-in-the-garage-2-2/2028-12-06/
LOCATION:The Patio\, 723 Rigsbee Ave\, Durham\, NC\, 27701\, United States
ATTACH;FMTTYPE=image/png:https://partsnlabor.com/wp-content/uploads/2024/02/game-night-5.5-x-4.25-in.png
END:VEVENT
BEGIN:VEVENT
DTSTART;TZID=America/New_York:20281213T180000
DTEND;TZID=America/New_York:20281213T230000
DTSTAMP:20260424T160050
CREATED:20240208T050809Z
LAST-MODIFIED:20250922T004654Z
UID:10001096-1860343200-1860361200@partsnlabor.com
SUMMARY:Game Night in the Garage!
DESCRIPTION:JOIN US every Wednesday evening for game night in the garage! All are welcome to gather with friends around their favorite board\, card\, or word game. We’ll have a weekly rotation of food & drinks on special\, and a select number of games behind the bar for use. Get out of your living room and into the garage to enjoy a fun-filled evening at Parts&Labor! All ages welcome.
URL:https://partsnlabor.com/event/game-night-in-the-garage-2-2/2028-12-13/
LOCATION:The Patio\, 723 Rigsbee Ave\, Durham\, NC\, 27701\, United States
ATTACH;FMTTYPE=image/png:https://partsnlabor.com/wp-content/uploads/2024/02/game-night-5.5-x-4.25-in.png
END:VEVENT
BEGIN:VEVENT
DTSTART;TZID=America/New_York:20281220T180000
DTEND;TZID=America/New_York:20281220T230000
DTSTAMP:20260424T160050
CREATED:20240208T050809Z
LAST-MODIFIED:20250922T004654Z
UID:10001097-1860948000-1860966000@partsnlabor.com
SUMMARY:Game Night in the Garage!
DESCRIPTION:JOIN US every Wednesday evening for game night in the garage! All are welcome to gather with friends around their favorite board\, card\, or word game. We’ll have a weekly rotation of food & drinks on special\, and a select number of games behind the bar for use. Get out of your living room and into the garage to enjoy a fun-filled evening at Parts&Labor! All ages welcome.
URL:https://partsnlabor.com/event/game-night-in-the-garage-2-2/2028-12-20/
LOCATION:The Patio\, 723 Rigsbee Ave\, Durham\, NC\, 27701\, United States
ATTACH;FMTTYPE=image/png:https://partsnlabor.com/wp-content/uploads/2024/02/game-night-5.5-x-4.25-in.png
END:VEVENT
BEGIN:VEVENT
DTSTART;TZID=America/New_York:20281227T180000
DTEND;TZID=America/New_York:20281227T230000
DTSTAMP:20260424T160050
CREATED:20240208T050809Z
LAST-MODIFIED:20250922T004654Z
UID:10001098-1861552800-1861570800@partsnlabor.com
SUMMARY:Game Night in the Garage!
DESCRIPTION:JOIN US every Wednesday evening for game night in the garage! All are welcome to gather with friends around their favorite board\, card\, or word game. We’ll have a weekly rotation of food & drinks on special\, and a select number of games behind the bar for use. Get out of your living room and into the garage to enjoy a fun-filled evening at Parts&Labor! All ages welcome.
URL:https://partsnlabor.com/event/game-night-in-the-garage-2-2/2028-12-27/
LOCATION:The Patio\, 723 Rigsbee Ave\, Durham\, NC\, 27701\, United States
ATTACH;FMTTYPE=image/png:https://partsnlabor.com/wp-content/uploads/2024/02/game-night-5.5-x-4.25-in.png
END:VEVENT
BEGIN:VEVENT
DTSTART;TZID=America/New_York:20290103T180000
DTEND;TZID=America/New_York:20290103T210000
DTSTAMP:20260424T160050
CREATED:20241128T194759Z
LAST-MODIFIED:20241128T195028Z
UID:10001259-1862157600-1862168400@partsnlabor.com
SUMMARY:Carolina Film Makers Happy Hour
DESCRIPTION:New Carolinas Film Collective
URL:https://partsnlabor.com/event/carolina-film-makers-happy-hour/2029-01-03/
LOCATION:The Patio\, 723 Rigsbee Ave\, Durham\, NC\, 27701\, United States
ATTACH;FMTTYPE=image/jpeg:https://partsnlabor.com/wp-content/uploads/2024/11/ncfc.jpg
END:VEVENT
BEGIN:VEVENT
DTSTART;TZID=America/New_York:20290103T180000
DTEND;TZID=America/New_York:20290103T230000
DTSTAMP:20260424T160050
CREATED:20240208T050809Z
LAST-MODIFIED:20250922T004654Z
UID:10001099-1862157600-1862175600@partsnlabor.com
SUMMARY:Game Night in the Garage!
DESCRIPTION:JOIN US every Wednesday evening for game night in the garage! All are welcome to gather with friends around their favorite board\, card\, or word game. We’ll have a weekly rotation of food & drinks on special\, and a select number of games behind the bar for use. Get out of your living room and into the garage to enjoy a fun-filled evening at Parts&Labor! All ages welcome.
URL:https://partsnlabor.com/event/game-night-in-the-garage-2-2/2029-01-03/
LOCATION:The Patio\, 723 Rigsbee Ave\, Durham\, NC\, 27701\, United States
ATTACH;FMTTYPE=image/png:https://partsnlabor.com/wp-content/uploads/2024/02/game-night-5.5-x-4.25-in.png
END:VEVENT
END:VCALENDAR